PDS_VERSION_ID = PDS3
/* FILE DATA ELEMENTS */
RECORD_TYPE = UNDEFINED
/* POINTERS TO DATA OBJECTS */
^IMAGE = ("H3000_0000_RE4.TIF")
/* IDENTIFICATION DATA ELEMENTS */
DATA_SET_ID = "MEX-M-HRSC-4-REFDR-MAPPROJECT-EXT1-V4.0"
DATA_SET_NAME = "MARS EXPRESS HRSC MAP PROJECTED REFDR EXTENSION1 V4.0"
DETECTOR_ID = MEX_HRSC_RED
EVENT_TYPE = "MARS-REGIONAL-STEREO-Im-La"
INSTRUMENT_HOST_ID = MEX
INSTRUMENT_HOST_NAME = "MARS EXPRESS"
INSTRUMENT_ID = HRSC
INSTRUMENT_NAME = "HIGH RESOLUTION STEREO CAMERA"
MISSION_NAME = "MARS EXPRESS"
MISSION_PHASE_NAME = ME_Phase_3
PROCESSING_LEVEL_ID = 4
PRODUCT_CREATION_TIME = 2023-02-09T07:39:13.000Z
PRODUCT_ID = "H3000_0000_RE4.TIF"
RELEASE_ID = 0002
REVISION_ID = 0000
/* QUALITY DATA ELEMENTS */
DATA_QUALITY_ID = 1
DATA_QUALITY_DESC = "Data calculated based on original SPICE kernels"
/* TIME DATA ELEMENTS */
SPACECRAFT_CLOCK_START_COUNT = "1/0095533142.09056"
SPACECRAFT_CLOCK_STOP_COUNT = "1/0095533402.17089"
START_TIME = 2006-05-12T17:00:23.664Z
STOP_TIME = 2006-05-12T17:03:20.749Z
/* ORBITAL DATA ELEMENTS */
ASCENDING_NODE_LONGITUDE = 165.32
MAXIMUM_RESOLUTION = 0.0544
FOOTPRINT_POINT_LATITUDE = (14.5291,14.5346,14.5399,14.5426, 14.5461,14.5463,14.559,14.2939,14.0357, 13.6488,13.3896,13.0064,12.6094,12.352, 12.0922,11.8321,11.5733,11.3119,10.9211 ,10.6604,10.3992,10.1369,9.87517, 9.62452,9.4059,9.07713,8.86352,8.64396, 8.42389,8.19969,7.87067,7.65112,7.43165 ,7.21091,6.99418,6.77396,6.44393,6.2253 ,6.00293,5.78134,5.56188,5.34206, 5.01632,4.80319,4.58997,4.27023,3.94997 ,3.73644,3.30913,3.00025,2.89662, 2.82885,2.82115,2.81547,2.8106,2.81033, 2.81112,3.32871,3.54189,3.75751,4.18315 ,4.3966,4.61024,4.93029,5.1437,5.36336, 5.58337,5.80341,6.0232,6.35279,6.57309, 6.90339,7.23222,7.45178,7.78092,8.00055 ,8.22031,8.43948,8.65814,8.87772, 9.21231,9.42769,9.64463,9.90323,10.1638 ,10.4238,10.6852,11.0772,11.4698, 11.7268,11.9885,12.3788,12.6387,13.0279 ,13.2875,13.6781,14.0638,14.3227, 14.4555,14.5291)
FOOTPRINT_POINT_LONGITUDE = (12.9385,12.4435,11.988,11.7665,11.4743 ,11.4603,11.4504,11.4557,11.4604,11.467 ,11.4717,11.4759,11.4861,11.4893, 11.4935,11.4977,11.5011,11.5055,11.5113 ,11.515,11.5188,11.523,11.5268,11.5301, 11.5327,11.5369,11.5369,11.5396,11.5425 ,11.5472,11.5508,11.5531,11.5553,11.558 ,11.5587,11.561,11.5641,11.5655,11.5685 ,11.5711,11.5726,11.5742,11.5771, 11.5787,11.5803,11.5824,11.5847,11.5861 ,11.5896,11.5911,11.5918,11.5922, 12.0615,12.4011,12.7176,12.7281,12.7316 ,12.7385,12.7413,12.7446,12.7501, 12.7531,12.7562,12.7608,12.7639,12.7671 ,12.7704,12.7737,12.777,12.782,12.7856, 12.791,12.7962,12.7998,12.8053,12.8091, 12.813,12.8168,12.8205,12.8245,12.832, 12.8351,12.8387,12.8437,12.8486,12.8534 ,12.8587,12.8667,12.8752,12.8797, 12.8855,12.8939,12.8995,12.9079,12.9137 ,12.923,12.9311,12.937,12.9401,12.9385)
ORBIT_NUMBER = 3000
ORBITAL_ECCENTRICITY = 0.572
ORBITAL_INCLINATION = 86.61
ORBITAL_SEMIMAJOR_AXIS = 8622.9
PERIAPSIS_ALTITUDE = 293.08
PERIAPSIS_ARGUMENT_ANGLE = 191.17
PERIAPSIS_TIME = 2006-05-12T17:06:29.000Z
SPACECRAFT_ORIENTATION = (0.0,-1.0,0.0)
^MEX_ORIENTATION_DESC = "MEX_ORIENTATION_DESC.TXT"
SPACECRAFT_POINTING_MODE = ACROSSTRACK
^MEX_POINTING_DESC = "MEX_POINTING_DESC.TXT"
RIGHT_ASCENSION = -1e+32
DECLINATION = -1e+32
OFFSET_ANGLE = -0.2
SPACECRAFT_SOLAR_DISTANCE = 2.4778e+08
TARGET_NAME = MARS
/* CAMERA DATA ELEMENTS */
DETECTOR_TEMPERATURE = 18.9822
FOCAL_PLANE_TEMPERATURE = 8.5833
INST_CMPRS_NAME = "DISCRETE COSINE TRANSFORMATION (DCT)"
INST_CMPRS_RATIO = 19.2114
INST_CMPRS_QUALITY = 0
INST_CMPRS_QUANTZ_TBL_ID = 0
INSTRUMENT_TEMPERATURE = 11.0301
LENS_TEMPERATURE = 8.7872
MACROPIXEL_SIZE = 4
MISSING_FRAMES = 0
PIXEL_SUBSAMPLING_FLAG = N
SIGNAL_CHAIN_ID = 2
/* RADIOMETRIC DATA ELEMENTS */
BANDWIDTH = 48.0
CENTER_FILTER_WAVELENGTH = 748.0
RADIANCE_OFFSET = 0.466248
RADIANCE_SCALING_FACTOR = 0.00445957
REFLECTANCE_SCALING_FACTOR = 0.000624816
MEX:REFLECTANCE_OFFSET = 0.0653245
/* IMAGE OBJECT DEFINITIONS */
OBJECT = IMAGE
  INTERCHANGE_FORMAT = BINARY
  LINES = 13904
  LINE_SAMPLES = 1794
  SAMPLE_TYPE = UNSIGNED_INTEGER
  SAMPLE_BITS = 8
  BANDS = 1
  BAND_STORAGE_TYPE = BAND_SEQUENTIAL
  MAXIMUM = 255
  MEAN = 107.322
  MINIMUM = 1
  STANDARD_DEVIATION = 29.3722
END_OBJECT = IMAGE
/* MAP OBJECT DEFINITIONS */
OBJECT = IMAGE_MAP_PROJECTION
  ^DATA_SET_MAP_PROJECTION_CATALOG= "DSMAP.CAT"
  A_AXIS_RADIUS = 3396.0
  B_AXIS_RADIUS = 3396.0
  C_AXIS_RADIUS = 3396.0
  CENTER_LATITUDE = 0.0
  CENTER_LONGITUDE = 12.0
  COORDINATE_SYSTEM_NAME = PLANETOGRAPHIC
  COORDINATE_SYSTEM_TYPE = "BODY-FIXED ROTATING"
  EASTERNMOST_LONGITUDE = 12.9401
  FIRST_STANDARD_PARALLEL = "N/A"
  LINE_FIRST_PIXEL = 1
  LINE_LAST_PIXEL = 13904
  LINE_PROJECTION_OFFSET = 17246.625
  MAP_PROJECTION_ROTATION = 0.0
  MAP_PROJECTION_TYPE = SINUSOIDAL
  MAP_RESOLUTION = 1185.42760773333
  MAP_SCALE = 0.05
  MAXIMUM_LATITUDE = 14.559
  MINIMUM_LATITUDE = 2.81033
  POSITIVE_LONGITUDE_DIRECTION = EAST
  REFERENCE_LATITUDE = "N/A"
  REFERENCE_LONGITUDE = "N/A"
  SAMPLE_FIRST_PIXEL = 1
  SAMPLE_LAST_PIXEL = 1794
  SAMPLE_PROJECTION_OFFSET = 670.625
  SECOND_STANDARD_PARALLEL = "N/A"
  WESTERNMOST_LONGITUDE = 11.4504
END_OBJECT = IMAGE_MAP_PROJECTION
END
