PDS_VERSION_ID = PDS3
/* FILE DATA ELEMENTS */
RECORD_TYPE = UNDEFINED
/* POINTERS TO DATA OBJECTS */
^IMAGE = ("H2998_0000_IR4.TIF")
/* IDENTIFICATION DATA ELEMENTS */
DATA_SET_ID = "MEX-M-HRSC-4-REFDR-MAPPROJECT-EXT1-V4.0"
DATA_SET_NAME = "MARS EXPRESS HRSC MAP PROJECTED REFDR EXTENSION1 V4.0"
DETECTOR_ID = MEX_HRSC_IR
EVENT_TYPE = "MARS-REGIONAL-MAPPING-Vo-Mw"
INSTRUMENT_HOST_ID = MEX
INSTRUMENT_HOST_NAME = "MARS EXPRESS"
INSTRUMENT_ID = HRSC
INSTRUMENT_NAME = "HIGH RESOLUTION STEREO CAMERA"
MISSION_NAME = "MARS EXPRESS"
MISSION_PHASE_NAME = ME_Phase_3
PROCESSING_LEVEL_ID = 4
PRODUCT_CREATION_TIME = 2023-02-09T07:39:13.000Z
PRODUCT_ID = "H2998_0000_IR4.TIF"
RELEASE_ID = 0002
REVISION_ID = 0000
/* QUALITY DATA ELEMENTS */
DATA_QUALITY_ID = 1
DATA_QUALITY_DESC = "Data calculated based on original SPICE kernels"
/* TIME DATA ELEMENTS */
SPACECRAFT_CLOCK_START_COUNT = "1/0095484869.07303"
SPACECRAFT_CLOCK_STOP_COUNT = "1/0095485090.31448"
START_TIME = 2006-05-12T03:34:41.178Z
STOP_TIME = 2006-05-12T03:37:23.172Z
/* ORBITAL DATA ELEMENTS */
ASCENDING_NODE_LONGITUDE = 165.36
MAXIMUM_RESOLUTION = 0.0535
FOOTPRINT_POINT_LATITUDE = (7.97733,7.97286,7.9681,7.96304,7.95762 ,7.95184,7.94165,7.94124,7.91803, 7.69144,7.46449,7.23717,7.00936,6.78129 ,6.55286,6.32407,6.09491,5.8654,5.52852 ,5.33542,5.14208,4.94857,4.75478, 4.56074,4.36647,4.17196,3.97725,3.78216 ,3.58687,3.39138,3.19566,2.9997,2.80352 ,2.60712,2.41047,2.2136,2.01654,1.81933 ,1.52281,1.32511,0.941485,0.557089, 0.171622,-0.0212434,-0.214186,-0.502936 ,-0.970788,-1.34247,-1.71851,-2.00409, -2.09765,-2.16125,-2.15199,-2.13897, -2.12831,-2.12801,-2.12712,-1.65626, -1.18646,-0.811389,-0.437328,-0.243564, -0.0498335,0.430887,0.719837,0.912801, 1.29684,1.49271,1.69051,1.88804,2.08523 ,2.28196,2.47835,2.67503,2.87139, 3.06756,3.26336,3.45884,3.65411,3.84923 ,4.04433,4.23905,4.43351,4.62768, 4.82171,5.01544,5.20896,5.40222,5.59524 ,5.93808,6.16766,6.39684,6.62565,6.8542 ,7.08237,7.31017,7.53757,7.76464, 7.87803,7.97733)
FOOTPRINT_POINT_LONGITUDE = (209.008,208.807,208.604,208.4,208.194, 207.987,207.648,207.635,207.616,207.619 ,207.623,207.627,207.63,207.633,207.636 ,207.64,207.643,207.646,207.65,207.653, 207.655,207.657,207.66,207.662,207.664, 207.666,207.669,207.671,207.673,207.674 ,207.676,207.678,207.68,207.682,207.684 ,207.686,207.687,207.689,207.691, 207.693,207.696,207.698,207.701,207.702 ,207.703,207.705,207.708,207.713, 207.714,207.713,207.714,207.715,208.058 ,208.492,208.835,208.845,208.849, 208.854,208.859,208.864,208.869,208.871 ,208.874,208.88,208.884,208.887,208.892 ,208.895,208.898,208.901,208.904, 208.907,208.91,208.913,208.916,208.919, 208.922,208.925,208.929,208.932,208.935 ,208.938,208.942,208.945,208.949, 208.952,208.956,208.959,208.963,208.969 ,208.973,208.978,208.982,208.987, 208.991,208.996,209.0,209.005,209.007, 209.008)
ORBIT_NUMBER = 2998
ORBITAL_ECCENTRICITY = 0.572
ORBITAL_INCLINATION = 86.62
ORBITAL_SEMIMAJOR_AXIS = 8620.94
PERIAPSIS_ALTITUDE = 292.74
PERIAPSIS_ARGUMENT_ANGLE = 191.52
PERIAPSIS_TIME = 2006-05-12T03:40:08.000Z
SPACECRAFT_ORIENTATION = (0.0,-1.0,0.0)
^MEX_ORIENTATION_DESC = "MEX_ORIENTATION_DESC.TXT"
SPACECRAFT_POINTING_MODE = ACROSSTRACK
^MEX_POINTING_DESC = "MEX_POINTING_DESC.TXT"
RIGHT_ASCENSION = -1e+32
DECLINATION = -1e+32
OFFSET_ANGLE = -0.6
SPACECRAFT_SOLAR_DISTANCE = 2.47743e+08
TARGET_NAME = MARS
/* CAMERA DATA ELEMENTS */
DETECTOR_TEMPERATURE = 17.5549
FOCAL_PLANE_TEMPERATURE = 8.1755
INST_CMPRS_NAME = "DISCRETE COSINE TRANSFORMATION (DCT)"
INST_CMPRS_RATIO = 8.69571
INST_CMPRS_QUALITY = 0
INST_CMPRS_QUANTZ_TBL_ID = 0
INSTRUMENT_TEMPERATURE = 11.8457
LENS_TEMPERATURE = 8.7872
MACROPIXEL_SIZE = 4
MISSING_FRAMES = 0
PIXEL_SUBSAMPLING_FLAG = N
SIGNAL_CHAIN_ID = 2
/* RADIOMETRIC DATA ELEMENTS */
BANDWIDTH = 81.0
CENTER_FILTER_WAVELENGTH = 955.5
RADIANCE_OFFSET = 0.448263
RADIANCE_SCALING_FACTOR = 0.00358473
REFLECTANCE_SCALING_FACTOR = 0.000474664
MEX:REFLECTANCE_OFFSET = 0.0593558
/* IMAGE OBJECT DEFINITIONS */
OBJECT = IMAGE
  INTERCHANGE_FORMAT = BINARY
  LINES = 11976
  LINE_SAMPLES = 1570
  SAMPLE_TYPE = UNSIGNED_INTEGER
  SAMPLE_BITS = 8
  BANDS = 1
  BAND_STORAGE_TYPE = BAND_SEQUENTIAL
  MAXIMUM = 255
  MEAN = 114.301
  MINIMUM = 1
  STANDARD_DEVIATION = 29.5377
END_OBJECT = IMAGE
/* MAP OBJECT DEFINITIONS */
OBJECT = IMAGE_MAP_PROJECTION
  ^DATA_SET_MAP_PROJECTION_CATALOG= "DSMAP.CAT"
  A_AXIS_RADIUS = 3396.0
  B_AXIS_RADIUS = 3396.0
  C_AXIS_RADIUS = 3396.0
  CENTER_LATITUDE = 0.0
  CENTER_LONGITUDE = 208.0
  COORDINATE_SYSTEM_NAME = PLANETOGRAPHIC
  COORDINATE_SYSTEM_TYPE = "BODY-FIXED ROTATING"
  EASTERNMOST_LONGITUDE = 209.008
  FIRST_STANDARD_PARALLEL = "N/A"
  LINE_FIRST_PIXEL = 1
  LINE_LAST_PIXEL = 11976
  LINE_PROJECTION_OFFSET = 9448.875
  MAP_PROJECTION_ROTATION = 0.0
  MAP_PROJECTION_TYPE = SINUSOIDAL
  MAP_RESOLUTION = 1185.42760773333
  MAP_SCALE = 0.05
  MAXIMUM_LATITUDE = 7.97733
  MINIMUM_LATITUDE = -2.16125
  POSITIVE_LONGITUDE_DIRECTION = EAST
  REFERENCE_LATITUDE = "N/A"
  REFERENCE_LONGITUDE = "N/A"
  SAMPLE_FIRST_PIXEL = 1
  SAMPLE_LAST_PIXEL = 1570
  SAMPLE_PROJECTION_OFFSET = 419.125
  SECOND_STANDARD_PARALLEL = "N/A"
  WESTERNMOST_LONGITUDE = 207.616
END_OBJECT = IMAGE_MAP_PROJECTION
END
