PDS_VERSION_ID = PDS3
/* FILE DATA ELEMENTS */
RECORD_TYPE = UNDEFINED
/* POINTERS TO DATA OBJECTS */
^IMAGE = ("H2996_0000_BL4.TIF")
/* IDENTIFICATION DATA ELEMENTS */
DATA_SET_ID = "MEX-M-HRSC-4-REFDR-MAPPROJECT-EXT1-V4.0"
DATA_SET_NAME = "MARS EXPRESS HRSC MAP PROJECTED REFDR EXTENSION1 V4.0"
DETECTOR_ID = MEX_HRSC_BLUE
EVENT_TYPE = "MARS-REGIONAL-MAPPING-Te-Im-Fl"
INSTRUMENT_HOST_ID = MEX
INSTRUMENT_HOST_NAME = "MARS EXPRESS"
INSTRUMENT_ID = HRSC
INSTRUMENT_NAME = "HIGH RESOLUTION STEREO CAMERA"
MISSION_NAME = "MARS EXPRESS"
MISSION_PHASE_NAME = ME_Phase_3
PROCESSING_LEVEL_ID = 4
PRODUCT_CREATION_TIME = 2023-02-09T07:39:13.000Z
PRODUCT_ID = "H2996_0000_BL4.TIF"
RELEASE_ID = 0002
REVISION_ID = 0000
/* QUALITY DATA ELEMENTS */
DATA_QUALITY_ID = 1
DATA_QUALITY_DESC = "Data calculated based on original SPICE kernels"
/* TIME DATA ELEMENTS */
SPACECRAFT_CLOCK_START_COUNT = "1/0095436015.08436"
SPACECRAFT_CLOCK_STOP_COUNT = "1/0095436330.21750"
START_TIME = 2006-05-11T14:02:08.116Z
STOP_TIME = 2006-05-11T14:04:52.169Z
/* ORBITAL DATA ELEMENTS */
ASCENDING_NODE_LONGITUDE = 165.4
MAXIMUM_RESOLUTION = 0.1748
FOOTPRINT_POINT_LATITUDE = (32.4282,32.4294,32.4297,32.4296, 32.4292,32.4285,32.4275,32.4262,32.4245 ,32.4225,32.4201,32.4174,32.4127, 32.4122,32.4157,32.2066,32.0001,31.6906 ,31.486,31.2816,31.0795,30.7764,30.5763 ,30.2766,30.0789,29.881,29.6854,29.392, 29.1986,29.0049,28.7171,28.5257,28.3353 ,28.1465,27.8639,27.6775,27.4907, 27.2131,27.0286,26.7535,26.5729,26.3916 ,26.1206,25.7608,25.4066,25.0546, 24.7922,24.3587,24.0143,23.6745,23.2525 ,23.1688,23.0902,23.091,23.0914,23.0916 ,23.0912,23.0905,23.0889,23.0872, 23.0871,23.0896,23.4248,23.6796,24.0197 ,24.2783,24.6233,24.9734,25.4138, 25.9488,26.3086,26.4905,26.6729,26.8556 ,27.0406,27.2256,27.504,27.6912,27.8782 ,28.1616,28.3508,28.6381,28.8297, 29.0226,29.2168,29.4106,29.6068,29.9009 ,30.0994,30.2977,30.5981,30.7988, 31.0016,31.3052,31.5105,31.7156,32.026, 32.2332,32.3381,32.4282)
FOOTPRINT_POINT_LONGITUDE = (46.3317,45.9836,45.7691,45.5542, 45.3391,45.1236,44.9077,44.6916,44.4752 ,44.2584,44.041,43.8229,43.495,43.4676, 43.4348,43.4492,43.463,43.4843,43.4981, 43.5111,43.5238,43.5437,43.5562,43.5746 ,43.5861,43.5978,43.6096,43.6263, 43.6375,43.6486,43.6644,43.6749,43.6851 ,43.6953,43.71,43.7196,43.7294,43.7437, 43.7532,43.767,43.7725,43.779,43.7952, 43.8139,43.83,43.8458,43.8575,43.8775, 43.892,43.9063,43.9238,43.9271,43.9304, 44.1617,44.3955,44.6278,45.0135,45.3588 ,45.6645,45.9501,45.9691,45.9818, 45.9929,46.0013,46.0127,46.0214,46.0331 ,46.0451,46.0608,46.08,46.0932,46.0998, 46.1065,46.1138,46.1209,46.1281,46.1388 ,46.146,46.1532,46.1642,46.1714,46.183, 46.1905,46.1981,46.206,46.2138,46.2216, 46.2335,46.2416,46.2497,46.262,46.2704, 46.2796,46.2918,46.3006,46.3096,46.323, 46.332,46.3366,46.3317)
ORBIT_NUMBER = 2996
ORBITAL_ECCENTRICITY = 0.572
ORBITAL_INCLINATION = 86.63
ORBITAL_SEMIMAJOR_AXIS = 8625.31
PERIAPSIS_ALTITUDE = 292.01
PERIAPSIS_ARGUMENT_ANGLE = 191.92
PERIAPSIS_TIME = 2006-05-11T14:13:55.000Z
SPACECRAFT_ORIENTATION = (0.0,-1.0,0.0)
^MEX_ORIENTATION_DESC = "MEX_ORIENTATION_DESC.TXT"
SPACECRAFT_POINTING_MODE = ACROSSTRACK
^MEX_POINTING_DESC = "MEX_POINTING_DESC.TXT"
RIGHT_ASCENSION = -1e+32
DECLINATION = -1e+32
OFFSET_ANGLE = -0.5
SPACECRAFT_SOLAR_DISTANCE = 2.47706e+08
TARGET_NAME = MARS
/* CAMERA DATA ELEMENTS */
DETECTOR_TEMPERATURE = 18.3705
FOCAL_PLANE_TEMPERATURE = 8.7872
INST_CMPRS_NAME = "DISCRETE COSINE TRANSFORMATION (DCT)"
INST_CMPRS_RATIO = 21.7543
INST_CMPRS_QUALITY = 0
INST_CMPRS_QUANTZ_TBL_ID = 0
INSTRUMENT_TEMPERATURE = 11.234
LENS_TEMPERATURE = 8.7872
MACROPIXEL_SIZE = 8
MISSING_FRAMES = 0
PIXEL_SUBSAMPLING_FLAG = N
SIGNAL_CHAIN_ID = 2
/* RADIOMETRIC DATA ELEMENTS */
BANDWIDTH = 76.0
CENTER_FILTER_WAVELENGTH = 444.0
RADIANCE_OFFSET = 0.360751
RADIANCE_SCALING_FACTOR = 0.00167669
REFLECTANCE_SCALING_FACTOR = 0.000105701
MEX:REFLECTANCE_OFFSET = 0.0227423
/* IMAGE OBJECT DEFINITIONS */
OBJECT = IMAGE
  INTERCHANGE_FORMAT = BINARY
  LINES = 2775
  LINE_SAMPLES = 752
  SAMPLE_TYPE = UNSIGNED_INTEGER
  SAMPLE_BITS = 8
  BANDS = 1
  BAND_STORAGE_TYPE = BAND_SEQUENTIAL
  MAXIMUM = 255
  MEAN = 126.885
  MINIMUM = 2
  STANDARD_DEVIATION = 36.4154
END_OBJECT = IMAGE
/* MAP OBJECT DEFINITIONS */
OBJECT = IMAGE_MAP_PROJECTION
  ^DATA_SET_MAP_PROJECTION_CATALOG= "DSMAP.CAT"
  A_AXIS_RADIUS = 3396.0
  B_AXIS_RADIUS = 3396.0
  C_AXIS_RADIUS = 3396.0
  CENTER_LATITUDE = 0.0
  CENTER_LONGITUDE = 45.0
  COORDINATE_SYSTEM_NAME = PLANETOGRAPHIC
  COORDINATE_SYSTEM_TYPE = "BODY-FIXED ROTATING"
  EASTERNMOST_LONGITUDE = 46.3366
  FIRST_STANDARD_PARALLEL = "N/A"
  LINE_FIRST_PIXEL = 1
  LINE_LAST_PIXEL = 2775
  LINE_PROJECTION_OFFSET = 9621.8125
  MAP_PROJECTION_ROTATION = 0.0
  MAP_PROJECTION_TYPE = SINUSOIDAL
  MAP_RESOLUTION = 296.356901933333
  MAP_SCALE = 0.2
  MAXIMUM_LATITUDE = 32.4297
  MINIMUM_LATITUDE = 23.0871
  POSITIVE_LONGITUDE_DIRECTION = EAST
  REFERENCE_LATITUDE = "N/A"
  REFERENCE_LONGITUDE = "N/A"
  SAMPLE_FIRST_PIXEL = 1
  SAMPLE_LAST_PIXEL = 752
  SAMPLE_PROJECTION_OFFSET = 408.3125
  SECOND_STANDARD_PARALLEL = "N/A"
  WESTERNMOST_LONGITUDE = 43.4348
END_OBJECT = IMAGE_MAP_PROJECTION
END
