PDS_VERSION_ID = PDS3
/* FILE DATA ELEMENTS */
RECORD_TYPE = UNDEFINED
/* POINTERS TO DATA OBJECTS */
^IMAGE = ("H2991_0000_S14.TIF")
/* IDENTIFICATION DATA ELEMENTS */
DATA_SET_ID = "MEX-M-HRSC-4-REFDR-MAPPROJECT-EXT1-V4.0"
DATA_SET_NAME = "MARS EXPRESS HRSC MAP PROJECTED REFDR EXTENSION1 V4.0"
DETECTOR_ID = MEX_HRSC_S1
EVENT_TYPE = "MARS-REGIONAL-MAPPING-Vo-Gl-Eo"
INSTRUMENT_HOST_ID = MEX
INSTRUMENT_HOST_NAME = "MARS EXPRESS"
INSTRUMENT_ID = HRSC
INSTRUMENT_NAME = "HIGH RESOLUTION STEREO CAMERA"
MISSION_NAME = "MARS EXPRESS"
MISSION_PHASE_NAME = ME_Phase_3
PROCESSING_LEVEL_ID = 4
PRODUCT_CREATION_TIME = 2023-02-09T07:39:13.000Z
PRODUCT_ID = "H2991_0000_S14.TIF"
RELEASE_ID = 0002
REVISION_ID = 0000
/* QUALITY DATA ELEMENTS */
DATA_QUALITY_ID = 1
DATA_QUALITY_DESC = "Data calculated based on original SPICE kernels"
/* TIME DATA ELEMENTS */
SPACECRAFT_CLOCK_START_COUNT = "1/0095315511.08422"
SPACECRAFT_CLOCK_STOP_COUNT = "1/0095315777.23398"
START_TIME = 2006-05-10T04:31:56.593Z
STOP_TIME = 2006-05-10T04:35:25.307Z
/* ORBITAL DATA ELEMENTS */
ASCENDING_NODE_LONGITUDE = 165.5
MAXIMUM_RESOLUTION = 0.0273
FOOTPRINT_POINT_LATITUDE = (9.54432,9.54173,9.53734,9.52964,9.5294 ,9.50121,9.21703,8.93688,8.65623, 8.37585,8.10113,7.82575,7.54975,7.27311 ,6.99586,6.71798,6.43937,6.16018, 5.88047,5.60008,5.31906,5.03748,4.75523 ,4.4724,4.19219,3.95426,3.71592,3.47717 ,3.23805,2.99852,2.75858,2.51822, 2.27748,2.03638,1.79489,1.55335,1.18711 ,0.944069,0.700876,0.45751,0.21317, -0.145756,-0.619939,-1.0943,-1.33331, -1.57151,-2.03548,-2.49835,-3.08083, -3.19708,-3.23411,-3.22562,-3.21975, -3.21732,-3.21719,-3.21675,-2.75105, -2.40308,-1.94142,-1.47336,-0.997213, -0.641178,-0.40305,0.0700996,0.31313, 0.677665,0.920915,1.16375,1.53059, 1.7721,2.01389,2.25438,2.49483,2.73534, 2.97534,3.2149,3.45413,3.69288,3.93132, 4.16929,4.44238,4.72526,5.00762,5.28937 ,5.57043,5.85091,6.13081,6.41006, 6.68877,6.96681,7.24421,7.521,7.79713, 8.07264,8.34743,8.76734,9.04785,9.32801 ,9.47123,9.54432)
FOOTPRINT_POINT_LONGITUDE = (177.262,176.803,176.341,175.79,175.775 ,175.759,175.764,175.769,175.774, 175.779,175.784,175.788,175.793,175.797 ,175.801,175.806,175.81,175.814,175.818 ,175.821,175.825,175.829,175.832, 175.836,175.839,175.842,175.845,175.847 ,175.85,175.853,175.855,175.857,175.86, 175.862,175.864,175.867,175.87,175.872, 175.874,175.876,175.878,175.881,175.884 ,175.888,175.889,175.891,175.894, 175.897,175.899,175.9,175.9,176.461, 176.745,177.017,177.028,177.032,177.037 ,177.041,177.047,177.053,177.059, 177.064,177.068,177.075,177.078,177.084 ,177.088,177.092,177.098,177.102, 177.106,177.11,177.115,177.119,177.123, 177.128,177.132,177.137,177.141,177.146 ,177.151,177.157,177.163,177.168, 177.174,177.18,177.186,177.193,177.199, 177.205,177.212,177.218,177.225,177.231 ,177.238,177.248,177.255,177.263, 177.266,177.262)
ORBIT_NUMBER = 2991
ORBITAL_ECCENTRICITY = 0.572
ORBITAL_INCLINATION = 86.63
ORBITAL_SEMIMAJOR_AXIS = 8615.77
PERIAPSIS_ALTITUDE = 292.4
PERIAPSIS_ARGUMENT_ANGLE = 192.77
PERIAPSIS_TIME = 2006-05-10T04:38:18.000Z
SPACECRAFT_ORIENTATION = (0.0,-1.0,0.0)
^MEX_ORIENTATION_DESC = "MEX_ORIENTATION_DESC.TXT"
SPACECRAFT_POINTING_MODE = ACROSSTRACK
^MEX_POINTING_DESC = "MEX_POINTING_DESC.TXT"
RIGHT_ASCENSION = -1e+32
DECLINATION = -1e+32
OFFSET_ANGLE = -0.25
SPACECRAFT_SOLAR_DISTANCE = 2.47611e+08
TARGET_NAME = MARS
/* CAMERA DATA ELEMENTS */
DETECTOR_TEMPERATURE = 17.351
FOCAL_PLANE_TEMPERATURE = 7.7677
INST_CMPRS_NAME = "DISCRETE COSINE TRANSFORMATION (DCT)"
INST_CMPRS_RATIO = 7.46015
INST_CMPRS_QUALITY = 0
INST_CMPRS_QUANTZ_TBL_ID = 0
INSTRUMENT_TEMPERATURE = 11.234
LENS_TEMPERATURE = 8.1755
MACROPIXEL_SIZE = 2
MISSING_FRAMES = 1
PIXEL_SUBSAMPLING_FLAG = N
SIGNAL_CHAIN_ID = 1
/* RADIOMETRIC DATA ELEMENTS */
BANDWIDTH = 180.0
CENTER_FILTER_WAVELENGTH = 677.0
RADIANCE_OFFSET = 2.11101
RADIANCE_SCALING_FACTOR = 0.0124177
REFLECTANCE_SCALING_FACTOR = 0.000397214
MEX:REFLECTANCE_OFFSET = 0.0675265
/* IMAGE OBJECT DEFINITIONS */
OBJECT = IMAGE
  INTERCHANGE_FORMAT = BINARY
  LINES = 30244
  LINE_SAMPLES = 3312
  SAMPLE_TYPE = UNSIGNED_INTEGER
  SAMPLE_BITS = 8
  BANDS = 1
  BAND_STORAGE_TYPE = BAND_SEQUENTIAL
  MAXIMUM = 253
  MEAN = 98.0931
  MINIMUM = 1
  STANDARD_DEVIATION = 26.2549
END_OBJECT = IMAGE
/* MAP OBJECT DEFINITIONS */
OBJECT = IMAGE_MAP_PROJECTION
  ^DATA_SET_MAP_PROJECTION_CATALOG= "DSMAP.CAT"
  A_AXIS_RADIUS = 3396.0
  B_AXIS_RADIUS = 3396.0
  C_AXIS_RADIUS = 3396.0
  CENTER_LATITUDE = 0.0
  CENTER_LONGITUDE = 176.0
  COORDINATE_SYSTEM_NAME = PLANETOGRAPHIC
  COORDINATE_SYSTEM_TYPE = "BODY-FIXED ROTATING"
  EASTERNMOST_LONGITUDE = 177.266
  FIRST_STANDARD_PARALLEL = "N/A"
  LINE_FIRST_PIXEL = 1
  LINE_LAST_PIXEL = 30244
  LINE_PROJECTION_OFFSET = 22620.25
  MAP_PROJECTION_ROTATION = 0.0
  MAP_PROJECTION_TYPE = SINUSOIDAL
  MAP_RESOLUTION = 2370.85521546667
  MAP_SCALE = 0.025
  MAXIMUM_LATITUDE = 9.544320000000001
  MINIMUM_LATITUDE = -3.23411
  POSITIVE_LONGITUDE_DIRECTION = EAST
  REFERENCE_LATITUDE = "N/A"
  REFERENCE_LONGITUDE = "N/A"
  SAMPLE_FIRST_PIXEL = 1
  SAMPLE_LAST_PIXEL = 3312
  SAMPLE_PROJECTION_OFFSET = 452.25
  SECOND_STANDARD_PARALLEL = "N/A"
  WESTERNMOST_LONGITUDE = 175.759
END_OBJECT = IMAGE_MAP_PROJECTION
END
