PDS_VERSION_ID = PDS3
/* FILE DATA ELEMENTS */
RECORD_TYPE = UNDEFINED
/* POINTERS TO DATA OBJECTS */
^IMAGE = ("H2983_0000_S24.TIF")
/* IDENTIFICATION DATA ELEMENTS */
DATA_SET_ID = "MEX-M-HRSC-4-REFDR-MAPPROJECT-EXT1-V4.0"
DATA_SET_NAME = "MARS EXPRESS HRSC MAP PROJECTED REFDR EXTENSION1 V4.0"
DETECTOR_ID = MEX_HRSC_S2
EVENT_TYPE = "MARS-REGIONAL-MAPPING-Vo-Te-Eo"
INSTRUMENT_HOST_ID = MEX
INSTRUMENT_HOST_NAME = "MARS EXPRESS"
INSTRUMENT_ID = HRSC
INSTRUMENT_NAME = "HIGH RESOLUTION STEREO CAMERA"
MISSION_NAME = "MARS EXPRESS"
MISSION_PHASE_NAME = ME_Phase_3
PROCESSING_LEVEL_ID = 4
PRODUCT_CREATION_TIME = 2023-02-09T07:39:13.000Z
PRODUCT_ID = "H2983_0000_S24.TIF"
RELEASE_ID = 0002
REVISION_ID = 0000
/* QUALITY DATA ELEMENTS */
DATA_QUALITY_ID = 1
DATA_QUALITY_DESC = "Data calculated based on original SPICE kernels"
/* TIME DATA ELEMENTS */
SPACECRAFT_CLOCK_START_COUNT = "1/0095121493.07281"
SPACECRAFT_CLOCK_STOP_COUNT = "1/0095121951.06970"
START_TIME = 2006-05-07T22:41:25.215Z
STOP_TIME = 2006-05-07T22:45:54.586Z
/* ORBITAL DATA ELEMENTS */
ASCENDING_NODE_LONGITUDE = 165.67
MAXIMUM_RESOLUTION = 0.0386
FOOTPRINT_POINT_LATITUDE = (33.3479,33.3489,33.3492,33.3487, 33.3478,33.3463,33.3445,33.3444,33.3609 ,32.9437,32.5304,32.1202,31.7156, 31.3082,30.9103,30.5157,30.1266,29.7402 ,29.3573,28.9778,28.6024,28.229,27.86, 27.4953,27.1313,26.7729,26.4165,26.0632 ,25.7135,25.3655,25.0232,24.6808, 24.3433,24.0068,23.6749,23.3442,23.0179 ,22.6919,22.3709,22.0497,21.7342, 21.2618,20.9516,20.3353,19.7331,19.4272 ,18.8346,18.2477,17.6721,17.1042, 16.5421,16.404,16.3958,16.392,16.3896, 16.388,16.388,16.3885,16.8059,17.3701, 17.9432,18.5234,19.2609,20.0117,20.6212 ,20.9319,21.2423,21.7153,22.0312, 22.3526,22.6738,22.9995,23.3262,23.657, 23.9887,24.3251,24.6626,25.005,25.5219, 25.8701,26.223,26.756,27.1147,27.4785, 27.8442,28.2136,28.587,28.9626,29.3422, 29.7255,30.1119,30.502,30.8967,31.2945, 31.7028,32.1081,32.517,33.1388,33.3493, 33.3479)
FOOTPRINT_POINT_LONGITUDE = (244.45,243.963,243.506,242.848,242.391 ,241.933,241.531,241.503,241.487, 241.512,241.536,241.56,241.582,241.604, 241.625,241.646,241.666,241.685,241.703 ,241.721,241.739,241.756,241.772, 241.787,241.803,241.818,241.832,241.846 ,241.86,241.873,241.885,241.898,241.91, 241.922,241.933,241.944,241.955,241.965 ,241.975,241.985,241.995,242.008, 242.017,242.035,242.05,242.06,242.075, 242.09,242.103,242.116,242.128,242.131, 242.132,242.757,243.302,243.768,243.784 ,243.789,243.802,243.819,243.836, 243.854,243.878,243.902,243.923,243.933 ,243.944,243.961,243.972,243.984, 243.995,244.007,244.019,244.031,244.043 ,244.056,244.069,244.082,244.103, 244.117,244.131,244.153,244.167,244.183 ,244.198,244.214,244.231,244.247, 244.264,244.281,244.299,244.317,244.335 ,244.354,244.373,244.393,244.413, 244.444,244.455,244.45)
ORBIT_NUMBER = 2983
ORBITAL_ECCENTRICITY = 0.573
ORBITAL_INCLINATION = 86.62
ORBITAL_SEMIMAJOR_AXIS = 8630.93
PERIAPSIS_ALTITUDE = 291.06
PERIAPSIS_ARGUMENT_ANGLE = 194.22
PERIAPSIS_TIME = 2006-05-07T22:53:07.000Z
SPACECRAFT_ORIENTATION = (0.0,-1.0,0.0)
^MEX_ORIENTATION_DESC = "MEX_ORIENTATION_DESC.TXT"
SPACECRAFT_POINTING_MODE = NADIR
^MEX_POINTING_DESC = "MEX_POINTING_DESC.TXT"
RIGHT_ASCENSION = -1e+32
DECLINATION = -1e+32
OFFSET_ANGLE = -1e+32
SPACECRAFT_SOLAR_DISTANCE = 2.47454e+08
TARGET_NAME = MARS
/* CAMERA DATA ELEMENTS */
DETECTOR_TEMPERATURE = 18.7783
FOCAL_PLANE_TEMPERATURE = 8.1755
INST_CMPRS_NAME = "DISCRETE COSINE TRANSFORMATION (DCT)"
INST_CMPRS_RATIO = 8.15363
INST_CMPRS_QUALITY = 0
INST_CMPRS_QUANTZ_TBL_ID = 0
INSTRUMENT_TEMPERATURE = 11.0301
LENS_TEMPERATURE = 8.5833
MACROPIXEL_SIZE = 2
MISSING_FRAMES = 1
PIXEL_SUBSAMPLING_FLAG = N
SIGNAL_CHAIN_ID = 1
/* RADIOMETRIC DATA ELEMENTS */
BANDWIDTH = 178.0
CENTER_FILTER_WAVELENGTH = 679.0
RADIANCE_OFFSET = 2.09292
RADIANCE_SCALING_FACTOR = 0.0223842
REFLECTANCE_SCALING_FACTOR = 0.000725865
MEX:REFLECTANCE_OFFSET = 0.0678684
/* IMAGE OBJECT DEFINITIONS */
OBJECT = IMAGE
  INTERCHANGE_FORMAT = BINARY
  LINES = 20147
  LINE_SAMPLES = 3258
  SAMPLE_TYPE = UNSIGNED_INTEGER
  SAMPLE_BITS = 8
  BANDS = 1
  BAND_STORAGE_TYPE = BAND_SEQUENTIAL
  MAXIMUM = 255
  MEAN = 106.582
  MINIMUM = 1
  STANDARD_DEVIATION = 14.9008
END_OBJECT = IMAGE
/* MAP OBJECT DEFINITIONS */
OBJECT = IMAGE_MAP_PROJECTION
  ^DATA_SET_MAP_PROJECTION_CATALOG= "DSMAP.CAT"
  A_AXIS_RADIUS = 3396.0
  B_AXIS_RADIUS = 3396.0
  C_AXIS_RADIUS = 3396.0
  CENTER_LATITUDE = 0.0
  CENTER_LONGITUDE = 243.0
  COORDINATE_SYSTEM_NAME = PLANETOGRAPHIC
  COORDINATE_SYSTEM_TYPE = "BODY-FIXED ROTATING"
  EASTERNMOST_LONGITUDE = 244.455
  FIRST_STANDARD_PARALLEL = "N/A"
  LINE_FIRST_PIXEL = 1
  LINE_LAST_PIXEL = 20147
  LINE_PROJECTION_OFFSET = 39598.25
  MAP_PROJECTION_ROTATION = 0.0
  MAP_PROJECTION_TYPE = SINUSOIDAL
  MAP_RESOLUTION = 1185.42760773333
  MAP_SCALE = 0.05
  MAXIMUM_LATITUDE = 33.3609
  MINIMUM_LATITUDE = 16.388
  POSITIVE_LONGITUDE_DIRECTION = EAST
  REFERENCE_LATITUDE = "N/A"
  REFERENCE_LONGITUDE = "N/A"
  SAMPLE_FIRST_PIXEL = 1
  SAMPLE_LAST_PIXEL = 3258
  SAMPLE_PROJECTION_OFFSET = 1661.75
  SECOND_STANDARD_PARALLEL = "N/A"
  WESTERNMOST_LONGITUDE = 241.487
END_OBJECT = IMAGE_MAP_PROJECTION
END
