PDS_VERSION_ID = PDS3
/* FILE DATA ELEMENTS */
RECORD_TYPE = UNDEFINED
/* POINTERS TO DATA OBJECTS */
^IMAGE = ("H2969_0000_S14.TIF")
/* IDENTIFICATION DATA ELEMENTS */
DATA_SET_ID = "MEX-M-HRSC-4-REFDR-MAPPROJECT-EXT1-V4.0"
DATA_SET_NAME = "MARS EXPRESS HRSC MAP PROJECTED REFDR EXTENSION1 V4.0"
DETECTOR_ID = MEX_HRSC_S1
EVENT_TYPE = "MARS-REGIONAL-MAPPING-Vo-Pf-Eo"
INSTRUMENT_HOST_ID = MEX
INSTRUMENT_HOST_NAME = "MARS EXPRESS"
INSTRUMENT_ID = HRSC
INSTRUMENT_NAME = "HIGH RESOLUTION STEREO CAMERA"
MISSION_NAME = "MARS EXPRESS"
MISSION_PHASE_NAME = ME_Phase_3
PROCESSING_LEVEL_ID = 4
PRODUCT_CREATION_TIME = 2023-02-09T07:39:13.000Z
PRODUCT_ID = "H2969_0000_S14.TIF"
RELEASE_ID = 0002
REVISION_ID = 0000
/* QUALITY DATA ELEMENTS */
DATA_QUALITY_ID = 1
DATA_QUALITY_DESC = "Data calculated based on original SPICE kernels"
/* TIME DATA ELEMENTS */
SPACECRAFT_CLOCK_START_COUNT = "1/0094783297.07308"
SPACECRAFT_CLOCK_STOP_COUNT = "1/0094783529.07673"
START_TIME = 2006-05-04T00:41:42.554Z
STOP_TIME = 2006-05-04T00:44:29.468Z
/* ORBITAL DATA ELEMENTS */
ASCENDING_NODE_LONGITUDE = 165.96
MAXIMUM_RESOLUTION = 0.0312
FOOTPRINT_POINT_LATITUDE = (9.99144,9.9904,9.98888,9.98673,9.98396 ,9.98055,9.97485,9.97456,9.94483, 9.62706,9.41789,9.20704,8.99721,8.79095 ,8.48077,8.27381,8.07107,7.86787, 7.66424,7.46143,7.26199,7.06216,6.86196 ,6.66214,6.46626,6.27,6.07335,5.77911, 5.5867,5.39392,5.20077,4.91119,4.53324, 4.15404,3.96395,3.77358,3.58285,3.3919, 3.20069,3.00909,2.72101,2.52889,2.33665 ,2.14415,1.85404,1.5635,1.36943,1.07914 ,0.703188,0.292899,0.211266,0.199195, 0.205989,0.211934,0.217803,0.218075, 0.218521,0.709276,1.08232,1.37381, 1.56771,1.76098,1.95383,2.24292,2.43567 ,2.62826,2.8205,3.01239,3.20391,3.39514 ,3.58612,3.77679,3.96717,4.15726, 4.53649,4.91447,5.20369,5.39675,5.58956 ,5.78203,6.07595,6.27261,6.46894, 6.66486,6.86431,7.06455,7.26441,7.46389 ,7.66644,7.87014,8.07347,8.27618, 8.58643,8.79322,8.99946,9.31425,9.52421 ,9.83967,9.94653,9.99144)
FOOTPRINT_POINT_LONGITUDE = (179.17,178.912,178.654,178.394,178.134 ,177.873,177.513,177.496,177.479, 177.486,177.491,177.495,177.499,177.504 ,177.51,177.514,177.518,177.522,177.526 ,177.53,177.534,177.538,177.541,177.545 ,177.548,177.552,177.555,177.56,177.563 ,177.566,177.57,177.574,177.58,177.585, 177.588,177.591,177.594,177.596,177.599 ,177.601,177.605,177.608,177.61,177.613 ,177.616,177.62,177.622,177.626,177.63, 177.634,177.635,177.636,178.001,178.489 ,178.911,178.923,178.928,178.937, 178.945,178.951,178.955,178.959,178.963 ,178.97,178.974,178.978,178.982,178.987 ,178.991,178.995,179.0,179.004,179.009, 179.013,179.023,179.032,179.039,179.044 ,179.049,179.054,179.062,179.067, 179.072,179.078,179.083,179.089,179.094 ,179.1,179.106,179.112,179.118,179.124, 179.133,179.139,179.146,179.155,179.162 ,179.172,179.175,179.17)
ORBIT_NUMBER = 2969
ORBITAL_ECCENTRICITY = 0.572
ORBITAL_INCLINATION = 86.63
ORBITAL_SEMIMAJOR_AXIS = 8612.71
PERIAPSIS_ALTITUDE = 290.72
PERIAPSIS_ARGUMENT_ANGLE = 196.68
PERIAPSIS_TIME = 2006-05-04T00:49:19.000Z
SPACECRAFT_ORIENTATION = (0.0,-1.0,0.0)
^MEX_ORIENTATION_DESC = "MEX_ORIENTATION_DESC.TXT"
SPACECRAFT_POINTING_MODE = ACROSSTRACK
^MEX_POINTING_DESC = "MEX_POINTING_DESC.TXT"
RIGHT_ASCENSION = -1e+32
DECLINATION = -1e+32
OFFSET_ANGLE = -0.3
SPACECRAFT_SOLAR_DISTANCE = 2.47162e+08
TARGET_NAME = MARS
/* CAMERA DATA ELEMENTS */
DETECTOR_TEMPERATURE = 17.351
FOCAL_PLANE_TEMPERATURE = 8.5833
INST_CMPRS_NAME = "DISCRETE COSINE TRANSFORMATION (DCT)"
INST_CMPRS_RATIO = 8.1609
INST_CMPRS_QUALITY = 0
INST_CMPRS_QUANTZ_TBL_ID = 0
INSTRUMENT_TEMPERATURE = 11.0301
LENS_TEMPERATURE = 8.5833
MACROPIXEL_SIZE = 2
MISSING_FRAMES = 0
PIXEL_SUBSAMPLING_FLAG = N
SIGNAL_CHAIN_ID = 1
/* RADIOMETRIC DATA ELEMENTS */
BANDWIDTH = 180.0
CENTER_FILTER_WAVELENGTH = 677.0
RADIANCE_OFFSET = 1.94436
RADIANCE_SCALING_FACTOR = 0.0100213
REFLECTANCE_SCALING_FACTOR = 0.000319396
MEX:REFLECTANCE_OFFSET = 0.0619697
/* IMAGE OBJECT DEFINITIONS */
OBJECT = IMAGE
  INTERCHANGE_FORMAT = BINARY
  LINES = 23146
  LINE_SAMPLES = 3671
  SAMPLE_TYPE = UNSIGNED_INTEGER
  SAMPLE_BITS = 8
  BANDS = 1
  BAND_STORAGE_TYPE = BAND_SEQUENTIAL
  MAXIMUM = 255
  MEAN = 99.1556
  MINIMUM = 1
  STANDARD_DEVIATION = 25.8055
END_OBJECT = IMAGE
/* MAP OBJECT DEFINITIONS */
OBJECT = IMAGE_MAP_PROJECTION
  ^DATA_SET_MAP_PROJECTION_CATALOG= "DSMAP.CAT"
  A_AXIS_RADIUS = 3396.0
  B_AXIS_RADIUS = 3396.0
  C_AXIS_RADIUS = 3396.0
  CENTER_LATITUDE = 0.0
  CENTER_LONGITUDE = 178.0
  COORDINATE_SYSTEM_NAME = PLANETOGRAPHIC
  COORDINATE_SYSTEM_TYPE = "BODY-FIXED ROTATING"
  EASTERNMOST_LONGITUDE = 179.175
  FIRST_STANDARD_PARALLEL = "N/A"
  LINE_FIRST_PIXEL = 1
  LINE_LAST_PIXEL = 23146
  LINE_PROJECTION_OFFSET = 23703.25
  MAP_PROJECTION_ROTATION = 0.0
  MAP_PROJECTION_TYPE = SINUSOIDAL
  MAP_RESOLUTION = 2370.85521546667
  MAP_SCALE = 0.025
  MAXIMUM_LATITUDE = 9.991440000000001
  MINIMUM_LATITUDE = 0.199195
  POSITIVE_LONGITUDE_DIRECTION = EAST
  REFERENCE_LATITUDE = "N/A"
  REFERENCE_LONGITUDE = "N/A"
  SAMPLE_FIRST_PIXEL = 1
  SAMPLE_LAST_PIXEL = 3671
  SAMPLE_PROJECTION_OFFSET = 1068.25
  SECOND_STANDARD_PARALLEL = "N/A"
  WESTERNMOST_LONGITUDE = 177.479
END_OBJECT = IMAGE_MAP_PROJECTION
END
