PDS_VERSION_ID = PDS3
/* FILE DATA ELEMENTS */
RECORD_TYPE = UNDEFINED
/* POINTERS TO DATA OBJECTS */
^IMAGE = ("H2950_0000_S24.TIF")
/* IDENTIFICATION DATA ELEMENTS */
DATA_SET_ID = "MEX-M-HRSC-4-REFDR-MAPPROJECT-EXT1-V4.0"
DATA_SET_NAME = "MARS EXPRESS HRSC MAP PROJECTED REFDR EXTENSION1 V4.0"
DETECTOR_ID = MEX_HRSC_S2
EVENT_TYPE = "MARS-REGIONAL-MAPPING-Vo-Te"
INSTRUMENT_HOST_ID = MEX
INSTRUMENT_HOST_NAME = "MARS EXPRESS"
INSTRUMENT_ID = HRSC
INSTRUMENT_NAME = "HIGH RESOLUTION STEREO CAMERA"
MISSION_NAME = "MARS EXPRESS"
MISSION_PHASE_NAME = ME_Phase_3
PROCESSING_LEVEL_ID = 4
PRODUCT_CREATION_TIME = 2023-02-09T07:39:13.000Z
PRODUCT_ID = "H2950_0000_S24.TIF"
RELEASE_ID = 0002
REVISION_ID = 0000
/* QUALITY DATA ELEMENTS */
DATA_QUALITY_ID = 1
DATA_QUALITY_DESC = "Data calculated based on original SPICE kernels"
/* TIME DATA ELEMENTS */
SPACECRAFT_CLOCK_START_COUNT = "1/0094323128.08243"
SPACECRAFT_CLOCK_STOP_COUNT = "1/0094323648.04295"
START_TIME = 2006-04-28T16:56:12.429Z
STOP_TIME = 2006-04-28T17:00:51.582Z
/* ORBITAL DATA ELEMENTS */
ASCENDING_NODE_LONGITUDE = 166.36
MAXIMUM_RESOLUTION = 0.0445
FOOTPRINT_POINT_LATITUDE = (33.498,33.5112,33.5238,33.5357,33.5471 ,33.5578,33.5714,33.572,33.5876,32.9829 ,32.5798,32.1714,31.7685,31.369,30.9731 ,30.581,29.9317,29.5488,29.1698,28.7937 ,28.4211,28.0512,27.6852,27.3222, 26.9618,26.6047,26.2515,25.9002,25.5518 ,25.2073,24.8648,24.525,24.1887,23.8536 ,23.523,23.032,22.7059,22.3842,21.9054, 21.5881,21.2747,20.6541,20.0429,19.4403 ,18.8464,18.4056,17.8249,17.2559, 16.6933,16.553,16.5326,16.5162,16.4875, 16.4695,16.4408,16.4399,16.4403,17.0012 ,17.4282,18.0015,18.7314,19.3243, 19.9263,20.5371,21.1577,21.4705,21.7874 ,22.2664,22.5886,22.9145,23.2408, 23.5717,23.9041,24.2396,24.5782,24.918, 25.2623,25.6091,25.9584,26.3117,26.6674 ,27.0256,27.3875,27.7531,28.1214, 28.4921,28.8667,29.2453,29.6276,30.0126 ,30.4695,30.8619,31.2576,31.6576, 32.0608,32.4683,32.8743,33.2788,33.4807 ,33.498)
FOOTPRINT_POINT_LONGITUDE = (246.362,245.835,245.304,244.77,244.232 ,243.691,242.937,242.903,242.881, 242.928,242.957,242.989,243.018,243.046 ,243.074,243.1,243.143,243.168,243.192, 243.215,243.237,243.259,243.28,243.3, 243.32,243.339,243.358,243.376,243.394, 243.411,243.428,243.444,243.46,243.475, 243.49,243.511,243.526,243.539,243.559, 243.572,243.585,243.609,243.632,243.653 ,243.674,243.689,243.709,243.726, 243.743,243.747,243.748,244.077,244.668 ,245.062,245.672,245.69,245.697,245.714 ,245.727,245.746,245.769,245.789, 245.809,245.829,245.851,245.862,245.873 ,245.89,245.902,245.914,245.926,245.938 ,245.95,245.963,245.976,245.989,246.002 ,246.016,246.03,246.044,246.058,246.073 ,246.088,246.103,246.119,246.134,246.15 ,246.167,246.183,246.2,246.221,246.239, 246.257,246.275,246.294,246.313,246.333 ,246.352,246.362,246.362)
ORBIT_NUMBER = 2950
ORBITAL_ECCENTRICITY = 0.573
ORBITAL_INCLINATION = 86.61
ORBITAL_SEMIMAJOR_AXIS = 8623.41
PERIAPSIS_ALTITUDE = 288.68
PERIAPSIS_ARGUMENT_ANGLE = 200.09
PERIAPSIS_TIME = 2006-04-28T17:09:36.000Z
SPACECRAFT_ORIENTATION = (0.0,-1.0,0.0)
^MEX_ORIENTATION_DESC = "MEX_ORIENTATION_DESC.TXT"
SPACECRAFT_POINTING_MODE = ACROSSTRACK
^MEX_POINTING_DESC = "MEX_POINTING_DESC.TXT"
RIGHT_ASCENSION = -1e+32
DECLINATION = -1e+32
OFFSET_ANGLE = -1.0
SPACECRAFT_SOLAR_DISTANCE = 2.46731e+08
TARGET_NAME = MARS
/* CAMERA DATA ELEMENTS */
DETECTOR_TEMPERATURE = 17.7588
FOCAL_PLANE_TEMPERATURE = 7.7677
INST_CMPRS_NAME = "DISCRETE COSINE TRANSFORMATION (DCT)"
INST_CMPRS_RATIO = 8.935
INST_CMPRS_QUALITY = 0
INST_CMPRS_QUANTZ_TBL_ID = 0
INSTRUMENT_TEMPERATURE = 10.8262
LENS_TEMPERATURE = 8.3794
MACROPIXEL_SIZE = 2
PIXEL_SUBSAMPLING_FLAG = N
SIGNAL_CHAIN_ID = 1
/* RADIOMETRIC DATA ELEMENTS */
BANDWIDTH = 178.0
CENTER_FILTER_WAVELENGTH = 679.0
RADIANCE_OFFSET = 1.96956
RADIANCE_SCALING_FACTOR = 0.0179799
REFLECTANCE_SCALING_FACTOR = 0.000579644
MEX:REFLECTANCE_OFFSET = 0.0634955
/* IMAGE OBJECT DEFINITIONS */
OBJECT = IMAGE
  INTERCHANGE_FORMAT = BINARY
  LINES = 20262
  LINE_SAMPLES = 3867
  SAMPLE_TYPE = UNSIGNED_INTEGER
  SAMPLE_BITS = 8
  BANDS = 1
  BAND_STORAGE_TYPE = BAND_SEQUENTIAL
  MAXIMUM = 255
  MEAN = 104.534
  MINIMUM = 1
  STANDARD_DEVIATION = 17.6493
END_OBJECT = IMAGE
/* MAP OBJECT DEFINITIONS */
OBJECT = IMAGE_MAP_PROJECTION
  ^DATA_SET_MAP_PROJECTION_CATALOG= "DSMAP.CAT"
  A_AXIS_RADIUS = 3396.0
  B_AXIS_RADIUS = 3396.0
  C_AXIS_RADIUS = 3396.0
  CENTER_LATITUDE = 0.0
  CENTER_LONGITUDE = 245.0
  COORDINATE_SYSTEM_NAME = PLANETOGRAPHIC
  COORDINATE_SYSTEM_TYPE = "BODY-FIXED ROTATING"
  EASTERNMOST_LONGITUDE = 246.362
  FIRST_STANDARD_PARALLEL = "N/A"
  LINE_FIRST_PIXEL = 1
  LINE_LAST_PIXEL = 20262
  LINE_PROJECTION_OFFSET = 39808.25
  MAP_PROJECTION_ROTATION = 0.0
  MAP_PROJECTION_TYPE = SINUSOIDAL
  MAP_RESOLUTION = 1185.42760773333
  MAP_SCALE = 0.05
  MAXIMUM_LATITUDE = 33.5876
  MINIMUM_LATITUDE = 16.4399
  POSITIVE_LONGITUDE_DIRECTION = EAST
  REFERENCE_LATITUDE = "N/A"
  REFERENCE_LONGITUDE = "N/A"
  SAMPLE_FIRST_PIXEL = 1
  SAMPLE_LAST_PIXEL = 3867
  SAMPLE_PROJECTION_OFFSET = 2294.75
  SECOND_STANDARD_PARALLEL = "N/A"
  WESTERNMOST_LONGITUDE = 242.881
END_OBJECT = IMAGE_MAP_PROJECTION
END
