PDS_VERSION_ID = PDS3
/* FILE DATA ELEMENTS */
RECORD_TYPE = UNDEFINED
/* POINTERS TO DATA OBJECTS */
^IMAGE = ("H2950_0000_RE4.TIF")
/* IDENTIFICATION DATA ELEMENTS */
DATA_SET_ID = "MEX-M-HRSC-4-REFDR-MAPPROJECT-EXT1-V4.0"
DATA_SET_NAME = "MARS EXPRESS HRSC MAP PROJECTED REFDR EXTENSION1 V4.0"
DETECTOR_ID = MEX_HRSC_RED
EVENT_TYPE = "MARS-REGIONAL-MAPPING-Vo-Te"
INSTRUMENT_HOST_ID = MEX
INSTRUMENT_HOST_NAME = "MARS EXPRESS"
INSTRUMENT_ID = HRSC
INSTRUMENT_NAME = "HIGH RESOLUTION STEREO CAMERA"
MISSION_NAME = "MARS EXPRESS"
MISSION_PHASE_NAME = ME_Phase_3
PROCESSING_LEVEL_ID = 4
PRODUCT_CREATION_TIME = 2023-02-09T07:39:13.000Z
PRODUCT_ID = "H2950_0000_RE4.TIF"
RELEASE_ID = 0002
REVISION_ID = 0000
/* QUALITY DATA ELEMENTS */
DATA_QUALITY_ID = 1
DATA_QUALITY_DESC = "Data calculated based on original SPICE kernels"
/* TIME DATA ELEMENTS */
SPACECRAFT_CLOCK_START_COUNT = "1/0094323128.08243"
SPACECRAFT_CLOCK_STOP_COUNT = "1/0094323648.04295"
START_TIME = 2006-04-28T16:55:57.590Z
STOP_TIME = 2006-04-28T17:00:43.204Z
/* ORBITAL DATA ELEMENTS */
ASCENDING_NODE_LONGITUDE = 166.36
MAXIMUM_RESOLUTION = 0.0887
FOOTPRINT_POINT_LATITUDE = (33.5112,33.5219,33.5317,33.5405, 33.5485,33.5556,33.565,33.5653,33.5771, 33.1858,32.7925,32.3981,32.0023,31.6052 ,31.011,30.6197,30.2318,29.8472,29.5375 ,29.1592,28.7842,28.4128,28.0443, 27.6786,27.3158,26.957,26.6011,26.2477, 25.8975,25.5507,25.2059,24.8637,24.5253 ,24.1891,23.8553,23.5251,23.1962, 22.8712,22.388,22.068,21.7514,21.2798, 20.6603,20.0497,19.448,18.8548,18.2698, 17.8356,17.2656,16.7036,16.5637,16.5182 ,16.4966,16.467,16.4424,16.4417,16.4428 ,17.144,17.5715,18.1464,18.7303,19.3224 ,19.923,20.5334,21.1525,21.4647,21.7813 ,22.2593,22.5804,22.9057,23.2319, 23.5615,23.8937,24.2274,24.5654,24.9056 ,25.4211,25.7679,26.1187,26.4721, 26.8277,27.1868,27.5498,27.9154,28.2839 ,28.6551,29.0306,29.4106,29.7197, 30.1046,30.4927,30.8842,31.2789,31.6776 ,32.0751,32.4715,32.8666,33.26,33.4564, 33.5112)
FOOTPRINT_POINT_LONGITUDE = (246.392,245.876,245.358,244.837, 244.313,243.786,242.918,242.884,242.866 ,242.896,242.927,242.957,242.987, 243.016,243.058,243.085,243.112,243.137 ,243.157,243.181,243.205,243.227, 243.249,243.271,243.292,243.312,243.331 ,243.35,243.369,243.386,243.404,243.421 ,243.437,243.453,243.469,243.484, 243.499,243.513,243.534,243.547,243.561 ,243.58,243.604,243.628,243.65,243.671, 243.691,243.706,243.724,243.741,243.745 ,243.747,244.288,245.057,245.685, 245.703,245.709,245.731,245.744,245.763 ,245.782,245.802,245.823,245.844, 245.866,245.877,245.888,245.906,245.918 ,245.93,245.942,245.955,245.968,245.98, 245.994,246.007,246.028,246.042,246.056 ,246.071,246.085,246.1,246.116,246.132, 246.148,246.164,246.18,246.197,246.211, 246.229,246.247,246.265,246.284,246.303 ,246.322,246.341,246.36,246.38,246.39, 246.392)
ORBIT_NUMBER = 2950
ORBITAL_ECCENTRICITY = 0.573
ORBITAL_INCLINATION = 86.61
ORBITAL_SEMIMAJOR_AXIS = 8623.41
PERIAPSIS_ALTITUDE = 288.68
PERIAPSIS_ARGUMENT_ANGLE = 200.09
PERIAPSIS_TIME = 2006-04-28T17:09:36.000Z
SPACECRAFT_ORIENTATION = (0.0,-1.0,0.0)
^MEX_ORIENTATION_DESC = "MEX_ORIENTATION_DESC.TXT"
SPACECRAFT_POINTING_MODE = ACROSSTRACK
^MEX_POINTING_DESC = "MEX_POINTING_DESC.TXT"
RIGHT_ASCENSION = -1e+32
DECLINATION = -1e+32
OFFSET_ANGLE = -1.0
SPACECRAFT_SOLAR_DISTANCE = 2.46731e+08
TARGET_NAME = MARS
/* CAMERA DATA ELEMENTS */
DETECTOR_TEMPERATURE = 17.7588
FOCAL_PLANE_TEMPERATURE = 7.7677
INST_CMPRS_NAME = "DISCRETE COSINE TRANSFORMATION (DCT)"
INST_CMPRS_RATIO = 10.4756
INST_CMPRS_QUALITY = 0
INST_CMPRS_QUANTZ_TBL_ID = 0
INSTRUMENT_TEMPERATURE = 10.8262
LENS_TEMPERATURE = 8.3794
MACROPIXEL_SIZE = 4
MISSING_FRAMES = 8
PIXEL_SUBSAMPLING_FLAG = N
SIGNAL_CHAIN_ID = 2
/* RADIOMETRIC DATA ELEMENTS */
BANDWIDTH = 48.0
CENTER_FILTER_WAVELENGTH = 748.0
RADIANCE_OFFSET = 0.52716
RADIANCE_SCALING_FACTOR = 0.00499002
REFLECTANCE_SCALING_FACTOR = 0.000693219
MEX:REFLECTANCE_OFFSET = 0.0732337
/* IMAGE OBJECT DEFINITIONS */
OBJECT = IMAGE
  INTERCHANGE_FORMAT = BINARY
  LINES = 10131
  LINE_SAMPLES = 1934
  SAMPLE_TYPE = UNSIGNED_INTEGER
  SAMPLE_BITS = 8
  BANDS = 1
  BAND_STORAGE_TYPE = BAND_SEQUENTIAL
  MAXIMUM = 255
  MEAN = 101.21
  MINIMUM = 1
  STANDARD_DEVIATION = 17.4522
END_OBJECT = IMAGE
/* MAP OBJECT DEFINITIONS */
OBJECT = IMAGE_MAP_PROJECTION
  ^DATA_SET_MAP_PROJECTION_CATALOG= "DSMAP.CAT"
  A_AXIS_RADIUS = 3396.0
  B_AXIS_RADIUS = 3396.0
  C_AXIS_RADIUS = 3396.0
  CENTER_LATITUDE = 0.0
  CENTER_LONGITUDE = 245.0
  COORDINATE_SYSTEM_NAME = PLANETOGRAPHIC
  COORDINATE_SYSTEM_TYPE = "BODY-FIXED ROTATING"
  EASTERNMOST_LONGITUDE = 246.392
  FIRST_STANDARD_PARALLEL = "N/A"
  LINE_FIRST_PIXEL = 1
  LINE_LAST_PIXEL = 10131
  LINE_PROJECTION_OFFSET = 19903.875
  MAP_PROJECTION_ROTATION = 0.0
  MAP_PROJECTION_TYPE = SINUSOIDAL
  MAP_RESOLUTION = 592.713803866667
  MAP_SCALE = 0.1
  MAXIMUM_LATITUDE = 33.5771
  MINIMUM_LATITUDE = 16.4417
  POSITIVE_LONGITUDE_DIRECTION = EAST
  REFERENCE_LATITUDE = "N/A"
  REFERENCE_LONGITUDE = "N/A"
  SAMPLE_FIRST_PIXEL = 1
  SAMPLE_LAST_PIXEL = 1934
  SAMPLE_PROJECTION_OFFSET = 1147.125
  SECOND_STANDARD_PARALLEL = "N/A"
  WESTERNMOST_LONGITUDE = 242.866
END_OBJECT = IMAGE_MAP_PROJECTION
END
