PDS_VERSION_ID = PDS3
/* FILE DATA ELEMENTS */
RECORD_TYPE = UNDEFINED
/* POINTERS TO DATA OBJECTS */
^IMAGE = ("H2942_0000_S24.TIF")
/* IDENTIFICATION DATA ELEMENTS */
DATA_SET_ID = "MEX-M-HRSC-4-REFDR-MAPPROJECT-EXT1-V4.0"
DATA_SET_NAME = "MARS EXPRESS HRSC MAP PROJECTED REFDR EXTENSION1 V4.0"
DETECTOR_ID = MEX_HRSC_S2
EVENT_TYPE = "MARS-REGIONAL-MAPPING-Vo-Fl"
INSTRUMENT_HOST_ID = MEX
INSTRUMENT_HOST_NAME = "MARS EXPRESS"
INSTRUMENT_ID = HRSC
INSTRUMENT_NAME = "HIGH RESOLUTION STEREO CAMERA"
MISSION_NAME = "MARS EXPRESS"
MISSION_PHASE_NAME = ME_Phase_2
PROCESSING_LEVEL_ID = 4
PRODUCT_CREATION_TIME = 2023-02-09T07:39:13.000Z
PRODUCT_ID = "H2942_0000_S24.TIF"
RELEASE_ID = 0002
REVISION_ID = 0000
/* QUALITY DATA ELEMENTS */
DATA_QUALITY_ID = 1
DATA_QUALITY_DESC = "Data calculated based on original SPICE kernels"
/* TIME DATA ELEMENTS */
SPACECRAFT_CLOCK_START_COUNT = "1/0094129761.07288"
SPACECRAFT_CLOCK_STOP_COUNT = "1/0094130157.11202"
START_TIME = 2006-04-26T11:12:36.436Z
STOP_TIME = 2006-04-26T11:16:00.693Z
/* ORBITAL DATA ELEMENTS */
ASCENDING_NODE_LONGITUDE = 166.53
MAXIMUM_RESOLUTION = 0.044
FOOTPRINT_POINT_LATITUDE = (26.7686,26.7718,26.7746,26.7783, 26.7808,26.7831,26.7849,26.785,26.8416, 26.3969,26.1024,25.8114,25.3778,25.0905 ,24.8059,24.3823,24.1011,23.8229, 23.5459,23.2721,22.9991,22.7285,22.4593 ,22.1926,21.9266,21.6636,21.4003, 21.1412,20.882,20.6258,20.2415,19.9893, 19.7373,19.4881,19.2381,18.9897,18.744, 18.4996,18.2576,18.0165,17.7767,17.3015 ,16.8324,16.4824,16.0229,15.6814, 15.1172,14.6729,14.2332,14.1241,14.115, 14.1124,14.1093,14.1065,14.1045,14.1022 ,14.1021,14.1027,14.4303,14.8738, 15.3203,15.772,16.2308,16.6933,17.1603, 17.3978,17.6354,17.9942,18.2359,18.4773 ,18.7225,19.0903,19.339,19.5877,19.9647 ,20.2169,20.472,20.7282,20.9862,21.246, 21.6386,21.9018,22.1673,22.4341,22.7032 ,22.9735,23.2464,23.5206,23.7974, 24.0749,24.3555,24.7789,25.0636,25.3503 ,25.6373,25.9289,26.2219,26.6646, 26.8139,26.7686)
FOOTPRINT_POINT_LONGITUDE = (313.412,312.951,312.517,311.893,311.46 ,311.026,310.645,310.618,310.59,310.609 ,310.621,310.633,310.651,310.663, 310.674,310.69,310.701,310.711,310.722, 310.731,310.741,310.75,310.76,310.769, 310.777,310.786,310.795,310.803,310.811 ,310.818,310.83,310.838,310.845,310.852 ,310.86,310.867,310.874,310.88,310.887, 310.893,310.899,310.912,310.923,310.932 ,310.943,310.951,310.963,310.973, 310.982,310.985,310.985,311.238,311.618 ,312.107,312.397,312.832,312.85,312.857 ,312.869,312.885,312.902,312.919, 312.937,312.955,312.974,312.983,312.993 ,313.008,313.018,313.028,313.039, 313.055,313.065,313.076,313.093,313.104 ,313.116,313.127,313.139,313.151, 313.169,313.181,313.194,313.207,313.22, 313.233,313.246,313.26,313.274,313.287, 313.302,313.324,313.338,313.353,313.368 ,313.384,313.4,313.424,313.432,313.412)
ORBIT_NUMBER = 2942
ORBITAL_ECCENTRICITY = 0.572
ORBITAL_INCLINATION = 86.63
ORBITAL_SEMIMAJOR_AXIS = 8609.32
PERIAPSIS_ALTITUDE = 288.52
PERIAPSIS_ARGUMENT_ANGLE = 201.5
PERIAPSIS_TIME = 2006-04-26T11:24:30.000Z
SPACECRAFT_ORIENTATION = (0.0,-1.0,0.0)
^MEX_ORIENTATION_DESC = "MEX_ORIENTATION_DESC.TXT"
SPACECRAFT_POINTING_MODE = NADIR
^MEX_POINTING_DESC = "MEX_POINTING_DESC.TXT"
RIGHT_ASCENSION = -1e+32
DECLINATION = -1e+32
OFFSET_ANGLE = -1e+32
SPACECRAFT_SOLAR_DISTANCE = 2.46538e+08
TARGET_NAME = MARS
/* CAMERA DATA ELEMENTS */
DETECTOR_TEMPERATURE = 18.5744
FOCAL_PLANE_TEMPERATURE = 7.7677
INST_CMPRS_NAME = "DISCRETE COSINE TRANSFORMATION (DCT)"
INST_CMPRS_RATIO = 12.7876
INST_CMPRS_QUALITY = 0
INST_CMPRS_QUANTZ_TBL_ID = 0
INSTRUMENT_TEMPERATURE = 11.0301
LENS_TEMPERATURE = 8.5833
MACROPIXEL_SIZE = 2
MISSING_FRAMES = 0
PIXEL_SUBSAMPLING_FLAG = N
SIGNAL_CHAIN_ID = 1
/* RADIOMETRIC DATA ELEMENTS */
BANDWIDTH = 178.0
CENTER_FILTER_WAVELENGTH = 679.0
RADIANCE_OFFSET = 1.9014
RADIANCE_SCALING_FACTOR = 0.00673153
REFLECTANCE_SCALING_FACTOR = 0.000216674
MEX:REFLECTANCE_OFFSET = 0.061202
/* IMAGE OBJECT DEFINITIONS */
OBJECT = IMAGE
  INTERCHANGE_FORMAT = BINARY
  LINES = 15108
  LINE_SAMPLES = 3337
  SAMPLE_TYPE = UNSIGNED_INTEGER
  SAMPLE_BITS = 8
  BANDS = 1
  BAND_STORAGE_TYPE = BAND_SEQUENTIAL
  MAXIMUM = 255
  MEAN = 110.878
  MINIMUM = 1
  STANDARD_DEVIATION = 28.6554
END_OBJECT = IMAGE
/* MAP OBJECT DEFINITIONS */
OBJECT = IMAGE_MAP_PROJECTION
  ^DATA_SET_MAP_PROJECTION_CATALOG= "DSMAP.CAT"
  A_AXIS_RADIUS = 3396.0
  B_AXIS_RADIUS = 3396.0
  C_AXIS_RADIUS = 3396.0
  CENTER_LATITUDE = 0.0
  CENTER_LONGITUDE = 312.0
  COORDINATE_SYSTEM_NAME = PLANETOGRAPHIC
  COORDINATE_SYSTEM_TYPE = "BODY-FIXED ROTATING"
  EASTERNMOST_LONGITUDE = 313.432
  FIRST_STANDARD_PARALLEL = "N/A"
  LINE_FIRST_PIXEL = 1
  LINE_LAST_PIXEL = 15108
  LINE_PROJECTION_OFFSET = 31784.25
  MAP_PROJECTION_ROTATION = 0.0
  MAP_PROJECTION_TYPE = SINUSOIDAL
  MAP_RESOLUTION = 1185.42760773333
  MAP_SCALE = 0.05
  MAXIMUM_LATITUDE = 26.8416
  MINIMUM_LATITUDE = 14.1021
  POSITIVE_LONGITUDE_DIRECTION = EAST
  REFERENCE_LATITUDE = "N/A"
  REFERENCE_LONGITUDE = "N/A"
  SAMPLE_FIRST_PIXEL = 1
  SAMPLE_LAST_PIXEL = 3337
  SAMPLE_PROJECTION_OFFSET = 1660.25
  SECOND_STANDARD_PARALLEL = "N/A"
  WESTERNMOST_LONGITUDE = 310.59
END_OBJECT = IMAGE_MAP_PROJECTION
END
