PDS_VERSION_ID = PDS3
/* FILE DATA ELEMENTS */
RECORD_TYPE = UNDEFINED
/* POINTERS TO DATA OBJECTS */
^IMAGE = ("H2942_0000_S14.TIF")
/* IDENTIFICATION DATA ELEMENTS */
DATA_SET_ID = "MEX-M-HRSC-4-REFDR-MAPPROJECT-EXT1-V4.0"
DATA_SET_NAME = "MARS EXPRESS HRSC MAP PROJECTED REFDR EXTENSION1 V4.0"
DETECTOR_ID = MEX_HRSC_S1
EVENT_TYPE = "MARS-REGIONAL-MAPPING-Vo-Fl"
INSTRUMENT_HOST_ID = MEX
INSTRUMENT_HOST_NAME = "MARS EXPRESS"
INSTRUMENT_ID = HRSC
INSTRUMENT_NAME = "HIGH RESOLUTION STEREO CAMERA"
MISSION_NAME = "MARS EXPRESS"
MISSION_PHASE_NAME = ME_Phase_2
PROCESSING_LEVEL_ID = 4
PRODUCT_CREATION_TIME = 2023-02-09T07:39:13.000Z
PRODUCT_ID = "H2942_0000_S14.TIF"
RELEASE_ID = 0002
REVISION_ID = 0000
/* QUALITY DATA ELEMENTS */
DATA_QUALITY_ID = 1
DATA_QUALITY_DESC = "Data calculated based on original SPICE kernels"
/* TIME DATA ELEMENTS */
SPACECRAFT_CLOCK_START_COUNT = "1/0094129761.07288"
SPACECRAFT_CLOCK_STOP_COUNT = "1/0094130157.11202"
START_TIME = 2006-04-26T11:09:26.718Z
STOP_TIME = 2006-04-26T11:14:06.876Z
/* ORBITAL DATA ELEMENTS */
ASCENDING_NODE_LONGITUDE = 166.53
MAXIMUM_RESOLUTION = 0.0527
FOOTPRINT_POINT_LATITUDE = (26.8133,26.8208,26.8263,26.8309, 26.8363,26.8381,26.8386,26.838,26.8363, 26.8336,26.8298,26.8207,26.8199,26.7601 ,26.3251,26.0361,25.749,25.464,25.1809, 24.8994,24.6193,24.3415,24.0661,23.6534 ,23.3808,23.1097,22.8402,22.5719, 22.3055,22.0401,21.7765,21.5145,21.2538 ,20.9942,20.7363,20.2266,19.8483, 19.3449,18.851,18.4829,17.9967,17.6354, 17.2776,16.9225,16.4527,16.1037,15.6428 ,15.1861,14.8473,14.5108,14.177,14.0664 ,14.0575,14.0581,14.056,14.0528,14.0471 ,14.0399,14.0394,14.0399,14.3728, 14.7083,15.1595,15.6166,16.077,16.4256, 16.8953,17.2503,17.6076,17.9678,18.4543 ,18.9458,19.4428,19.9457,20.1994, 20.5824,20.8388,21.0969,21.3571,21.6186 ,21.8814,22.1457,22.4115,22.6793, 22.9488,23.2195,23.4916,23.7657,24.0413 ,24.3183,24.5968,24.8771,25.1593, 25.4435,25.7292,26.0161,26.3051,26.5957 ,26.7417,26.8133)
FOOTPRINT_POINT_LONGITUDE = (313.864,313.542,313.257,312.972, 312.473,312.152,311.867,311.582,311.298 ,311.012,310.727,310.227,310.191,310.16 ,310.192,310.212,310.232,310.251,310.27 ,310.288,310.306,310.324,310.342, 310.367,310.383,310.399,310.414,310.43, 310.445,310.459,310.473,310.487,310.501 ,310.514,310.527,310.552,310.571, 310.594,310.617,310.633,310.654,310.669 ,310.684,310.699,310.717,310.73,310.747 ,310.764,310.776,310.787,310.799, 310.803,310.803,311.193,311.757,312.104 ,312.646,313.015,313.037,313.045, 313.061,313.078,313.101,313.125,313.15, 313.169,313.194,313.214,313.235,313.256 ,313.285,313.315,313.345,313.377, 313.393,313.418,313.435,313.452,313.47, 313.488,313.506,313.524,313.543,313.562 ,313.581,313.601,313.621,313.642, 313.663,313.684,313.706,313.728,313.75, 313.773,313.796,313.82,313.845,313.869, 313.882,313.864)
ORBIT_NUMBER = 2942
ORBITAL_ECCENTRICITY = 0.572
ORBITAL_INCLINATION = 86.63
ORBITAL_SEMIMAJOR_AXIS = 8609.32
PERIAPSIS_ALTITUDE = 288.52
PERIAPSIS_ARGUMENT_ANGLE = 201.5
PERIAPSIS_TIME = 2006-04-26T11:24:30.000Z
SPACECRAFT_ORIENTATION = (0.0,-1.0,0.0)
^MEX_ORIENTATION_DESC = "MEX_ORIENTATION_DESC.TXT"
SPACECRAFT_POINTING_MODE = NADIR
^MEX_POINTING_DESC = "MEX_POINTING_DESC.TXT"
RIGHT_ASCENSION = -1e+32
DECLINATION = -1e+32
OFFSET_ANGLE = -1e+32
SPACECRAFT_SOLAR_DISTANCE = 2.46538e+08
TARGET_NAME = MARS
/* CAMERA DATA ELEMENTS */
DETECTOR_TEMPERATURE = 17.5549
FOCAL_PLANE_TEMPERATURE = 7.7677
INST_CMPRS_NAME = "DISCRETE COSINE TRANSFORMATION (DCT)"
INST_CMPRS_RATIO = 13.3992
INST_CMPRS_QUALITY = 0
INST_CMPRS_QUANTZ_TBL_ID = 0
INSTRUMENT_TEMPERATURE = 11.0301
LENS_TEMPERATURE = 8.5833
MACROPIXEL_SIZE = 2
MISSING_FRAMES = 0
PIXEL_SUBSAMPLING_FLAG = N
SIGNAL_CHAIN_ID = 1
/* RADIOMETRIC DATA ELEMENTS */
BANDWIDTH = 180.0
CENTER_FILTER_WAVELENGTH = 677.0
RADIANCE_OFFSET = 2.0427
RADIANCE_SCALING_FACTOR = 0.00640846
REFLECTANCE_SCALING_FACTOR = 0.000203217
MEX:REFLECTANCE_OFFSET = 0.0647753
/* IMAGE OBJECT DEFINITIONS */
OBJECT = IMAGE
  INTERCHANGE_FORMAT = BINARY
  LINES = 15108
  LINE_SAMPLES = 3337
  SAMPLE_TYPE = UNSIGNED_INTEGER
  SAMPLE_BITS = 8
  BANDS = 1
  BAND_STORAGE_TYPE = BAND_SEQUENTIAL
  MAXIMUM = 255
  MEAN = 114.707
  MINIMUM = 1
  STANDARD_DEVIATION = 29.8088
END_OBJECT = IMAGE
/* MAP OBJECT DEFINITIONS */
OBJECT = IMAGE_MAP_PROJECTION
  ^DATA_SET_MAP_PROJECTION_CATALOG= "DSMAP.CAT"
  A_AXIS_RADIUS = 3396.0
  B_AXIS_RADIUS = 3396.0
  C_AXIS_RADIUS = 3396.0
  CENTER_LATITUDE = 0.0
  CENTER_LONGITUDE = 312.0
  COORDINATE_SYSTEM_NAME = PLANETOGRAPHIC
  COORDINATE_SYSTEM_TYPE = "BODY-FIXED ROTATING"
  EASTERNMOST_LONGITUDE = 313.882
  FIRST_STANDARD_PARALLEL = "N/A"
  LINE_FIRST_PIXEL = 1
  LINE_LAST_PIXEL = 15108
  LINE_PROJECTION_OFFSET = 31784.25
  MAP_PROJECTION_ROTATION = 0.0
  MAP_PROJECTION_TYPE = SINUSOIDAL
  MAP_RESOLUTION = 1185.42760773333
  MAP_SCALE = 0.05
  MAXIMUM_LATITUDE = 26.8386
  MINIMUM_LATITUDE = 14.0394
  POSITIVE_LONGITUDE_DIRECTION = EAST
  REFERENCE_LATITUDE = "N/A"
  REFERENCE_LONGITUDE = "N/A"
  SAMPLE_FIRST_PIXEL = 1
  SAMPLE_LAST_PIXEL = 3337
  SAMPLE_PROJECTION_OFFSET = 1660.25
  SECOND_STANDARD_PARALLEL = "N/A"
  WESTERNMOST_LONGITUDE = 310.16
END_OBJECT = IMAGE_MAP_PROJECTION
END
