PDS_VERSION_ID = PDS3
/* FILE DATA ELEMENTS */
RECORD_TYPE = UNDEFINED
/* POINTERS TO DATA OBJECTS */
^IMAGE = ("H2941_0000_S24.TIF")
/* IDENTIFICATION DATA ELEMENTS */
DATA_SET_ID = "MEX-M-HRSC-4-REFDR-MAPPROJECT-EXT1-V4.0"
DATA_SET_NAME = "MARS EXPRESS HRSC MAP PROJECTED REFDR EXTENSION1 V4.0"
DETECTOR_ID = MEX_HRSC_S2
EVENT_TYPE = "MARS-REGIONAL-MAPPING-Im"
INSTRUMENT_HOST_ID = MEX
INSTRUMENT_HOST_NAME = "MARS EXPRESS"
INSTRUMENT_ID = HRSC
INSTRUMENT_NAME = "HIGH RESOLUTION STEREO CAMERA"
MISSION_NAME = "MARS EXPRESS"
MISSION_PHASE_NAME = ME_Phase_2
PROCESSING_LEVEL_ID = 4
PRODUCT_CREATION_TIME = 2023-02-09T07:39:13.000Z
PRODUCT_ID = "H2941_0000_S24.TIF"
RELEASE_ID = 0002
REVISION_ID = 0000
/* QUALITY DATA ELEMENTS */
DATA_QUALITY_ID = 1
DATA_QUALITY_DESC = "Data calculated based on original SPICE kernels"
/* TIME DATA ELEMENTS */
SPACECRAFT_CLOCK_START_COUNT = "1/0094105210.09043"
SPACECRAFT_CLOCK_STOP_COUNT = "1/0094105817.55136"
START_TIME = 2006-04-26T04:25:48.073Z
STOP_TIME = 2006-04-26T04:30:21.385Z
/* ORBITAL DATA ELEMENTS */
ASCENDING_NODE_LONGITUDE = 166.56
MAXIMUM_RESOLUTION = 0.0558
FOOTPRINT_POINT_LATITUDE = (39.2357,39.2415,39.2448,39.2464, 39.2465,39.2448,39.2403,39.2399,39.2966 ,38.9124,38.5321,38.1556,37.7822, 37.4116,37.0446,36.6807,36.3195,35.9642 ,35.6079,35.2563,34.9079,34.5614, 34.2189,33.878,33.5461,33.2087,32.8731, 32.5438,32.2166,31.8918,31.4061,31.0864 ,30.7676,30.4531,30.1401,29.83,29.3677, 29.0625,28.7596,28.4593,28.1602,27.8617 ,27.5661,26.9779,26.4007,25.7013,25.143 ,24.5903,24.1789,23.4966,23.3639, 23.3454,23.3418,23.3383,23.3384,23.3332 ,23.333,23.3338,23.8676,24.4085,24.9572 ,25.6565,26.0801,26.6537,27.0886, 27.6726,27.9708,28.4202,28.7203,29.0239 ,29.4838,29.7913,30.1015,30.4157,30.73, 31.0472,31.3643,31.6921,32.182,32.5099, 32.8337,33.1659,33.5106,33.8421,34.1842 ,34.5269,34.8733,35.2234,35.5756, 35.9315,36.2898,36.6506,37.0131,37.3796 ,37.7529,38.1245,38.5025,39.073,39.266, 39.2357)
FOOTPRINT_POINT_LONGITUDE = (52.5338,51.759,51.0714,50.3841,49.6977 ,49.0104,48.1485,48.1053,48.0676,48.103 ,48.1369,48.1696,48.2014,48.2322, 48.2618,48.2906,48.3186,48.3444,48.3711 ,48.3963,48.4206,48.4445,48.4674, 48.4899,48.5094,48.5314,48.553,48.5727, 48.5919,48.6108,48.639,48.6571,48.6751, 48.692,48.7086,48.7248,48.7485,48.7637, 48.7785,48.793,48.8073,48.8215,48.8356, 48.8631,48.8887,48.9156,48.9382,48.9603 ,48.9769,49.005,49.0097,49.0105,49.4234 ,50.1269,50.564,51.488,51.5124,51.5212, 51.5478,51.5754,51.6039,51.6416,51.6646 ,51.6968,51.7213,51.7538,51.7716, 51.7982,51.8156,51.8338,51.8616,51.8799 ,51.8988,51.9185,51.9378,51.9577, 51.9772,51.9998,52.0323,52.0536,52.0729 ,52.0948,52.121,52.1415,52.1657,52.1894 ,52.2139,52.2393,52.265,52.2914,52.3182 ,52.3455,52.3728,52.4011,52.4315, 52.4607,52.4919,52.5386,52.5552, 52.5338)
ORBIT_NUMBER = 2941
ORBITAL_ECCENTRICITY = 0.573
ORBITAL_INCLINATION = 86.62
ORBITAL_SEMIMAJOR_AXIS = 8615.56
PERIAPSIS_ALTITUDE = 287.9
PERIAPSIS_ARGUMENT_ANGLE = 201.69
PERIAPSIS_TIME = 2006-04-26T04:41:21.000Z
SPACECRAFT_ORIENTATION = (0.0,-1.0,0.0)
^MEX_ORIENTATION_DESC = "MEX_ORIENTATION_DESC.TXT"
SPACECRAFT_POINTING_MODE = NADIR
^MEX_POINTING_DESC = "MEX_POINTING_DESC.TXT"
RIGHT_ASCENSION = -1e+32
DECLINATION = -1e+32
OFFSET_ANGLE = -1e+32
SPACECRAFT_SOLAR_DISTANCE = 2.46513e+08
TARGET_NAME = MARS
/* CAMERA DATA ELEMENTS */
DETECTOR_TEMPERATURE = 18.5744
FOCAL_PLANE_TEMPERATURE = 7.7677
INST_CMPRS_NAME = "DISCRETE COSINE TRANSFORMATION (DCT)"
INST_CMPRS_RATIO = 8.18846
INST_CMPRS_QUALITY = 0
INST_CMPRS_QUANTZ_TBL_ID = 0
INSTRUMENT_TEMPERATURE = 11.234
LENS_TEMPERATURE = 8.1755
MACROPIXEL_SIZE = 2
MISSING_FRAMES = 0
PIXEL_SUBSAMPLING_FLAG = N
SIGNAL_CHAIN_ID = 1
/* RADIOMETRIC DATA ELEMENTS */
BANDWIDTH = 178.0
CENTER_FILTER_WAVELENGTH = 679.0
RADIANCE_OFFSET = 1.6472
RADIANCE_SCALING_FACTOR = 0.019648
REFLECTANCE_SCALING_FACTOR = 0.0006323
MEX:REFLECTANCE_OFFSET = 0.0530093
/* IMAGE OBJECT DEFINITIONS */
OBJECT = IMAGE
  INTERCHANGE_FORMAT = BINARY
  LINES = 18955
  LINE_SAMPLES = 4735
  SAMPLE_TYPE = UNSIGNED_INTEGER
  SAMPLE_BITS = 8
  BANDS = 1
  BAND_STORAGE_TYPE = BAND_SEQUENTIAL
  MAXIMUM = 255
  MEAN = 87.4306
  MINIMUM = 1
  STANDARD_DEVIATION = 23.5364
END_OBJECT = IMAGE
/* MAP OBJECT DEFINITIONS */
OBJECT = IMAGE_MAP_PROJECTION
  ^DATA_SET_MAP_PROJECTION_CATALOG= "DSMAP.CAT"
  A_AXIS_RADIUS = 3396.0
  B_AXIS_RADIUS = 3396.0
  C_AXIS_RADIUS = 3396.0
  CENTER_LATITUDE = 0.0
  CENTER_LONGITUDE = 50.0
  COORDINATE_SYSTEM_NAME = PLANETOGRAPHIC
  COORDINATE_SYSTEM_TYPE = "BODY-FIXED ROTATING"
  EASTERNMOST_LONGITUDE = 52.5552
  FIRST_STANDARD_PARALLEL = "N/A"
  LINE_FIRST_PIXEL = 1
  LINE_LAST_PIXEL = 18955
  LINE_PROJECTION_OFFSET = 46613.75
  MAP_PROJECTION_ROTATION = 0.0
  MAP_PROJECTION_TYPE = SINUSOIDAL
  MAP_RESOLUTION = 1185.42760773333
  MAP_SCALE = 0.05
  MAXIMUM_LATITUDE = 39.2966
  MINIMUM_LATITUDE = 23.333
  POSITIVE_LONGITUDE_DIRECTION = EAST
  REFERENCE_LATITUDE = "N/A"
  REFERENCE_LONGITUDE = "N/A"
  SAMPLE_FIRST_PIXEL = 1
  SAMPLE_LAST_PIXEL = 4735
  SAMPLE_PROJECTION_OFFSET = 2092.75
  SECOND_STANDARD_PARALLEL = "N/A"
  WESTERNMOST_LONGITUDE = 48.0676
END_OBJECT = IMAGE_MAP_PROJECTION
END
