PDS_VERSION_ID = PDS3
/* FILE DATA ELEMENTS */
RECORD_TYPE = UNDEFINED
/* POINTERS TO DATA OBJECTS */
^IMAGE = ("H2941_0000_ND4.TIF")
/* IDENTIFICATION DATA ELEMENTS */
DATA_SET_ID = "MEX-M-HRSC-4-REFDR-MAPPROJECT-EXT1-V4.0"
DATA_SET_NAME = "MARS EXPRESS HRSC MAP PROJECTED REFDR EXTENSION1 V4.0"
DETECTOR_ID = MEX_HRSC_NADIR
EVENT_TYPE = "MARS-REGIONAL-MAPPING-Im"
INSTRUMENT_HOST_ID = MEX
INSTRUMENT_HOST_NAME = "MARS EXPRESS"
INSTRUMENT_ID = HRSC
INSTRUMENT_NAME = "HIGH RESOLUTION STEREO CAMERA"
MISSION_NAME = "MARS EXPRESS"
MISSION_PHASE_NAME = ME_Phase_2
PROCESSING_LEVEL_ID = 4
PRODUCT_CREATION_TIME = 2023-02-09T07:39:13.000Z
PRODUCT_ID = "H2941_0000_ND4.TIF"
RELEASE_ID = 0002
REVISION_ID = 0000
/* QUALITY DATA ELEMENTS */
DATA_QUALITY_ID = 1
DATA_QUALITY_DESC = "Data calculated based on original SPICE kernels"
/* TIME DATA ELEMENTS */
SPACECRAFT_CLOCK_START_COUNT = "1/0094105210.09043"
SPACECRAFT_CLOCK_STOP_COUNT = "1/0094105817.55136"
START_TIME = 2006-04-26T04:23:41.605Z
STOP_TIME = 2006-04-26T04:29:10.639Z
/* ORBITAL DATA ELEMENTS */
ASCENDING_NODE_LONGITUDE = 166.56
MAXIMUM_RESOLUTION = 0.029
FOOTPRINT_POINT_LATITUDE = (39.3005,39.308,39.3167,39.3195,39.3194 ,39.3152,39.3059,39.2847,39.2834, 39.2828,38.9513,38.6182,38.2835,37.9473 ,37.6095,37.2701,36.9291,36.5865, 36.2424,35.8966,35.5493,35.2004,34.8498 ,34.3234,33.9756,33.6306,33.288,32.9477 ,32.6099,32.2745,31.9418,31.6112, 31.2834,30.9578,30.6342,30.3131,29.9944 ,29.6778,29.0512,28.4333,27.8243, 27.2232,26.63,26.0459,25.469,24.8999, 24.3375,23.9209,23.508,23.3718,23.3498, 23.3504,23.3501,23.3486,23.3435,23.335, 23.3346,23.3348,23.8838,24.44,24.8624, 25.4317,26.0085,26.5931,27.1863,27.7876 ,28.3968,29.0154,29.3278,29.6424, 29.9592,30.2782,30.5997,30.9236,31.2496 ,31.5779,31.9089,32.2422,32.5778, 32.9162,33.2572,33.6006,33.9462,34.2946 ,34.646,34.9985,35.3494,35.6988,36.0466 ,36.3929,36.7376,37.0808,37.4224, 37.7626,38.1012,38.4382,38.7738,39.1078 ,39.2743,39.3005)
FOOTPRINT_POINT_LONGITUDE = (52.8556,52.4006,51.5939,51.0897, 50.2838,49.6298,48.8744,47.8136,47.7631 ,47.7176,47.7556,47.7929,47.829,47.8653 ,47.9004,47.9354,47.9693,48.0027, 48.0356,48.0681,48.0992,48.1303,48.1607 ,48.2047,48.2339,48.2613,48.2877, 48.3142,48.3392,48.364,48.3883,48.4122, 48.4353,48.458,48.4801,48.5014,48.5222, 48.5424,48.5817,48.6183,48.6547,48.6895 ,48.7229,48.7508,48.7796,48.8079, 48.8353,48.8555,48.8768,48.8826,48.8834 ,49.238,49.728,50.1629,50.8709,51.6068, 51.6341,51.6475,51.6791,51.7118,51.7371 ,51.7724,51.8085,51.8464,51.8852,51.925 ,51.9668,52.0098,52.0315,52.0538, 52.0763,52.0998,52.123,52.1469,52.1708, 52.1961,52.2231,52.2488,52.2734,52.2986 ,52.3288,52.3568,52.3834,52.4126, 52.4422,52.472,52.5025,52.5334,52.5646, 52.5959,52.6274,52.6591,52.691,52.7242, 52.7574,52.7901,52.8238,52.8576,52.8747 ,52.8556)
ORBIT_NUMBER = 2941
ORBITAL_ECCENTRICITY = 0.573
ORBITAL_INCLINATION = 86.62
ORBITAL_SEMIMAJOR_AXIS = 8615.56
PERIAPSIS_ALTITUDE = 287.9
PERIAPSIS_ARGUMENT_ANGLE = 201.69
PERIAPSIS_TIME = 2006-04-26T04:41:21.000Z
SPACECRAFT_ORIENTATION = (0.0,-1.0,0.0)
^MEX_ORIENTATION_DESC = "MEX_ORIENTATION_DESC.TXT"
SPACECRAFT_POINTING_MODE = NADIR
^MEX_POINTING_DESC = "MEX_POINTING_DESC.TXT"
RIGHT_ASCENSION = -1e+32
DECLINATION = -1e+32
OFFSET_ANGLE = -1e+32
SPACECRAFT_SOLAR_DISTANCE = 2.46513e+08
TARGET_NAME = MARS
/* CAMERA DATA ELEMENTS */
DETECTOR_TEMPERATURE = 17.9627
FOCAL_PLANE_TEMPERATURE = 7.7677
INST_CMPRS_NAME = "DISCRETE COSINE TRANSFORMATION (DCT)"
INST_CMPRS_RATIO = 5.76937
INST_CMPRS_QUALITY = 0
INST_CMPRS_QUANTZ_TBL_ID = 0
INSTRUMENT_TEMPERATURE = 11.234
LENS_TEMPERATURE = 8.1755
MACROPIXEL_SIZE = 1
MISSING_FRAMES = 0
PIXEL_SUBSAMPLING_FLAG = N
SIGNAL_CHAIN_ID = 0
/* RADIOMETRIC DATA ELEMENTS */
BANDWIDTH = 177.0
CENTER_FILTER_WAVELENGTH = 677.5
RADIANCE_OFFSET = 1.42518
RADIANCE_SCALING_FACTOR = 0.0202599
REFLECTANCE_SCALING_FACTOR = 0.000654029
MEX:REFLECTANCE_OFFSET = 0.0460076
/* IMAGE OBJECT DEFINITIONS */
OBJECT = IMAGE
  INTERCHANGE_FORMAT = BINARY
  LINES = 37910
  LINE_SAMPLES = 9469
  SAMPLE_TYPE = UNSIGNED_INTEGER
  SAMPLE_BITS = 8
  BANDS = 1
  BAND_STORAGE_TYPE = BAND_SEQUENTIAL
  MAXIMUM = 255
  MEAN = 84.4956
  MINIMUM = 1
  STANDARD_DEVIATION = 23.4057
END_OBJECT = IMAGE
/* MAP OBJECT DEFINITIONS */
OBJECT = IMAGE_MAP_PROJECTION
  ^DATA_SET_MAP_PROJECTION_CATALOG= "DSMAP.CAT"
  A_AXIS_RADIUS = 3396.0
  B_AXIS_RADIUS = 3396.0
  C_AXIS_RADIUS = 3396.0
  CENTER_LATITUDE = 0.0
  CENTER_LONGITUDE = 50.0
  COORDINATE_SYSTEM_NAME = PLANETOGRAPHIC
  COORDINATE_SYSTEM_TYPE = "BODY-FIXED ROTATING"
  EASTERNMOST_LONGITUDE = 52.8747
  FIRST_STANDARD_PARALLEL = "N/A"
  LINE_FIRST_PIXEL = 1
  LINE_LAST_PIXEL = 37910
  LINE_PROJECTION_OFFSET = 93228.0
  MAP_PROJECTION_ROTATION = 0.0
  MAP_PROJECTION_TYPE = SINUSOIDAL
  MAP_RESOLUTION = 2370.85521546667
  MAP_SCALE = 0.025
  MAXIMUM_LATITUDE = 39.3195
  MINIMUM_LATITUDE = 23.3346
  POSITIVE_LONGITUDE_DIRECTION = EAST
  REFERENCE_LATITUDE = "N/A"
  REFERENCE_LONGITUDE = "N/A"
  SAMPLE_FIRST_PIXEL = 1
  SAMPLE_LAST_PIXEL = 9469
  SAMPLE_PROJECTION_OFFSET = 4186.0
  SECOND_STANDARD_PARALLEL = "N/A"
  WESTERNMOST_LONGITUDE = 47.7176
END_OBJECT = IMAGE_MAP_PROJECTION
END
