PDS_VERSION_ID = PDS3
/* FILE DATA ELEMENTS */
RECORD_TYPE = UNDEFINED
/* POINTERS TO DATA OBJECTS */
^IMAGE = ("H2940_0000_S24.TIF")
/* IDENTIFICATION DATA ELEMENTS */
DATA_SET_ID = "MEX-M-HRSC-4-REFDR-MAPPROJECT-EXT1-V4.0"
DATA_SET_NAME = "MARS EXPRESS HRSC MAP PROJECTED REFDR EXTENSION1 V4.0"
DETECTOR_ID = MEX_HRSC_S2
EVENT_TYPE = "MARS-REGIONAL-MAPPING-Vo-Fl-Eo"
INSTRUMENT_HOST_ID = MEX
INSTRUMENT_HOST_NAME = "MARS EXPRESS"
INSTRUMENT_ID = HRSC
INSTRUMENT_NAME = "HIGH RESOLUTION STEREO CAMERA"
MISSION_NAME = "MARS EXPRESS"
MISSION_PHASE_NAME = ME_Phase_2
PROCESSING_LEVEL_ID = 4
PRODUCT_CREATION_TIME = 2023-02-09T07:39:13.000Z
PRODUCT_ID = "H2940_0000_S24.TIF"
RELEASE_ID = 0002
REVISION_ID = 0000
/* QUALITY DATA ELEMENTS */
DATA_QUALITY_ID = 1
DATA_QUALITY_DESC = "Data calculated based on original SPICE kernels"
/* TIME DATA ELEMENTS */
SPACECRAFT_CLOCK_START_COUNT = "1/0094081512.08260"
SPACECRAFT_CLOCK_STOP_COUNT = "1/0094081846.47416"
START_TIME = 2006-04-25T21:47:49.398Z
STOP_TIME = 2006-04-25T21:50:50.240Z
/* ORBITAL DATA ELEMENTS */
ASCENDING_NODE_LONGITUDE = 166.57
MAXIMUM_RESOLUTION = 0.0394
FOOTPRINT_POINT_LATITUDE = (21.0262,21.0261,21.0261,21.0262, 21.0266,21.0269,21.0273,21.0273,21.034, 20.6409,20.3772,20.1169,19.8579,19.6019 ,19.3456,19.0934,18.8407,18.4653, 18.0909,17.7225,17.4769,17.2357,16.9948 ,16.755,16.5182,16.2809,16.0461,15.6971 ,15.4644,15.2358,15.0064,14.7777, 14.5528,14.3272,14.1022,13.881,13.5491, 13.3288,13.1119,12.8945,12.5698,12.1428 ,11.8238,11.4048,11.0909,10.6794,10.067 ,9.66415,9.56315,9.54283,9.54288, 9.54317,9.54415,9.54534,9.54671,9.54775 ,9.54786,9.54849,9.85098,10.1532, 10.6641,11.0752,11.5986,11.9127,12.1262 ,12.4464,12.7688,12.9863,13.203,13.5317 ,13.7532,14.0857,14.3096,14.5349, 14.7606,14.9884,15.2175,15.4469,15.6794 ,15.9122,16.1451,16.3817,16.619,16.9772 ,17.218,17.5793,17.8196,18.0611,18.3015 ,18.545,18.795,19.0501,19.3068,19.5703, 19.8384,20.0977,20.4871,20.8821,21.0131 ,21.0262)
FOOTPRINT_POINT_LONGITUDE = (149.886,149.364,149.002,148.641, 148.281,147.966,147.584,147.561,147.552 ,147.563,147.571,147.578,147.585, 147.592,147.599,147.605,147.612,147.622 ,147.631,147.64,147.646,147.652,147.657 ,147.663,147.668,147.673,147.678, 147.686,147.691,147.695,147.7,147.704, 147.709,147.713,147.718,147.722,147.728 ,147.732,147.736,147.74,147.746,147.753 ,147.758,147.765,147.771,147.777, 147.787,147.793,147.794,147.795,148.081 ,148.304,148.703,148.927,149.184, 149.425,149.441,149.447,149.457,149.466 ,149.483,149.496,149.513,149.524, 149.531,149.542,149.553,149.561,149.568 ,149.58,149.588,149.6,149.608,149.617, 149.625,149.634,149.642,149.651,149.66, 149.669,149.678,149.688,149.697,149.712 ,149.721,149.736,149.744,149.753, 149.761,149.77,149.78,149.793,149.805, 149.82,149.836,149.848,149.866,149.884, 149.89,149.886)
ORBIT_NUMBER = 2940
ORBITAL_ECCENTRICITY = 0.572
ORBITAL_INCLINATION = 86.62
ORBITAL_SEMIMAJOR_AXIS = 8610.55
PERIAPSIS_ALTITUDE = 288.63
PERIAPSIS_ARGUMENT_ANGLE = 201.86
PERIAPSIS_TIME = 2006-04-25T21:58:14.000Z
SPACECRAFT_ORIENTATION = (0.0,-1.0,0.0)
^MEX_ORIENTATION_DESC = "MEX_ORIENTATION_DESC.TXT"
SPACECRAFT_POINTING_MODE = ACROSSTRACK
^MEX_POINTING_DESC = "MEX_POINTING_DESC.TXT"
RIGHT_ASCENSION = -1e+32
DECLINATION = -1e+32
OFFSET_ANGLE = 0.2
SPACECRAFT_SOLAR_DISTANCE = 2.46488e+08
TARGET_NAME = MARS
/* CAMERA DATA ELEMENTS */
DETECTOR_TEMPERATURE = 18.3705
FOCAL_PLANE_TEMPERATURE = 7.7677
INST_CMPRS_NAME = "DISCRETE COSINE TRANSFORMATION (DCT)"
INST_CMPRS_RATIO = 10.6777
INST_CMPRS_QUALITY = 0
INST_CMPRS_QUANTZ_TBL_ID = 0
INSTRUMENT_TEMPERATURE = 11.234
LENS_TEMPERATURE = 8.1755
MACROPIXEL_SIZE = 2
MISSING_FRAMES = 0
PIXEL_SUBSAMPLING_FLAG = N
SIGNAL_CHAIN_ID = 1
/* RADIOMETRIC DATA ELEMENTS */
BANDWIDTH = 178.0
CENTER_FILTER_WAVELENGTH = 679.0
RADIANCE_OFFSET = 1.38484
RADIANCE_SCALING_FACTOR = 0.0132227
REFLECTANCE_SCALING_FACTOR = 0.00042544
MEX:REFLECTANCE_OFFSET = 0.0445573
/* IMAGE OBJECT DEFINITIONS */
OBJECT = IMAGE
  INTERCHANGE_FORMAT = BINARY
  LINES = 13668
  LINE_SAMPLES = 2835
  SAMPLE_TYPE = UNSIGNED_INTEGER
  SAMPLE_BITS = 8
  BANDS = 1
  BAND_STORAGE_TYPE = BAND_SEQUENTIAL
  MAXIMUM = 254
  MEAN = 80.8387
  MINIMUM = 1
  STANDARD_DEVIATION = 24.9325
END_OBJECT = IMAGE
/* MAP OBJECT DEFINITIONS */
OBJECT = IMAGE_MAP_PROJECTION
  ^DATA_SET_MAP_PROJECTION_CATALOG= "DSMAP.CAT"
  A_AXIS_RADIUS = 3396.0
  B_AXIS_RADIUS = 3396.0
  C_AXIS_RADIUS = 3396.0
  CENTER_LATITUDE = 0.0
  CENTER_LONGITUDE = 149.0
  COORDINATE_SYSTEM_NAME = PLANETOGRAPHIC
  COORDINATE_SYSTEM_TYPE = "BODY-FIXED ROTATING"
  EASTERNMOST_LONGITUDE = 149.89
  FIRST_STANDARD_PARALLEL = "N/A"
  LINE_FIRST_PIXEL = 1
  LINE_LAST_PIXEL = 13668
  LINE_PROJECTION_OFFSET = 24954.25
  MAP_PROJECTION_ROTATION = 0.0
  MAP_PROJECTION_TYPE = SINUSOIDAL
  MAP_RESOLUTION = 1185.42760773333
  MAP_SCALE = 0.05
  MAXIMUM_LATITUDE = 21.034
  MINIMUM_LATITUDE = 9.54283
  POSITIVE_LONGITUDE_DIRECTION = EAST
  REFERENCE_LATITUDE = "N/A"
  REFERENCE_LONGITUDE = "N/A"
  SAMPLE_FIRST_PIXEL = 1
  SAMPLE_LAST_PIXEL = 2835
  SAMPLE_PROJECTION_OFFSET = 1730.25
  SECOND_STANDARD_PARALLEL = "N/A"
  WESTERNMOST_LONGITUDE = 147.552
END_OBJECT = IMAGE_MAP_PROJECTION
END
