PDS_VERSION_ID = PDS3
/* FILE DATA ELEMENTS */
RECORD_TYPE = UNDEFINED
/* POINTERS TO DATA OBJECTS */
^IMAGE = ("H2939_0000_S24.TIF")
/* IDENTIFICATION DATA ELEMENTS */
DATA_SET_ID = "MEX-M-HRSC-4-REFDR-MAPPROJECT-EXT1-V4.0"
DATA_SET_NAME = "MARS EXPRESS HRSC MAP PROJECTED REFDR EXTENSION1 V4.0"
DETECTOR_ID = MEX_HRSC_S2
EVENT_TYPE = "MARS-REGIONAL-MAPPING-Vo-Te-Eo"
INSTRUMENT_HOST_ID = MEX
INSTRUMENT_HOST_NAME = "MARS EXPRESS"
INSTRUMENT_ID = HRSC
INSTRUMENT_NAME = "HIGH RESOLUTION STEREO CAMERA"
MISSION_NAME = "MARS EXPRESS"
MISSION_PHASE_NAME = ME_Phase_2
PROCESSING_LEVEL_ID = 4
PRODUCT_CREATION_TIME = 2023-02-09T07:39:13.000Z
PRODUCT_ID = "H2939_0000_S24.TIF"
RELEASE_ID = 0002
REVISION_ID = 0000
/* QUALITY DATA ELEMENTS */
DATA_QUALITY_ID = 1
DATA_QUALITY_DESC = "Data calculated based on original SPICE kernels"
/* TIME DATA ELEMENTS */
SPACECRAFT_CLOCK_START_COUNT = "1/0094056920.08255"
SPACECRAFT_CLOCK_STOP_COUNT = "1/0094057448.46684"
START_TIME = 2006-04-25T15:00:19.136Z
STOP_TIME = 2006-04-25T15:04:12.257Z
/* ORBITAL DATA ELEMENTS */
ASCENDING_NODE_LONGITUDE = 166.6
MAXIMUM_RESOLUTION = 0.0548
FOOTPRINT_POINT_LATITUDE = (36.1788,36.1834,36.1875,36.1898, 36.1911,36.1912,36.1896,36.1894,36.1987 ,35.7186,35.4009,35.0858,34.7724, 34.4619,34.1531,33.8468,33.5424,33.0883 ,32.7893,32.4918,32.1954,31.902,31.6101 ,31.3201,31.031,30.7454,30.4606,30.178, 29.8989,29.4808,29.2042,28.9295,28.6569 ,28.3857,28.1172,27.7162,27.4503, 27.1873,26.9248,26.6648,26.2777,26.0214 ,25.7674,25.2633,24.8891,24.2726, 23.7861,23.1854,22.5934,22.4758,22.4612 ,22.4568,22.4519,22.4489,22.4451, 22.4413,22.4411,22.4418,22.7948,23.2697 ,23.7506,24.2365,24.7284,25.3524, 25.8574,26.2405,26.4974,26.7573,27.1482 ,27.4102,27.6751,28.077,28.4806,28.7491 ,29.0245,29.3008,29.5756,29.8546, 30.1374,30.4211,30.7075,30.9931,31.2816 ,31.5719,31.8638,32.158,32.4538,32.7517 ,33.0508,33.3524,33.6572,33.963,34.2716 ,34.5814,34.8942,35.2087,35.5253, 36.0053,36.1664,36.1788)
FOOTPRINT_POINT_LONGITUDE = (248.852,248.273,247.54,246.924,246.308 ,245.691,244.918,244.879,244.863, 244.898,244.921,244.943,244.965,244.986 ,245.007,245.027,245.046,245.075, 245.094,245.112,245.129,245.147,245.164 ,245.18,245.197,245.213,245.228,245.243 ,245.258,245.279,245.294,245.307, 245.321,245.334,245.346,245.365,245.377 ,245.389,245.401,245.412,245.429,245.44 ,245.45,245.471,245.486,245.509,245.527 ,245.549,245.569,245.574,245.574, 246.072,246.639,247.018,247.491,247.988 ,248.011,248.02,248.037,248.061,248.085 ,248.109,248.135,248.168,248.195, 248.216,248.23,248.244,248.266,248.28, 248.295,248.319,248.342,248.357,248.374 ,248.391,248.407,248.424,248.442,248.46 ,248.479,248.497,248.515,248.534, 248.553,248.573,248.592,248.612,248.632 ,248.653,248.674,248.695,248.716, 248.738,248.761,248.783,248.806,248.842 ,248.854,248.852)
ORBIT_NUMBER = 2939
ORBITAL_ECCENTRICITY = 0.573
ORBITAL_INCLINATION = 86.61
ORBITAL_SEMIMAJOR_AXIS = 8620.59
PERIAPSIS_ALTITUDE = 288.05
PERIAPSIS_ARGUMENT_ANGLE = 202.04
PERIAPSIS_TIME = 2006-04-25T15:15:03.000Z
SPACECRAFT_ORIENTATION = (0.0,-1.0,0.0)
^MEX_ORIENTATION_DESC = "MEX_ORIENTATION_DESC.TXT"
SPACECRAFT_POINTING_MODE = NADIR
^MEX_POINTING_DESC = "MEX_POINTING_DESC.TXT"
RIGHT_ASCENSION = -1e+32
DECLINATION = -1e+32
OFFSET_ANGLE = -1e+32
SPACECRAFT_SOLAR_DISTANCE = 2.46464e+08
TARGET_NAME = MARS
/* CAMERA DATA ELEMENTS */
DETECTOR_TEMPERATURE = 18.7783
FOCAL_PLANE_TEMPERATURE = 8.1755
INST_CMPRS_NAME = "DISCRETE COSINE TRANSFORMATION (DCT)"
INST_CMPRS_RATIO = 8.36676
INST_CMPRS_QUALITY = 0
INST_CMPRS_QUANTZ_TBL_ID = 0
INSTRUMENT_TEMPERATURE = 11.234
LENS_TEMPERATURE = 8.3794
MACROPIXEL_SIZE = 2
MISSING_FRAMES = 0
PIXEL_SUBSAMPLING_FLAG = N
SIGNAL_CHAIN_ID = 1
/* RADIOMETRIC DATA ELEMENTS */
BANDWIDTH = 178.0
CENTER_FILTER_WAVELENGTH = 679.0
RADIANCE_OFFSET = 1.7048
RADIANCE_SCALING_FACTOR = 0.018027
REFLECTANCE_SCALING_FACTOR = 0.0005799
MEX:REFLECTANCE_OFFSET = 0.0548409
/* IMAGE OBJECT DEFINITIONS */
OBJECT = IMAGE
  INTERCHANGE_FORMAT = BINARY
  LINES = 16343
  LINE_SAMPLES = 4361
  SAMPLE_TYPE = UNSIGNED_INTEGER
  SAMPLE_BITS = 8
  BANDS = 1
  BAND_STORAGE_TYPE = BAND_SEQUENTIAL
  MAXIMUM = 255
  MEAN = 94.0246
  MINIMUM = 1
  STANDARD_DEVIATION = 18.9171
END_OBJECT = IMAGE
/* MAP OBJECT DEFINITIONS */
OBJECT = IMAGE_MAP_PROJECTION
  ^DATA_SET_MAP_PROJECTION_CATALOG= "DSMAP.CAT"
  A_AXIS_RADIUS = 3396.0
  B_AXIS_RADIUS = 3396.0
  C_AXIS_RADIUS = 3396.0
  CENTER_LATITUDE = 0.0
  CENTER_LONGITUDE = 247.0
  COORDINATE_SYSTEM_NAME = PLANETOGRAPHIC
  COORDINATE_SYSTEM_TYPE = "BODY-FIXED ROTATING"
  EASTERNMOST_LONGITUDE = 248.854
  FIRST_STANDARD_PARALLEL = "N/A"
  LINE_FIRST_PIXEL = 1
  LINE_LAST_PIXEL = 16343
  LINE_PROJECTION_OFFSET = 42976.75
  MAP_PROJECTION_ROTATION = 0.0
  MAP_PROJECTION_TYPE = SINUSOIDAL
  MAP_RESOLUTION = 1185.42760773333
  MAP_SCALE = 0.05
  MAXIMUM_LATITUDE = 36.1987
  MINIMUM_LATITUDE = 22.4411
  POSITIVE_LONGITUDE_DIRECTION = EAST
  REFERENCE_LATITUDE = "N/A"
  REFERENCE_LONGITUDE = "N/A"
  SAMPLE_FIRST_PIXEL = 1
  SAMPLE_LAST_PIXEL = 4361
  SAMPLE_PROJECTION_OFFSET = 2327.75
  SECOND_STANDARD_PARALLEL = "N/A"
  WESTERNMOST_LONGITUDE = 244.863
END_OBJECT = IMAGE_MAP_PROJECTION
END
