PDS_VERSION_ID = PDS3
/* FILE DATA ELEMENTS */
RECORD_TYPE = UNDEFINED
/* POINTERS TO DATA OBJECTS */
^IMAGE = ("H2939_0000_S14.TIF")
/* IDENTIFICATION DATA ELEMENTS */
DATA_SET_ID = "MEX-M-HRSC-4-REFDR-MAPPROJECT-EXT1-V4.0"
DATA_SET_NAME = "MARS EXPRESS HRSC MAP PROJECTED REFDR EXTENSION1 V4.0"
DETECTOR_ID = MEX_HRSC_S1
EVENT_TYPE = "MARS-REGIONAL-MAPPING-Vo-Te-Eo"
INSTRUMENT_HOST_ID = MEX
INSTRUMENT_HOST_NAME = "MARS EXPRESS"
INSTRUMENT_ID = HRSC
INSTRUMENT_NAME = "HIGH RESOLUTION STEREO CAMERA"
MISSION_NAME = "MARS EXPRESS"
MISSION_PHASE_NAME = ME_Phase_2
PROCESSING_LEVEL_ID = 4
PRODUCT_CREATION_TIME = 2023-02-09T07:39:13.000Z
PRODUCT_ID = "H2939_0000_S14.TIF"
RELEASE_ID = 0002
REVISION_ID = 0000
/* QUALITY DATA ELEMENTS */
DATA_QUALITY_ID = 1
DATA_QUALITY_DESC = "Data calculated based on original SPICE kernels"
/* TIME DATA ELEMENTS */
SPACECRAFT_CLOCK_START_COUNT = "1/0094056920.08255"
SPACECRAFT_CLOCK_STOP_COUNT = "1/0094057448.46684"
START_TIME = 2006-04-25T14:55:25.651Z
STOP_TIME = 2006-04-25T15:01:29.971Z
/* ORBITAL DATA ELEMENTS */
ASCENDING_NODE_LONGITUDE = 166.6
MAXIMUM_RESOLUTION = 0.0702
FOOTPRINT_POINT_LATITUDE = (36.2974,36.3089,36.3194,36.3274, 36.3326,36.3352,36.335,36.332,36.3264, 36.3181,36.3071,36.2932,36.2768,36.2601 ,36.2575,36.2427,35.723,35.195,34.6596, 34.1159,33.8416,33.5657,33.2872,33.0082 ,32.7263,32.4422,32.1558,31.8682, 31.5784,31.2865,30.9925,30.6995,30.4083 ,30.1177,29.8295,29.5416,29.2564,28.973 ,28.6907,28.4097,28.1307,27.8528, 27.5767,27.0288,26.4865,25.9502,25.4191 ,24.8939,24.3742,23.7324,23.2251, 22.7234,22.5988,22.5257,22.5323,22.5353 ,22.5361,22.5353,22.5324,22.5251, 22.5161,22.5154,22.5159,23.0167,23.5227 ,24.0339,24.551,25.0736,25.6021,26.1357 ,26.6766,27.225,27.5017,27.7799,28.199, 28.4784,28.9045,29.1884,29.6153,29.9007 ,30.1891,30.4804,30.7726,31.0673, 31.5083,31.7993,32.0896,32.3771,32.6632 ,32.948,33.2302,33.5114,33.7898,34.0666 ,34.6135,35.02,35.55,36.0772,36.2089, 36.2974)
FOOTPRINT_POINT_LONGITUDE = (249.765,249.375,248.93,248.485,248.041 ,247.597,247.153,246.709,246.266, 245.823,245.379,244.934,244.49,244.1, 244.044,244.022,244.09,244.156,244.221, 244.285,244.316,244.348,244.378,244.409 ,244.439,244.469,244.499,244.528, 244.557,244.586,244.614,244.642,244.669 ,244.695,244.721,244.746,244.771, 244.795,244.819,244.842,244.864,244.886 ,244.908,244.949,244.989,245.027, 245.063,245.098,245.131,245.171,245.201 ,245.23,245.238,245.242,245.756,246.15, 246.573,246.905,247.328,247.872,248.326 ,248.357,248.367,248.404,248.442,248.48 ,248.521,248.562,248.606,248.651, 248.697,248.744,248.768,248.793,248.831 ,248.858,248.898,248.926,248.97,249.0, 249.03,249.061,249.092,249.124,249.172, 249.205,249.237,249.27,249.303,249.337, 249.37,249.404,249.438,249.472,249.542, 249.595,249.668,249.74,249.758,249.765)
ORBIT_NUMBER = 2939
ORBITAL_ECCENTRICITY = 0.573
ORBITAL_INCLINATION = 86.61
ORBITAL_SEMIMAJOR_AXIS = 8620.59
PERIAPSIS_ALTITUDE = 288.05
PERIAPSIS_ARGUMENT_ANGLE = 202.04
PERIAPSIS_TIME = 2006-04-25T15:15:03.000Z
SPACECRAFT_ORIENTATION = (0.0,-1.0,0.0)
^MEX_ORIENTATION_DESC = "MEX_ORIENTATION_DESC.TXT"
SPACECRAFT_POINTING_MODE = NADIR
^MEX_POINTING_DESC = "MEX_POINTING_DESC.TXT"
RIGHT_ASCENSION = -1e+32
DECLINATION = -1e+32
OFFSET_ANGLE = -1e+32
SPACECRAFT_SOLAR_DISTANCE = 2.46464e+08
TARGET_NAME = MARS
/* CAMERA DATA ELEMENTS */
DETECTOR_TEMPERATURE = 17.5549
FOCAL_PLANE_TEMPERATURE = 8.1755
INST_CMPRS_NAME = "DISCRETE COSINE TRANSFORMATION (DCT)"
INST_CMPRS_RATIO = 7.94837
INST_CMPRS_QUALITY = 0
INST_CMPRS_QUANTZ_TBL_ID = 0
INSTRUMENT_TEMPERATURE = 11.234
LENS_TEMPERATURE = 8.3794
MACROPIXEL_SIZE = 2
MISSING_FRAMES = 0
PIXEL_SUBSAMPLING_FLAG = N
SIGNAL_CHAIN_ID = 1
/* RADIOMETRIC DATA ELEMENTS */
BANDWIDTH = 180.0
CENTER_FILTER_WAVELENGTH = 677.0
RADIANCE_OFFSET = 1.88415
RADIANCE_SCALING_FACTOR = 0.0189999
REFLECTANCE_SCALING_FACTOR = 0.000602134
MEX:REFLECTANCE_OFFSET = 0.0597117
/* IMAGE OBJECT DEFINITIONS */
OBJECT = IMAGE
  INTERCHANGE_FORMAT = BINARY
  LINES = 16343
  LINE_SAMPLES = 4361
  SAMPLE_TYPE = UNSIGNED_INTEGER
  SAMPLE_BITS = 8
  BANDS = 1
  BAND_STORAGE_TYPE = BAND_SEQUENTIAL
  MAXIMUM = 255
  MEAN = 99.4374
  MINIMUM = 1
  STANDARD_DEVIATION = 20.8442
END_OBJECT = IMAGE
/* MAP OBJECT DEFINITIONS */
OBJECT = IMAGE_MAP_PROJECTION
  ^DATA_SET_MAP_PROJECTION_CATALOG= "DSMAP.CAT"
  A_AXIS_RADIUS = 3396.0
  B_AXIS_RADIUS = 3396.0
  C_AXIS_RADIUS = 3396.0
  CENTER_LATITUDE = 0.0
  CENTER_LONGITUDE = 247.0
  COORDINATE_SYSTEM_NAME = PLANETOGRAPHIC
  COORDINATE_SYSTEM_TYPE = "BODY-FIXED ROTATING"
  EASTERNMOST_LONGITUDE = 249.765
  FIRST_STANDARD_PARALLEL = "N/A"
  LINE_FIRST_PIXEL = 1
  LINE_LAST_PIXEL = 16343
  LINE_PROJECTION_OFFSET = 42976.75
  MAP_PROJECTION_ROTATION = 0.0
  MAP_PROJECTION_TYPE = SINUSOIDAL
  MAP_RESOLUTION = 1185.42760773333
  MAP_SCALE = 0.05
  MAXIMUM_LATITUDE = 36.3352
  MINIMUM_LATITUDE = 22.5154
  POSITIVE_LONGITUDE_DIRECTION = EAST
  REFERENCE_LATITUDE = "N/A"
  REFERENCE_LONGITUDE = "N/A"
  SAMPLE_FIRST_PIXEL = 1
  SAMPLE_LAST_PIXEL = 4361
  SAMPLE_PROJECTION_OFFSET = 2327.75
  SECOND_STANDARD_PARALLEL = "N/A"
  WESTERNMOST_LONGITUDE = 244.022
END_OBJECT = IMAGE_MAP_PROJECTION
END
