PDS_VERSION_ID = PDS3
/* FILE DATA ELEMENTS */
RECORD_TYPE = UNDEFINED
/* POINTERS TO DATA OBJECTS */
^IMAGE = ("H2938_0000_IR4.TIF")
/* IDENTIFICATION DATA ELEMENTS */
DATA_SET_ID = "MEX-M-HRSC-4-REFDR-MAPPROJECT-EXT1-V4.0"
DATA_SET_NAME = "MARS EXPRESS HRSC MAP PROJECTED REFDR EXTENSION1 V4.0"
DETECTOR_ID = MEX_HRSC_IR
EVENT_TYPE = "MARS-REGIONAL-MAPPING-Te-Im-Fl"
INSTRUMENT_HOST_ID = MEX
INSTRUMENT_HOST_NAME = "MARS EXPRESS"
INSTRUMENT_ID = HRSC
INSTRUMENT_NAME = "HIGH RESOLUTION STEREO CAMERA"
MISSION_NAME = "MARS EXPRESS"
MISSION_PHASE_NAME = ME_Phase_2
PROCESSING_LEVEL_ID = 4
PRODUCT_CREATION_TIME = 2023-02-09T07:39:13.000Z
PRODUCT_ID = "H2938_0000_IR4.TIF"
RELEASE_ID = 0002
REVISION_ID = 0000
/* QUALITY DATA ELEMENTS */
DATA_QUALITY_ID = 1
DATA_QUALITY_DESC = "Data calculated based on original SPICE kernels"
/* TIME DATA ELEMENTS */
SPACECRAFT_CLOCK_START_COUNT = "1/0094032700.08251"
SPACECRAFT_CLOCK_STOP_COUNT = "1/0094033258.44554"
START_TIME = 2006-04-25T08:12:27.884Z
STOP_TIME = 2006-04-25T08:18:38.660Z
/* ORBITAL DATA ELEMENTS */
ASCENDING_NODE_LONGITUDE = 166.62
MAXIMUM_RESOLUTION = 0.1352
FOOTPRINT_POINT_LATITUDE = (37.0741,37.0856,37.0948,37.1017, 37.1082,37.1092,37.1079,37.1044,37.0993 ,37.0915,37.0814,37.069,37.0417,37.0394 ,36.9603,36.669,36.3745,36.0784,35.7798 ,35.4794,35.177,34.8713,34.5641,34.2548 ,33.9433,33.6295,33.3134,32.9956, 32.6766,32.36,32.0451,31.7328,31.422, 31.1128,30.8061,30.5015,30.0493,29.5992 ,29.3012,29.0047,28.7103,28.4176, 28.1275,27.5503,26.9807,26.5545,25.723, 25.0394,24.5003,23.9653,23.4342,23.0451 ,22.5253,22.3934,22.3323,22.3415,22.338 ,22.3405,22.3337,22.3218,22.3194, 22.3208,22.7097,23.2307,23.7585,24.2916 ,24.8302,25.3752,25.9277,26.4854, 27.0508,27.7677,28.3471,28.6402,28.9354 ,29.2338,29.5301,29.8306,30.2845, 30.5871,30.8973,31.3545,31.6737,31.9848 ,32.299,32.6177,33.0964,33.4167,33.7332 ,34.0459,34.5149,34.9791,35.2853, 35.5896,35.8923,36.1918,36.4889,36.7849 ,36.9311,37.0741)
FOOTPRINT_POINT_LONGITUDE = (348.004,347.58,347.156,346.733,346.045 ,345.622,345.2,344.777,344.408,343.985, 343.562,343.139,342.397,342.344,342.299 ,342.338,342.375,342.412,342.449, 342.485,342.521,342.556,342.591,342.625 ,342.659,342.693,342.726,342.758,342.79 ,342.821,342.852,342.882,342.91,342.939 ,342.966,342.993,343.033,343.071, 343.095,343.119,343.142,343.165,343.188 ,343.23,343.271,343.299,343.356,343.4, 343.434,343.466,343.495,343.518,343.546 ,343.551,343.554,344.095,344.607, 345.233,345.973,346.571,346.6,346.61, 346.636,346.672,346.71,346.75,346.791, 346.833,346.877,346.923,346.97,347.031, 347.083,347.109,347.136,347.163,347.192 ,347.22,347.264,347.295,347.324,347.374 ,347.403,347.437,347.471,347.504, 347.558,347.593,347.629,347.667,347.721 ,347.777,347.815,347.852,347.89,347.929 ,347.968,348.008,348.028,348.004)
ORBIT_NUMBER = 2938
ORBITAL_ECCENTRICITY = 0.572
ORBITAL_INCLINATION = 86.62
ORBITAL_SEMIMAJOR_AXIS = 8608.89
PERIAPSIS_ALTITUDE = 288.97
PERIAPSIS_ARGUMENT_ANGLE = 202.18
PERIAPSIS_TIME = 2006-04-25T08:31:54.000Z
SPACECRAFT_ORIENTATION = (0.0,-1.0,0.0)
^MEX_ORIENTATION_DESC = "MEX_ORIENTATION_DESC.TXT"
SPACECRAFT_POINTING_MODE = NADIR
^MEX_POINTING_DESC = "MEX_POINTING_DESC.TXT"
RIGHT_ASCENSION = -1e+32
DECLINATION = -1e+32
OFFSET_ANGLE = -1e+32
SPACECRAFT_SOLAR_DISTANCE = 2.46439e+08
TARGET_NAME = MARS
/* CAMERA DATA ELEMENTS */
DETECTOR_TEMPERATURE = 17.5549
FOCAL_PLANE_TEMPERATURE = 8.5833
INST_CMPRS_NAME = "DISCRETE COSINE TRANSFORMATION (DCT)"
INST_CMPRS_RATIO = 13.1445
INST_CMPRS_QUALITY = 0
INST_CMPRS_QUANTZ_TBL_ID = 0
INSTRUMENT_TEMPERATURE = 11.0301
LENS_TEMPERATURE = 8.9911
MACROPIXEL_SIZE = 4
MISSING_FRAMES = 0
PIXEL_SUBSAMPLING_FLAG = N
SIGNAL_CHAIN_ID = 2
/* RADIOMETRIC DATA ELEMENTS */
BANDWIDTH = 81.0
CENTER_FILTER_WAVELENGTH = 955.5
RADIANCE_OFFSET = 0.406772
RADIANCE_SCALING_FACTOR = 0.00288939
REFLECTANCE_SCALING_FACTOR = 0.000378571
MEX:REFLECTANCE_OFFSET = 0.0532957
/* IMAGE OBJECT DEFINITIONS */
OBJECT = IMAGE
  INTERCHANGE_FORMAT = BINARY
  LINES = 8727
  LINE_SAMPLES = 2271
  SAMPLE_TYPE = UNSIGNED_INTEGER
  SAMPLE_BITS = 8
  BANDS = 1
  BAND_STORAGE_TYPE = BAND_SEQUENTIAL
  MAXIMUM = 255
  MEAN = 97.4227
  MINIMUM = 1
  STANDARD_DEVIATION = 33.7883
END_OBJECT = IMAGE
/* MAP OBJECT DEFINITIONS */
OBJECT = IMAGE_MAP_PROJECTION
  ^DATA_SET_MAP_PROJECTION_CATALOG= "DSMAP.CAT"
  A_AXIS_RADIUS = 3396.0
  B_AXIS_RADIUS = 3396.0
  C_AXIS_RADIUS = 3396.0
  CENTER_LATITUDE = 0.0
  CENTER_LONGITUDE = 345.0
  COORDINATE_SYSTEM_NAME = PLANETOGRAPHIC
  COORDINATE_SYSTEM_TYPE = "BODY-FIXED ROTATING"
  EASTERNMOST_LONGITUDE = 348.028
  FIRST_STANDARD_PARALLEL = "N/A"
  LINE_FIRST_PIXEL = 1
  LINE_LAST_PIXEL = 8727
  LINE_PROJECTION_OFFSET = 21976.875
  MAP_PROJECTION_ROTATION = 0.0
  MAP_PROJECTION_TYPE = SINUSOIDAL
  MAP_RESOLUTION = 592.713803866667
  MAP_SCALE = 0.1
  MAXIMUM_LATITUDE = 37.1092
  MINIMUM_LATITUDE = 22.3194
  POSITIVE_LONGITUDE_DIRECTION = EAST
  REFERENCE_LATITUDE = "N/A"
  REFERENCE_LONGITUDE = "N/A"
  SAMPLE_FIRST_PIXEL = 1
  SAMPLE_LAST_PIXEL = 2271
  SAMPLE_PROJECTION_OFFSET = 1074.625
  SECOND_STANDARD_PARALLEL = "N/A"
  WESTERNMOST_LONGITUDE = 342.299
END_OBJECT = IMAGE_MAP_PROJECTION
END
