PDS_VERSION_ID = PDS3
/* FILE DATA ELEMENTS */
RECORD_TYPE = UNDEFINED
/* POINTERS TO DATA OBJECTS */
^IMAGE = ("H2932_0000_BL4.TIF")
/* IDENTIFICATION DATA ELEMENTS */
DATA_SET_ID = "MEX-M-HRSC-4-REFDR-MAPPROJECT-EXT1-V4.0"
DATA_SET_NAME = "MARS EXPRESS HRSC MAP PROJECTED REFDR EXTENSION1 V4.0"
DETECTOR_ID = MEX_HRSC_BLUE
EVENT_TYPE = "MARS-REGIONAL-MAPPING-Vo-Te-Mw"
INSTRUMENT_HOST_ID = MEX
INSTRUMENT_HOST_NAME = "MARS EXPRESS"
INSTRUMENT_ID = HRSC
INSTRUMENT_NAME = "HIGH RESOLUTION STEREO CAMERA"
MISSION_NAME = "MARS EXPRESS"
MISSION_PHASE_NAME = ME_Phase_2
PROCESSING_LEVEL_ID = 4
PRODUCT_CREATION_TIME = 2023-02-09T07:39:13.000Z
PRODUCT_ID = "H2932_0000_BL4.TIF"
RELEASE_ID = 0002
REVISION_ID = 0000
/* QUALITY DATA ELEMENTS */
DATA_QUALITY_ID = 1
DATA_QUALITY_DESC = "Data calculated based on original SPICE kernels"
/* TIME DATA ELEMENTS */
SPACECRAFT_CLOCK_START_COUNT = "1/0093887382.09416"
SPACECRAFT_CLOCK_STOP_COUNT = "1/0093888013.26601"
START_TIME = 2006-04-23T15:54:22.167Z
STOP_TIME = 2006-04-23T15:59:06.547Z
/* ORBITAL DATA ELEMENTS */
ASCENDING_NODE_LONGITUDE = 166.75
MAXIMUM_RESOLUTION = 0.136
FOOTPRINT_POINT_LATITUDE = (41.4759,41.4799,41.4825,41.4838, 41.4837,41.4822,41.4794,41.4752,41.4696 ,41.4627,41.4543,41.4444,41.4331, 41.4169,41.4152,41.4307,40.9378,40.4414 ,39.9417,39.4386,38.9321,38.4221, 37.9088,37.392,36.8717,36.348,35.8208, 35.29,34.7557,34.2179,33.9477,33.6767, 33.4047,33.1318,32.8581,32.5834,32.3078 ,32.0314,31.7541,31.476,31.1969,30.917, 30.6361,30.3544,30.0717,29.7882,29.5038 ,29.2183,28.9318,28.6446,28.2122, 28.0677,27.9261,27.9298,27.9304,27.9299 ,27.9294,27.9264,27.9225,27.9159, 27.9155,27.9171,28.2073,28.4961,28.7842 ,29.0718,29.3587,29.6445,29.9296, 30.2135,30.497,30.7785,31.2015,31.4817, 31.7608,32.039,32.3164,32.5931,32.8693, 33.1445,33.419,33.6923,33.9646,34.2361, 34.5067,35.0454,35.5807,36.1125,36.641, 37.1662,37.6882,38.2067,38.722,39.2339, 39.7425,40.2478,40.75,41.2489,41.3731, 41.4759)
FOOTPRINT_POINT_LONGITUDE = (216.228,215.813,215.397,214.981, 214.563,214.146,213.727,213.307,212.886 ,212.465,212.042,211.618,211.192, 210.658,210.604,210.533,210.605,210.675 ,210.743,210.81,210.875,210.939,211.001 ,211.062,211.121,211.178,211.235, 211.289,211.343,211.396,211.421,211.446 ,211.471,211.496,211.521,211.545, 211.569,211.592,211.615,211.638,211.661 ,211.683,211.705,211.727,211.748, 211.769,211.79,211.812,211.833,211.853, 211.883,211.892,211.902,212.539,212.888 ,213.205,213.518,214.143,214.608, 215.224,215.255,215.265,215.282,215.299 ,215.315,215.332,215.35,215.367,215.385 ,215.402,215.42,215.437,215.464,215.482 ,215.5,215.518,215.537,215.555,215.574, 215.593,215.612,215.63,215.649,215.668, 215.688,215.726,215.765,215.805,215.845 ,215.885,215.926,215.967,216.009, 216.052,216.094,216.138,216.181,216.226 ,216.237,216.228)
ORBIT_NUMBER = 2932
ORBITAL_ECCENTRICITY = 0.572
ORBITAL_INCLINATION = 86.61
ORBITAL_SEMIMAJOR_AXIS = 8611.01
PERIAPSIS_ALTITUDE = 288.19
PERIAPSIS_ARGUMENT_ANGLE = 203.25
PERIAPSIS_TIME = 2006-04-23T16:12:57.000Z
SPACECRAFT_ORIENTATION = (0.0,-1.0,0.0)
^MEX_ORIENTATION_DESC = "MEX_ORIENTATION_DESC.TXT"
SPACECRAFT_POINTING_MODE = ACROSSTRACK
^MEX_POINTING_DESC = "MEX_POINTING_DESC.TXT"
RIGHT_ASCENSION = -1e+32
DECLINATION = -1e+32
OFFSET_ANGLE = -1.0
SPACECRAFT_SOLAR_DISTANCE = 2.46287e+08
TARGET_NAME = MARS
/* CAMERA DATA ELEMENTS */
DETECTOR_TEMPERATURE = 18.7783
FOCAL_PLANE_TEMPERATURE = 7.5638
INST_CMPRS_NAME = "DISCRETE COSINE TRANSFORMATION (DCT)"
INST_CMPRS_RATIO = 19.3768
INST_CMPRS_QUALITY = 0
INST_CMPRS_QUANTZ_TBL_ID = 0
INSTRUMENT_TEMPERATURE = 11.0301
LENS_TEMPERATURE = 8.1755
MACROPIXEL_SIZE = 4
MISSING_FRAMES = 0
PIXEL_SUBSAMPLING_FLAG = N
SIGNAL_CHAIN_ID = 2
/* RADIOMETRIC DATA ELEMENTS */
BANDWIDTH = 76.0
CENTER_FILTER_WAVELENGTH = 444.0
RADIANCE_OFFSET = 0.307354
RADIANCE_SCALING_FACTOR = 0.00197794
REFLECTANCE_SCALING_FACTOR = 0.000123267
MEX:REFLECTANCE_OFFSET = 0.0191545
/* IMAGE OBJECT DEFINITIONS */
OBJECT = IMAGE
  INTERCHANGE_FORMAT = BINARY
  LINES = 8050
  LINE_SAMPLES = 2634
  SAMPLE_TYPE = UNSIGNED_INTEGER
  SAMPLE_BITS = 8
  BANDS = 1
  BAND_STORAGE_TYPE = BAND_SEQUENTIAL
  MAXIMUM = 255
  MEAN = 103.119
  MINIMUM = 1
  STANDARD_DEVIATION = 33.2197
END_OBJECT = IMAGE
/* MAP OBJECT DEFINITIONS */
OBJECT = IMAGE_MAP_PROJECTION
  ^DATA_SET_MAP_PROJECTION_CATALOG= "DSMAP.CAT"
  A_AXIS_RADIUS = 3396.0
  B_AXIS_RADIUS = 3396.0
  C_AXIS_RADIUS = 3396.0
  CENTER_LATITUDE = 0.0
  CENTER_LONGITUDE = 214.0
  COORDINATE_SYSTEM_NAME = PLANETOGRAPHIC
  COORDINATE_SYSTEM_TYPE = "BODY-FIXED ROTATING"
  EASTERNMOST_LONGITUDE = 216.237
  FIRST_STANDARD_PARALLEL = "N/A"
  LINE_FIRST_PIXEL = 1
  LINE_LAST_PIXEL = 8050
  LINE_PROJECTION_OFFSET = 24588.875
  MAP_PROJECTION_ROTATION = 0.0
  MAP_PROJECTION_TYPE = SINUSOIDAL
  MAP_RESOLUTION = 592.713803866667
  MAP_SCALE = 0.1
  MAXIMUM_LATITUDE = 41.4838
  MINIMUM_LATITUDE = 27.9155
  POSITIVE_LONGITUDE_DIRECTION = EAST
  REFERENCE_LATITUDE = "N/A"
  REFERENCE_LONGITUDE = "N/A"
  SAMPLE_FIRST_PIXEL = 1
  SAMPLE_LAST_PIXEL = 2634
  SAMPLE_PROJECTION_OFFSET = 1595.625
  SECOND_STANDARD_PARALLEL = "N/A"
  WESTERNMOST_LONGITUDE = 210.533
END_OBJECT = IMAGE_MAP_PROJECTION
END
