PDS_VERSION_ID = PDS3
/* FILE DATA ELEMENTS */
RECORD_TYPE = UNDEFINED
/* POINTERS TO DATA OBJECTS */
^IMAGE = ("H2921_0000_BL4.TIF")
/* IDENTIFICATION DATA ELEMENTS */
DATA_SET_ID = "MEX-M-HRSC-4-REFDR-MAPPROJECT-EXT1-V4.0"
DATA_SET_NAME = "MARS EXPRESS HRSC MAP PROJECTED REFDR EXTENSION1 V4.0"
DETECTOR_ID = MEX_HRSC_BLUE
EVENT_TYPE = "MARS-REGIONAL-MAPPING-Vo-Te-Mw"
INSTRUMENT_HOST_ID = MEX
INSTRUMENT_HOST_NAME = "MARS EXPRESS"
INSTRUMENT_ID = HRSC
INSTRUMENT_NAME = "HIGH RESOLUTION STEREO CAMERA"
MISSION_NAME = "MARS EXPRESS"
MISSION_PHASE_NAME = ME_Phase_2
PROCESSING_LEVEL_ID = 4
PRODUCT_CREATION_TIME = 2023-02-09T07:39:13.000Z
PRODUCT_ID = "H2921_0000_BL4.TIF"
RELEASE_ID = 0002
REVISION_ID = 0000
/* QUALITY DATA ELEMENTS */
DATA_QUALITY_ID = 1
DATA_QUALITY_DESC = "Data calculated based on original SPICE kernels"
/* TIME DATA ELEMENTS */
SPACECRAFT_CLOCK_START_COUNT = "1/0093621160.08263"
SPACECRAFT_CLOCK_STOP_COUNT = "1/0093621902.25266"
START_TIME = 2006-04-20T13:58:19.784Z
STOP_TIME = 2006-04-20T14:03:50.639Z
/* ORBITAL DATA ELEMENTS */
ASCENDING_NODE_LONGITUDE = 166.98
MAXIMUM_RESOLUTION = 0.1423
FOOTPRINT_POINT_LATITUDE = (43.0197,43.0317,43.0392,43.0473, 43.0504,43.0519,43.0505,43.0474,43.0425 ,43.0359,43.0252,43.0071,43.0055, 43.0219,42.4614,41.8965,41.327,40.7529, 40.1742,39.5908,39.0026,38.4099,37.8124 ,37.2101,36.9072,36.6032,36.2979, 35.9914,35.6837,35.3749,35.0648,34.7535 ,34.4409,34.1271,33.8121,33.4959, 33.1785,32.8598,32.5399,32.2209,31.9033 ,31.5885,31.2756,30.9653,30.6569, 30.3508,30.0465,29.7441,29.1444,28.5538 ,27.9706,27.8253,27.7864,27.7871, 27.7864,27.7853,27.7817,27.7764,27.7679 ,27.7612,27.7607,27.7624,28.1976, 28.6377,29.2298,29.8309,30.134,30.4403, 30.7478,31.0574,31.3688,31.6826,31.9983 ,32.3164,32.6363,32.9565,33.2749, 33.5914,34.0634,34.3783,34.6919,35.0048 ,35.3164,35.627,35.9369,36.3959,36.7022 ,37.007,37.4626,38.2143,38.811,39.4027, 39.9899,40.5725,41.1508,41.7246,42.2938 ,42.8588,42.9993,43.0197)
FOOTPRINT_POINT_LONGITUDE = (218.972,218.383,217.912,217.206, 216.736,215.973,215.503,215.034,214.564 ,214.094,213.506,212.74,212.681,212.624 ,212.702,212.778,212.852,212.924, 212.993,213.061,213.127,213.191,213.253 ,213.314,213.343,213.372,213.401, 213.429,213.457,213.485,213.512,213.538 ,213.564,213.59,213.616,213.641,213.666 ,213.69,213.714,213.738,213.762,213.784 ,213.806,213.827,213.848,213.868, 213.888,213.907,213.946,213.981,214.015 ,214.024,214.026,214.579,215.035, 215.393,215.946,216.499,217.085,217.475 ,217.508,217.519,217.551,217.585, 217.629,217.677,217.701,217.727,217.752 ,217.778,217.803,217.829,217.856, 217.883,217.91,217.939,217.966,217.993, 218.032,218.062,218.091,218.122,218.153 ,218.184,218.217,218.259,218.29,218.322 ,218.371,218.449,218.514,218.579, 218.645,218.712,218.78,218.848,218.918, 218.989,219.007,218.972)
ORBIT_NUMBER = 2921
ORBITAL_ECCENTRICITY = 0.573
ORBITAL_INCLINATION = 86.61
ORBITAL_SEMIMAJOR_AXIS = 8608.65
PERIAPSIS_ALTITUDE = 287.58
PERIAPSIS_ARGUMENT_ANGLE = 205.2
PERIAPSIS_TIME = 2006-04-20T14:18:17.000Z
SPACECRAFT_ORIENTATION = (0.0,-1.0,0.0)
^MEX_ORIENTATION_DESC = "MEX_ORIENTATION_DESC.TXT"
SPACECRAFT_POINTING_MODE = NADIR
^MEX_POINTING_DESC = "MEX_POINTING_DESC.TXT"
RIGHT_ASCENSION = -1e+32
DECLINATION = -1e+32
OFFSET_ANGLE = -1e+32
SPACECRAFT_SOLAR_DISTANCE = 2.45998e+08
TARGET_NAME = MARS
/* CAMERA DATA ELEMENTS */
DETECTOR_TEMPERATURE = 18.3705
FOCAL_PLANE_TEMPERATURE = 8.1755
INST_CMPRS_NAME = "DISCRETE COSINE TRANSFORMATION (DCT)"
INST_CMPRS_RATIO = 13.9926
INST_CMPRS_QUALITY = 0
INST_CMPRS_QUANTZ_TBL_ID = 0
INSTRUMENT_TEMPERATURE = 11.0301
LENS_TEMPERATURE = 8.5833
MACROPIXEL_SIZE = 4
MISSING_FRAMES = 0
PIXEL_SUBSAMPLING_FLAG = N
SIGNAL_CHAIN_ID = 2
/* RADIOMETRIC DATA ELEMENTS */
BANDWIDTH = 76.0
CENTER_FILTER_WAVELENGTH = 444.0
RADIANCE_OFFSET = 0.295537
RADIANCE_SCALING_FACTOR = 0.00168378
REFLECTANCE_SCALING_FACTOR = 0.000104689
MEX:REFLECTANCE_OFFSET = 0.0183749
/* IMAGE OBJECT DEFINITIONS */
OBJECT = IMAGE
  INTERCHANGE_FORMAT = BINARY
  LINES = 9078
  LINE_SAMPLES = 2881
  SAMPLE_TYPE = UNSIGNED_INTEGER
  SAMPLE_BITS = 8
  BANDS = 1
  BAND_STORAGE_TYPE = BAND_SEQUENTIAL
  MAXIMUM = 255
  MEAN = 103.055
  MINIMUM = 1
  STANDARD_DEVIATION = 33.6538
END_OBJECT = IMAGE
/* MAP OBJECT DEFINITIONS */
OBJECT = IMAGE_MAP_PROJECTION
  ^DATA_SET_MAP_PROJECTION_CATALOG= "DSMAP.CAT"
  A_AXIS_RADIUS = 3396.0
  B_AXIS_RADIUS = 3396.0
  C_AXIS_RADIUS = 3396.0
  CENTER_LATITUDE = 0.0
  CENTER_LONGITUDE = 216.0
  COORDINATE_SYSTEM_NAME = PLANETOGRAPHIC
  COORDINATE_SYSTEM_TYPE = "BODY-FIXED ROTATING"
  EASTERNMOST_LONGITUDE = 219.007
  FIRST_STANDARD_PARALLEL = "N/A"
  LINE_FIRST_PIXEL = 1
  LINE_LAST_PIXEL = 9078
  LINE_PROJECTION_OFFSET = 25525.375
  MAP_PROJECTION_ROTATION = 0.0
  MAP_PROJECTION_TYPE = SINUSOIDAL
  MAP_RESOLUTION = 592.713803866667
  MAP_SCALE = 0.1
  MAXIMUM_LATITUDE = 43.0519
  MINIMUM_LATITUDE = 27.7607
  POSITIVE_LONGITUDE_DIRECTION = EAST
  REFERENCE_LATITUDE = "N/A"
  REFERENCE_LONGITUDE = "N/A"
  SAMPLE_FIRST_PIXEL = 1
  SAMPLE_LAST_PIXEL = 2881
  SAMPLE_PROJECTION_OFFSET = 1528.625
  SECOND_STANDARD_PARALLEL = "N/A"
  WESTERNMOST_LONGITUDE = 212.624
END_OBJECT = IMAGE_MAP_PROJECTION
END
