PDS_VERSION_ID = PDS3
/* FILE DATA ELEMENTS */
RECORD_TYPE = UNDEFINED
/* POINTERS TO DATA OBJECTS */
^IMAGE = ("H2920_0000_P14.TIF")
/* IDENTIFICATION DATA ELEMENTS */
DATA_SET_ID = "MEX-M-HRSC-4-REFDR-MAPPROJECT-EXT1-V4.0"
DATA_SET_NAME = "MARS EXPRESS HRSC MAP PROJECTED REFDR EXTENSION1 V4.0"
DETECTOR_ID = MEX_HRSC_P1
EVENT_TYPE = "MARS-REGIONAL-MAPPING-Vo-Fl"
INSTRUMENT_HOST_ID = MEX
INSTRUMENT_HOST_NAME = "MARS EXPRESS"
INSTRUMENT_ID = HRSC
INSTRUMENT_NAME = "HIGH RESOLUTION STEREO CAMERA"
MISSION_NAME = "MARS EXPRESS"
MISSION_PHASE_NAME = ME_Phase_2
PROCESSING_LEVEL_ID = 4
PRODUCT_CREATION_TIME = 2023-02-09T07:39:13.000Z
PRODUCT_ID = "H2920_0000_P14.TIF"
RELEASE_ID = 0002
REVISION_ID = 0000
/* QUALITY DATA ELEMENTS */
DATA_QUALITY_ID = 1
DATA_QUALITY_DESC = "Data calculated based on original SPICE kernels"
/* TIME DATA ELEMENTS */
SPACECRAFT_CLOCK_START_COUNT = "1/0093597377.07291"
SPACECRAFT_CLOCK_STOP_COUNT = "1/0093597871.51095"
START_TIME = 2006-04-20T07:17:29.598Z
STOP_TIME = 2006-04-20T07:22:34.976Z
/* ORBITAL DATA ELEMENTS */
ASCENDING_NODE_LONGITUDE = 167.0
MAXIMUM_RESOLUTION = 0.0626
FOOTPRINT_POINT_LATITUDE = (31.4507,31.4626,31.4704,31.4767, 31.4815,31.4855,31.487,31.4869,31.4841, 31.4803,31.475,31.4621,31.461,31.4152, 31.1234,30.8303,30.5349,30.239,29.9448, 29.6526,29.3633,29.074,28.7858,28.5006, 28.2165,27.9341,27.653,27.3736,27.0959, 26.8201,26.5459,26.2731,26.0019,25.7322 ,25.4639,25.1973,24.932,24.6686,24.4065 ,24.1457,23.8864,23.3722,22.8641, 22.3611,21.863,21.3712,20.8841,20.4029, 19.8077,19.3375,18.9881,18.4121,18.2983 ,18.2354,18.2354,18.2339,18.2313, 18.2249,18.2197,18.2107,18.2106,18.2112 ,18.6701,19.1325,19.6003,20.0739, 20.5519,21.0358,21.5242,22.0187,22.5182 ,23.0233,23.5344,24.051,24.3115,24.5734 ,24.8367,25.1018,25.3684,25.6364,25.906 ,26.1771,26.4499,26.7242,27.0002, 27.2775,27.5566,27.8374,28.12,28.4042, 28.6901,28.9775,29.2665,29.7036,30.1444 ,30.4408,30.8846,31.1785,31.3248, 31.4507)
FOOTPRINT_POINT_LONGITUDE = (316.396,315.941,315.578,315.216, 314.853,314.4,314.038,313.676,313.133, 312.77,312.407,311.771,311.726,311.687, 311.714,311.741,311.767,311.792,311.817 ,311.842,311.866,311.889,311.912, 311.934,311.956,311.977,311.998,312.018 ,312.037,312.057,312.076,312.094, 312.113,312.13,312.148,312.165,312.182, 312.198,312.214,312.23,312.245,312.275, 312.303,312.331,312.357,312.382,312.406 ,312.43,312.458,312.479,312.494,312.519 ,312.525,312.527,313.124,313.557, 313.937,314.479,314.805,315.294,315.321 ,315.331,315.359,315.389,315.42,315.452 ,315.484,315.518,315.552,315.588, 315.625,315.662,315.702,315.742,315.763 ,315.784,315.805,315.827,315.849, 315.871,315.894,315.917,315.941,315.965 ,315.989,316.014,316.039,316.065, 316.091,316.117,316.145,316.172,316.2, 316.243,316.288,316.318,316.364,316.395 ,316.411,316.396)
ORBIT_NUMBER = 2920
ORBITAL_ECCENTRICITY = 0.572
ORBITAL_INCLINATION = 86.62
ORBITAL_SEMIMAJOR_AXIS = 8604.6
PERIAPSIS_ALTITUDE = 287.58
PERIAPSIS_ARGUMENT_ANGLE = 205.4
PERIAPSIS_TIME = 2006-04-20T07:35:12.000Z
SPACECRAFT_ORIENTATION = (0.0,-1.0,0.0)
^MEX_ORIENTATION_DESC = "MEX_ORIENTATION_DESC.TXT"
SPACECRAFT_POINTING_MODE = NADIR
^MEX_POINTING_DESC = "MEX_POINTING_DESC.TXT"
RIGHT_ASCENSION = -1e+32
DECLINATION = -1e+32
OFFSET_ANGLE = -1e+32
SPACECRAFT_SOLAR_DISTANCE = 2.45972e+08
TARGET_NAME = MARS
/* CAMERA DATA ELEMENTS */
DETECTOR_TEMPERATURE = 17.351
FOCAL_PLANE_TEMPERATURE = 7.5638
INST_CMPRS_NAME = "DISCRETE COSINE TRANSFORMATION (DCT)"
INST_CMPRS_RATIO = 19.059
INST_CMPRS_QUALITY = 0
INST_CMPRS_QUANTZ_TBL_ID = 0
INSTRUMENT_TEMPERATURE = 11.0301
LENS_TEMPERATURE = 8.1755
MACROPIXEL_SIZE = 2
MISSING_FRAMES = 0
PIXEL_SUBSAMPLING_FLAG = N
SIGNAL_CHAIN_ID = 3
/* RADIOMETRIC DATA ELEMENTS */
BANDWIDTH = 174.0
CENTER_FILTER_WAVELENGTH = 675.0
RADIANCE_OFFSET = 1.39262
RADIANCE_SCALING_FACTOR = 0.00657374
REFLECTANCE_SCALING_FACTOR = 0.000213926
MEX:REFLECTANCE_OFFSET = 0.0453194
/* IMAGE OBJECT DEFINITIONS */
OBJECT = IMAGE
  INTERCHANGE_FORMAT = BINARY
  LINES = 15695
  LINE_SAMPLES = 4226
  SAMPLE_TYPE = UNSIGNED_INTEGER
  SAMPLE_BITS = 8
  BANDS = 1
  BAND_STORAGE_TYPE = BAND_SEQUENTIAL
  MAXIMUM = 255
  MEAN = 102.28
  MINIMUM = 1
  STANDARD_DEVIATION = 27.6443
END_OBJECT = IMAGE
/* MAP OBJECT DEFINITIONS */
OBJECT = IMAGE_MAP_PROJECTION
  ^DATA_SET_MAP_PROJECTION_CATALOG= "DSMAP.CAT"
  A_AXIS_RADIUS = 3396.0
  B_AXIS_RADIUS = 3396.0
  C_AXIS_RADIUS = 3396.0
  CENTER_LATITUDE = 0.0
  CENTER_LONGITUDE = 314.0
  COORDINATE_SYSTEM_NAME = PLANETOGRAPHIC
  COORDINATE_SYSTEM_TYPE = "BODY-FIXED ROTATING"
  EASTERNMOST_LONGITUDE = 316.411
  FIRST_STANDARD_PARALLEL = "N/A"
  LINE_FIRST_PIXEL = 1
  LINE_LAST_PIXEL = 15695
  LINE_PROJECTION_OFFSET = 37329.25
  MAP_PROJECTION_ROTATION = 0.0
  MAP_PROJECTION_TYPE = SINUSOIDAL
  MAP_RESOLUTION = 1185.42760773333
  MAP_SCALE = 0.05
  MAXIMUM_LATITUDE = 31.487
  MINIMUM_LATITUDE = 18.2106
  POSITIVE_LONGITUDE_DIRECTION = EAST
  REFERENCE_LATITUDE = "N/A"
  REFERENCE_LONGITUDE = "N/A"
  SAMPLE_FIRST_PIXEL = 1
  SAMPLE_LAST_PIXEL = 4226
  SAMPLE_PROJECTION_OFFSET = 2069.75
  SECOND_STANDARD_PARALLEL = "N/A"
  WESTERNMOST_LONGITUDE = 311.687
END_OBJECT = IMAGE_MAP_PROJECTION
END
