PDS_VERSION_ID = PDS3
/* FILE DATA ELEMENTS */
RECORD_TYPE = UNDEFINED
/* POINTERS TO DATA OBJECTS */
^IMAGE = ("H2907_0008_S14.TIF")
/* IDENTIFICATION DATA ELEMENTS */
DATA_SET_ID = "MEX-M-HRSC-4-REFDR-MAPPROJECT-EXT1-V4.0"
DATA_SET_NAME = "MARS EXPRESS HRSC MAP PROJECTED REFDR EXTENSION1 V4.0"
DETECTOR_ID = MEX_HRSC_S1
EVENT_TYPE = "MARS-REGIONAL-MAPPING-Vo-Gl-Mw"
INSTRUMENT_HOST_ID = MEX
INSTRUMENT_HOST_NAME = "MARS EXPRESS"
INSTRUMENT_ID = HRSC
INSTRUMENT_NAME = "HIGH RESOLUTION STEREO CAMERA"
MISSION_NAME = "MARS EXPRESS"
MISSION_PHASE_NAME = ME_Phase_2
PROCESSING_LEVEL_ID = 4
PRODUCT_CREATION_TIME = 2023-02-09T07:39:13.000Z
PRODUCT_ID = "H2907_0008_S14.TIF"
RELEASE_ID = 0002
REVISION_ID = 0000
/* QUALITY DATA ELEMENTS */
DATA_QUALITY_ID = 1
DATA_QUALITY_DESC = "Data calculated based on original SPICE kernels"
/* TIME DATA ELEMENTS */
SPACECRAFT_CLOCK_START_COUNT = "1/0093282714.09074"
SPACECRAFT_CLOCK_STOP_COUNT = "1/0093283183.24916"
START_TIME = 2006-04-16T15:51:59.697Z
STOP_TIME = 2006-04-16T15:56:42.006Z
/* ORBITAL DATA ELEMENTS */
ASCENDING_NODE_LONGITUDE = 167.27
MAXIMUM_RESOLUTION = 0.0916
FOOTPRINT_POINT_LATITUDE = (45.5638,45.5484,45.5305,45.5103, 45.4876,45.4624,45.4345,45.4041,45.3711 ,45.3355,45.2971,45.2561,45.1776, 45.1717,45.1773,44.8711,44.5649,43.9523 ,43.3395,42.7266,42.1134,41.3465, 40.7327,40.1185,39.5041,38.7354,37.9662 ,37.3501,36.7338,36.1168,35.6539, 35.0361,34.7268,34.4178,34.1078,33.7986 ,33.4893,32.8711,32.0983,31.6333, 31.3235,31.0126,30.7019,30.3917,29.9254 ,29.7705,29.7509,29.803,29.8323,29.8518 ,29.873,29.9,29.9238,29.9414,29.9424, 29.9441,30.2584,30.5725,30.8862,31.3568 ,31.6702,31.9834,32.2964,32.7658, 33.0785,33.3914,33.704,34.1728,34.4854, 34.7977,35.2665,35.579,35.8913,36.3597, 36.8279,37.14,37.4519,37.9197,38.3875, 38.8551,39.3228,39.6345,40.102,40.5696, 41.0371,41.3488,41.6605,41.9722,42.4398 ,42.7516,43.0634,43.5312,43.8431,44.155 ,44.4671,44.7793,45.0915,45.4038,45.56, 45.5638)
FOOTPRINT_POINT_LONGITUDE = (153.007,152.455,151.903,151.35,150.796 ,150.241,149.685,149.129,148.571, 148.012,147.451,146.888,145.899,145.828 ,145.731,145.811,145.888,146.039, 146.185,146.325,146.461,146.623,146.749 ,146.87,146.987,147.127,147.261,147.364 ,147.465,147.561,147.632,147.723, 147.767,147.811,147.854,147.896,147.939 ,148.022,148.124,148.181,148.22,148.256 ,148.292,148.329,148.381,148.399, 148.401,149.256,149.81,150.192,150.657, 151.333,152.048,152.72,152.762,152.777, 152.783,152.79,152.796,152.806,152.812, 152.819,152.825,152.835,152.841,152.847 ,152.853,152.863,152.868,152.874, 152.883,152.889,152.894,152.902,152.91, 152.916,152.921,152.929,152.936,152.944 ,152.951,152.956,152.962,152.969, 152.975,152.98,152.984,152.987,152.993, 152.997,153.0,153.005,153.008,153.012, 153.015,153.018,153.02,153.023,153.024, 153.007)
ORBIT_NUMBER = 2907
ORBITAL_ECCENTRICITY = 0.572
ORBITAL_INCLINATION = 86.62
ORBITAL_SEMIMAJOR_AXIS = 8602.79
PERIAPSIS_ALTITUDE = 286.98
PERIAPSIS_ARGUMENT_ANGLE = 207.72
PERIAPSIS_TIME = 2006-04-16T16:14:13.000Z
SPACECRAFT_ORIENTATION = (0.0,-1.0,0.0)
^MEX_ORIENTATION_DESC = "MEX_ORIENTATION_DESC.TXT"
SPACECRAFT_POINTING_MODE = INERT
^MEX_POINTING_DESC = "MEX_POINTING_DESC.TXT"
RIGHT_ASCENSION = 237.21
DECLINATION = 28.155
OFFSET_ANGLE = -1e+32
SPACECRAFT_SOLAR_DISTANCE = 2.45613e+08
TARGET_NAME = MARS
/* CAMERA DATA ELEMENTS */
DETECTOR_TEMPERATURE = 20.0017
FOCAL_PLANE_TEMPERATURE = 7.9716
INST_CMPRS_NAME = "DISCRETE COSINE TRANSFORMATION (DCT)"
INST_CMPRS_RATIO = 8.82421
INST_CMPRS_QUALITY = 0
INST_CMPRS_QUANTZ_TBL_ID = 0
INSTRUMENT_TEMPERATURE = 14.2925
LENS_TEMPERATURE = 8.5833
MACROPIXEL_SIZE = 2
MISSING_FRAMES = 0
PIXEL_SUBSAMPLING_FLAG = N
SIGNAL_CHAIN_ID = 1
/* RADIOMETRIC DATA ELEMENTS */
BANDWIDTH = 180.0
CENTER_FILTER_WAVELENGTH = 677.0
RADIANCE_OFFSET = 1.72257
RADIANCE_SCALING_FACTOR = 0.0143375
REFLECTANCE_SCALING_FACTOR = 0.000451246
MEX:REFLECTANCE_OFFSET = 0.0542146
/* IMAGE OBJECT DEFINITIONS */
OBJECT = IMAGE
  INTERCHANGE_FORMAT = BINARY
  LINES = 9324
  LINE_SAMPLES = 3066
  SAMPLE_TYPE = UNSIGNED_INTEGER
  SAMPLE_BITS = 8
  BANDS = 1
  BAND_STORAGE_TYPE = BAND_SEQUENTIAL
  MAXIMUM = 255
  MEAN = 102.377
  MINIMUM = 1
  STANDARD_DEVIATION = 31.03
END_OBJECT = IMAGE
/* MAP OBJECT DEFINITIONS */
OBJECT = IMAGE_MAP_PROJECTION
  ^DATA_SET_MAP_PROJECTION_CATALOG= "DSMAP.CAT"
  A_AXIS_RADIUS = 3396.0
  B_AXIS_RADIUS = 3396.0
  C_AXIS_RADIUS = 3396.0
  CENTER_LATITUDE = 0.0
  CENTER_LONGITUDE = 150.0
  COORDINATE_SYSTEM_NAME = PLANETOGRAPHIC
  COORDINATE_SYSTEM_TYPE = "BODY-FIXED ROTATING"
  EASTERNMOST_LONGITUDE = 153.024
  FIRST_STANDARD_PARALLEL = "N/A"
  LINE_FIRST_PIXEL = 1
  LINE_LAST_PIXEL = 9324
  LINE_PROJECTION_OFFSET = 27002.75
  MAP_PROJECTION_ROTATION = 0.0
  MAP_PROJECTION_TYPE = SINUSOIDAL
  MAP_RESOLUTION = 592.713803866667
  MAP_SCALE = 0.1
  MAXIMUM_LATITUDE = 45.5638
  MINIMUM_LATITUDE = 29.7509
  POSITIVE_LONGITUDE_DIRECTION = EAST
  REFERENCE_LATITUDE = "N/A"
  REFERENCE_LONGITUDE = "N/A"
  SAMPLE_FIRST_PIXEL = 1
  SAMPLE_LAST_PIXEL = 3066
  SAMPLE_PROJECTION_OFFSET = 1722.25
  SECOND_STANDARD_PARALLEL = "N/A"
  WESTERNMOST_LONGITUDE = 145.731
END_OBJECT = IMAGE_MAP_PROJECTION
END
