PDS_VERSION_ID = PDS3
/* FILE DATA ELEMENTS */
RECORD_TYPE = UNDEFINED
/* POINTERS TO DATA OBJECTS */
^IMAGE = ("H2895_0000_P24.TIF")
/* IDENTIFICATION DATA ELEMENTS */
DATA_SET_ID = "MEX-M-HRSC-4-REFDR-MAPPROJECT-EXT1-V4.0"
DATA_SET_NAME = "MARS EXPRESS HRSC MAP PROJECTED REFDR EXTENSION1 V4.0"
DETECTOR_ID = MEX_HRSC_P2
EVENT_TYPE = "MARS-REGIONAL-MAPPING-Vo-Te"
INSTRUMENT_HOST_ID = MEX
INSTRUMENT_HOST_NAME = "MARS EXPRESS"
INSTRUMENT_ID = HRSC
INSTRUMENT_NAME = "HIGH RESOLUTION STEREO CAMERA"
MISSION_NAME = "MARS EXPRESS"
MISSION_PHASE_NAME = ME_Phase_2
PROCESSING_LEVEL_ID = 4
PRODUCT_CREATION_TIME = 2023-02-09T07:39:13.000Z
PRODUCT_ID = "H2895_0000_P24.TIF"
RELEASE_ID = 0002
REVISION_ID = 0000
/* QUALITY DATA ELEMENTS */
DATA_QUALITY_ID = 1
DATA_QUALITY_DESC = "Data calculated based on original SPICE kernels"
/* TIME DATA ELEMENTS */
SPACECRAFT_CLOCK_START_COUNT = "1/0092991770.09063"
SPACECRAFT_CLOCK_STOP_COUNT = "1/0092992778.06113"
START_TIME = 2006-04-13T07:14:24.903Z
STOP_TIME = 2006-04-13T07:18:58.984Z
/* ORBITAL DATA ELEMENTS */
ASCENDING_NODE_LONGITUDE = 167.53
MAXIMUM_RESOLUTION = 0.0915
FOOTPRINT_POINT_LATITUDE = (47.3483,47.3679,47.3782,47.3863, 47.3922,47.396,47.3976,47.3971,47.3945, 47.3898,47.3828,47.3736,47.359,47.3574, 47.412,46.932,46.568,46.0813,45.4642, 44.9685,44.5962,44.226,43.7278,43.2291, 42.7263,42.2206,41.7118,41.1993,40.6837 ,40.4252,40.1673,39.9093,39.6498, 39.3897,39.1287,38.8669,38.6045,38.3415 ,38.0775,37.8131,37.548,37.1504,36.8846 ,36.618,36.3505,36.0829,35.8155,35.5495 ,35.2855,35.0229,34.7612,34.631,34.6182 ,34.6188,34.617,34.6152,34.6107,34.6073 ,34.6029,34.5958,34.5909,34.5835, 34.5826,34.5835,34.9738,35.2358,35.4998 ,35.8985,36.301,36.5699,36.8386,37.2405 ,37.5073,37.7726,38.0376,38.3021, 38.5657,38.8285,39.0908,39.3524,39.6134 ,39.8739,40.1335,40.3926,40.6511, 41.1659,41.6776,42.1866,42.6927,43.1969 ,43.6981,44.1978,44.9453,45.3166, 45.9329,46.4222,46.7868,47.27,47.3906, 47.3483)
FOOTPRINT_POINT_LONGITUDE = (254.937,254.027,253.423,252.819, 252.215,251.612,251.008,250.406,249.803 ,249.199,248.595,247.989,247.231, 247.155,247.089,247.172,247.235,247.315 ,247.417,247.495,247.551,247.603, 247.673,247.74,247.806,247.87,247.933, 247.994,248.054,248.083,248.111,248.139 ,248.166,248.193,248.22,248.246,248.272 ,248.297,248.323,248.348,248.372, 248.407,248.43,248.453,248.476,248.498, 248.52,248.542,248.563,248.584,248.604, 248.614,248.615,249.303,249.899,250.311 ,250.905,251.271,251.775,252.37,252.691 ,253.29,253.336,253.353,253.391,253.416 ,253.443,253.483,253.524,253.553, 253.581,253.625,253.654,253.683,253.712 ,253.742,253.771,253.801,253.831, 253.862,253.892,253.923,253.954,253.986 ,254.017,254.081,254.146,254.212, 254.278,254.346,254.415,254.485,254.595 ,254.65,254.745,254.821,254.879,254.956 ,254.976,254.937)
ORBIT_NUMBER = 2895
ORBITAL_ECCENTRICITY = 0.573
ORBITAL_INCLINATION = 86.61
ORBITAL_SEMIMAJOR_AXIS = 8607.91
PERIAPSIS_ALTITUDE = 286.02
PERIAPSIS_ARGUMENT_ANGLE = 209.85
PERIAPSIS_TIME = 2006-04-13T07:36:18.000Z
SPACECRAFT_ORIENTATION = (0.0,-1.0,0.0)
^MEX_ORIENTATION_DESC = "MEX_ORIENTATION_DESC.TXT"
SPACECRAFT_POINTING_MODE = NADIR
^MEX_POINTING_DESC = "MEX_POINTING_DESC.TXT"
RIGHT_ASCENSION = -1e+32
DECLINATION = -1e+32
OFFSET_ANGLE = -1e+32
SPACECRAFT_SOLAR_DISTANCE = 2.45267e+08
TARGET_NAME = MARS
/* CAMERA DATA ELEMENTS */
DETECTOR_TEMPERATURE = 18.3705
FOCAL_PLANE_TEMPERATURE = 7.5638
INST_CMPRS_NAME = "DISCRETE COSINE TRANSFORMATION (DCT)"
INST_CMPRS_RATIO = 6.27616
INST_CMPRS_QUALITY = 0
INST_CMPRS_QUANTZ_TBL_ID = 0
INSTRUMENT_TEMPERATURE = 10.8262
LENS_TEMPERATURE = 7.9716
MACROPIXEL_SIZE = 2
MISSING_FRAMES = 0
PIXEL_SUBSAMPLING_FLAG = N
SIGNAL_CHAIN_ID = 3
/* RADIOMETRIC DATA ELEMENTS */
BANDWIDTH = 177.0
CENTER_FILTER_WAVELENGTH = 676.5
RADIANCE_OFFSET = 1.13592
RADIANCE_SCALING_FACTOR = 0.0182637
REFLECTANCE_SCALING_FACTOR = 0.000582527
MEX:REFLECTANCE_OFFSET = 0.0362304
/* IMAGE OBJECT DEFINITIONS */
OBJECT = IMAGE
  INTERCHANGE_FORMAT = BINARY
  LINES = 7627
  LINE_SAMPLES = 3628
  SAMPLE_TYPE = UNSIGNED_INTEGER
  SAMPLE_BITS = 8
  BANDS = 1
  BAND_STORAGE_TYPE = BAND_SEQUENTIAL
  MAXIMUM = 255
  MEAN = 70.2706
  MINIMUM = 1
  STANDARD_DEVIATION = 19.4025
END_OBJECT = IMAGE
/* MAP OBJECT DEFINITIONS */
OBJECT = IMAGE_MAP_PROJECTION
  ^DATA_SET_MAP_PROJECTION_CATALOG= "DSMAP.CAT"
  A_AXIS_RADIUS = 3396.0
  B_AXIS_RADIUS = 3396.0
  C_AXIS_RADIUS = 3396.0
  CENTER_LATITUDE = 0.0
  CENTER_LONGITUDE = 251.0
  COORDINATE_SYSTEM_NAME = PLANETOGRAPHIC
  COORDINATE_SYSTEM_TYPE = "BODY-FIXED ROTATING"
  EASTERNMOST_LONGITUDE = 254.976
  FIRST_STANDARD_PARALLEL = "N/A"
  LINE_FIRST_PIXEL = 1
  LINE_LAST_PIXEL = 7627
  LINE_PROJECTION_OFFSET = 28113.75
  MAP_PROJECTION_ROTATION = 0.0
  MAP_PROJECTION_TYPE = SINUSOIDAL
  MAP_RESOLUTION = 592.713803866667
  MAP_SCALE = 0.1
  MAXIMUM_LATITUDE = 47.412
  MINIMUM_LATITUDE = 34.5826
  POSITIVE_LONGITUDE_DIRECTION = EAST
  REFERENCE_LATITUDE = "N/A"
  REFERENCE_LONGITUDE = "N/A"
  SAMPLE_FIRST_PIXEL = 1
  SAMPLE_LAST_PIXEL = 3628
  SAMPLE_PROJECTION_OFFSET = 1811.75
  SECOND_STANDARD_PARALLEL = "N/A"
  WESTERNMOST_LONGITUDE = 247.089
END_OBJECT = IMAGE_MAP_PROJECTION
END
