PDS_VERSION_ID = PDS3
/* FILE DATA ELEMENTS */
RECORD_TYPE = UNDEFINED
/* POINTERS TO DATA OBJECTS */
^IMAGE = ("H2882_0001_ND4.TIF")
/* IDENTIFICATION DATA ELEMENTS */
DATA_SET_ID = "MEX-M-HRSC-4-REFDR-MAPPROJECT-EXT1-V4.0"
DATA_SET_NAME = "MARS EXPRESS HRSC MAP PROJECTED REFDR EXTENSION1 V4.0"
DETECTOR_ID = MEX_HRSC_NADIR
EVENT_TYPE = "MARS-TERMINATOR-VARIABLE-At"
INSTRUMENT_HOST_ID = MEX
INSTRUMENT_HOST_NAME = "MARS EXPRESS"
INSTRUMENT_ID = HRSC
INSTRUMENT_NAME = "HIGH RESOLUTION STEREO CAMERA"
MISSION_NAME = "MARS EXPRESS"
MISSION_PHASE_NAME = ME_Phase_2
PROCESSING_LEVEL_ID = 4
PRODUCT_CREATION_TIME = 2023-02-09T07:39:13.000Z
PRODUCT_ID = "H2882_0001_ND4.TIF"
RELEASE_ID = 0002
REVISION_ID = 0000
/* QUALITY DATA ELEMENTS */
DATA_QUALITY_ID = 1
DATA_QUALITY_DESC = "Data calculated based on original SPICE kernels"
/* TIME DATA ELEMENTS */
SPACECRAFT_CLOCK_START_COUNT = "1/0092678584.08258"
SPACECRAFT_CLOCK_STOP_COUNT = "1/0092678871.38316"
START_TIME = 2006-04-09T16:04:26.318Z
STOP_TIME = 2006-04-09T16:07:11.310Z
/* ORBITAL DATA ELEMENTS */
ASCENDING_NODE_LONGITUDE = 167.81
MAXIMUM_RESOLUTION = 0.0384
FOOTPRINT_POINT_LATITUDE = (8.36111,8.36513,8.36893,8.37246, 8.37575,8.37878,8.38249,8.38265,8.38269 ,8.06417,7.85175,7.64227,7.43255, 7.12091,6.91376,6.70767,6.50329,6.19743 ,5.99569,5.69297,5.49392,5.29455, 5.09592,4.89946,4.70267,4.5072,4.31337, 4.11918,3.83056,3.6393,3.35243,3.16381, 2.88088,2.60093,2.41504,2.22881,2.04406 ,1.86117,1.67805,1.49469,1.31465, 1.13434,0.774114,0.419184,0.0647159, -0.284527,-0.804465,-1.06233,-1.14836, -1.17548,-1.17906,-1.18275,-1.18544, -1.18807,-1.19086,-1.19393,-1.19403, -1.1935,-0.935594,-0.592296,-0.242816, 0.106106,0.372443,0.727289,1.0869, 1.26713,1.44699,1.72168,1.9048,2.08762, 2.36591,2.55204,2.73767,2.92593,3.11463 ,3.30301,3.58896,3.78046,3.97147, 4.16559,4.35956,4.55323,4.74977,4.94639 ,5.24266,5.44204,5.64109,5.84227, 6.04418,6.34802,6.5526,6.75682,6.96394, 7.27431,7.58838,7.79774,8.00981,8.22186 ,8.32786,8.36111)
FOOTPRINT_POINT_LONGITUDE = (87.7161,87.3739,87.0278,86.6772, 86.3225,85.9632,85.4603,85.4372,85.4095 ,85.4177,85.4228,85.428,85.4331,85.4404 ,85.4449,85.4497,85.4543,85.4611, 85.4655,85.4719,85.4762,85.4802,85.4843 ,85.4882,85.4923,85.4962,85.5,85.5053, 85.5121,85.5154,85.5253,85.5353,85.5361 ,85.5408,85.5455,85.5523,85.5635, 85.5645,85.5648,85.5664,85.5692,85.5728 ,85.5786,85.5864,85.6028,85.6087, 85.6085,85.6132,85.6141,85.6144,85.9349 ,86.28,86.5347,86.7861,87.0508,87.3444, 87.3599,87.3657,87.3737,87.3831,87.3952 ,87.4064,87.4144,87.4254,87.4371, 87.4434,87.4509,87.458,87.4638,87.4702, 87.4823,87.4861,87.492,87.4987,87.5049, 87.5116,87.5235,87.5286,87.5355,87.5428 ,87.5501,87.5575,87.5651,87.5727, 87.5842,87.5921,87.5999,87.6079,87.616, 87.6283,87.6366,87.645,87.6536,87.6664, 87.6796,87.6884,87.6974,87.7065,87.711, 87.7161)
ORBIT_NUMBER = 2882
ORBITAL_ECCENTRICITY = 0.573
ORBITAL_INCLINATION = 86.62
ORBITAL_SEMIMAJOR_AXIS = 8601.33
PERIAPSIS_ALTITUDE = 285.7
PERIAPSIS_ARGUMENT_ANGLE = 212.12
PERIAPSIS_TIME = 2006-04-09T16:15:10.000Z
SPACECRAFT_ORIENTATION = (0.0,-1.0,0.0)
^MEX_ORIENTATION_DESC = "MEX_ORIENTATION_DESC.TXT"
SPACECRAFT_POINTING_MODE = ACROSSTRACK
^MEX_POINTING_DESC = "MEX_POINTING_DESC.TXT"
RIGHT_ASCENSION = -1e+32
DECLINATION = -1e+32
OFFSET_ANGLE = -1.6
SPACECRAFT_SOLAR_DISTANCE = 2.44875e+08
TARGET_NAME = MARS
/* CAMERA DATA ELEMENTS */
DETECTOR_TEMPERATURE = 20.4095
FOCAL_PLANE_TEMPERATURE = 8.1755
INST_CMPRS_NAME = "DISCRETE COSINE TRANSFORMATION (DCT)"
INST_CMPRS_RATIO = 11.3181
INST_CMPRS_QUALITY = 0
INST_CMPRS_QUANTZ_TBL_ID = 0
INSTRUMENT_TEMPERATURE = 14.2925
LENS_TEMPERATURE = 8.5833
MACROPIXEL_SIZE = 2
MISSING_FRAMES = 0
PIXEL_SUBSAMPLING_FLAG = N
SIGNAL_CHAIN_ID = 0
/* RADIOMETRIC DATA ELEMENTS */
BANDWIDTH = 177.0
CENTER_FILTER_WAVELENGTH = 677.5
RADIANCE_OFFSET = 0.150735
RADIANCE_SCALING_FACTOR = 0.00437427
REFLECTANCE_SCALING_FACTOR = 0.00013934
MEX:REFLECTANCE_OFFSET = 0.00480158
/* IMAGE OBJECT DEFINITIONS */
OBJECT = IMAGE
  INTERCHANGE_FORMAT = BINARY
  LINES = 11353
  LINE_SAMPLES = 2702
  SAMPLE_TYPE = UNSIGNED_INTEGER
  SAMPLE_BITS = 8
  BANDS = 1
  BAND_STORAGE_TYPE = BAND_SEQUENTIAL
  MAXIMUM = 254
  MEAN = 113.997
  MINIMUM = 1
  STANDARD_DEVIATION = 44.7429
END_OBJECT = IMAGE
/* MAP OBJECT DEFINITIONS */
OBJECT = IMAGE_MAP_PROJECTION
  ^DATA_SET_MAP_PROJECTION_CATALOG= "DSMAP.CAT"
  A_AXIS_RADIUS = 3396.0
  B_AXIS_RADIUS = 3396.0
  C_AXIS_RADIUS = 3396.0
  CENTER_LATITUDE = 0.0
  CENTER_LONGITUDE = 87.0
  COORDINATE_SYSTEM_NAME = PLANETOGRAPHIC
  COORDINATE_SYSTEM_TYPE = "BODY-FIXED ROTATING"
  EASTERNMOST_LONGITUDE = 87.7161
  FIRST_STANDARD_PARALLEL = "N/A"
  LINE_FIRST_PIXEL = 1
  LINE_LAST_PIXEL = 11353
  LINE_PROJECTION_OFFSET = 9937.0
  MAP_PROJECTION_ROTATION = 0.0
  MAP_PROJECTION_TYPE = SINUSOIDAL
  MAP_RESOLUTION = 1185.42760773333
  MAP_SCALE = 0.05
  MAXIMUM_LATITUDE = 8.38269
  MINIMUM_LATITUDE = -1.19403
  POSITIVE_LONGITUDE_DIRECTION = EAST
  REFERENCE_LATITUDE = "N/A"
  REFERENCE_LONGITUDE = "N/A"
  SAMPLE_FIRST_PIXEL = 1
  SAMPLE_LAST_PIXEL = 2702
  SAMPLE_PROJECTION_OFFSET = 1865.0
  SECOND_STANDARD_PARALLEL = "N/A"
  WESTERNMOST_LONGITUDE = 85.40949999999999
END_OBJECT = IMAGE_MAP_PROJECTION
END
