PDS_VERSION_ID = PDS3
/* FILE DATA ELEMENTS */
RECORD_TYPE = UNDEFINED
/* POINTERS TO DATA OBJECTS */
^IMAGE = ("H2882_0000_ND4.TIF")
/* IDENTIFICATION DATA ELEMENTS */
DATA_SET_ID = "MEX-M-HRSC-4-REFDR-MAPPROJECT-EXT1-V4.0"
DATA_SET_NAME = "MARS EXPRESS HRSC MAP PROJECTED REFDR EXTENSION1 V4.0"
DETECTOR_ID = MEX_HRSC_NADIR
EVENT_TYPE = "MARS-REGIONAL-MAPPING-Vo-Lc-Pf"
INSTRUMENT_HOST_ID = MEX
INSTRUMENT_HOST_NAME = "MARS EXPRESS"
INSTRUMENT_ID = HRSC
INSTRUMENT_NAME = "HIGH RESOLUTION STEREO CAMERA"
MISSION_NAME = "MARS EXPRESS"
MISSION_PHASE_NAME = ME_Phase_2
PROCESSING_LEVEL_ID = 4
PRODUCT_CREATION_TIME = 2023-02-09T07:39:13.000Z
PRODUCT_ID = "H2882_0000_ND4.TIF"
RELEASE_ID = 0002
REVISION_ID = 0000
/* QUALITY DATA ELEMENTS */
DATA_QUALITY_ID = 1
DATA_QUALITY_DESC = "Data calculated based on original SPICE kernels"
/* TIME DATA ELEMENTS */
SPACECRAFT_CLOCK_START_COUNT = "1/0092677388.08254"
SPACECRAFT_CLOCK_STOP_COUNT = "1/0092678454.11560"
START_TIME = 2006-04-09T15:51:18.485Z
STOP_TIME = 2006-04-09T15:59:11.393Z
/* ORBITAL DATA ELEMENTS */
ASCENDING_NODE_LONGITUDE = 167.81
MAXIMUM_RESOLUTION = 0.0401
FOOTPRINT_POINT_LATITUDE = (43.7366,43.7469,43.7522,43.7542, 43.7528,43.7478,43.7394,43.7273,43.7117 ,43.6924,43.6694,43.6427,43.5996, 43.5953,43.5913,42.9233,42.2469,41.562, 40.8686,40.1664,39.4555,38.7357,38.007, 37.2692,36.5223,35.7661,35.0005,34.6142 ,34.2255,33.8345,33.441,33.0452,32.6469 ,32.2462,31.8431,31.4375,31.0295,30.619 ,30.206,29.7905,29.3725,28.952,28.3238, 27.9093,27.4983,27.0908,26.6867,26.2861 ,25.8885,25.4945,25.1034,24.7157,24.523 ,24.4987,24.5057,24.5076,24.5066, 24.5005,24.492,24.4915,24.4918,24.879, 25.269,25.6625,26.0593,26.4594,26.8627, 27.27,27.6803,28.0943,28.5119,29.1446, 29.5658,29.9846,30.401,30.8149,31.2265, 31.6356,32.0424,32.4469,32.849,33.2487, 33.6461,34.0413,34.4341,34.8246,35.5989 ,36.3642,37.1207,37.8684,38.6074, 39.3379,40.06,40.7738,41.4794,42.1768, 42.8664,43.548,43.7172,43.7366)
FOOTPRINT_POINT_LONGITUDE = (90.4956,89.7852,89.1532,88.5201, 87.8851,87.2482,86.61,85.97,85.3286, 84.6841,84.0373,83.3864,82.487,82.405, 82.2989,82.4376,82.572,82.7028,82.8293, 82.9521,83.0707,83.186,83.2978,83.4061, 83.5107,83.6123,83.7104,83.7584,83.8056 ,83.8518,83.8984,83.9427,83.9864, 84.0298,84.0723,84.1142,84.1553,84.1957 ,84.2362,84.2748,84.3134,84.3523, 84.4079,84.443,84.4767,84.5094,84.5417, 84.5734,84.606,84.6292,84.6613,84.6886, 84.7003,84.702,85.608,86.384,86.9211, 87.8358,88.5517,88.5893,88.6077,88.6351 ,88.663,88.6916,88.7207,88.7504,88.7808 ,88.8119,88.8437,88.8761,88.9092, 88.9604,88.995,89.03,89.0652,89.1007, 89.1364,89.1725,89.2088,89.2455,89.2824 ,89.3196,89.3571,89.395,89.433,89.4714, 89.5492,89.6282,89.7085,89.7899,89.8726 ,89.9567,90.042,90.1288,90.2168,90.3063 ,90.3971,90.4894,90.5126,90.4956)
ORBIT_NUMBER = 2882
ORBITAL_ECCENTRICITY = 0.573
ORBITAL_INCLINATION = 86.62
ORBITAL_SEMIMAJOR_AXIS = 8601.33
PERIAPSIS_ALTITUDE = 285.7
PERIAPSIS_ARGUMENT_ANGLE = 212.12
PERIAPSIS_TIME = 2006-04-09T16:15:10.000Z
SPACECRAFT_ORIENTATION = (0.0,-1.0,0.0)
^MEX_ORIENTATION_DESC = "MEX_ORIENTATION_DESC.TXT"
SPACECRAFT_POINTING_MODE = ACROSSTRACK
^MEX_POINTING_DESC = "MEX_POINTING_DESC.TXT"
RIGHT_ASCENSION = -1e+32
DECLINATION = -1e+32
OFFSET_ANGLE = -1.6
SPACECRAFT_SOLAR_DISTANCE = 2.44875e+08
TARGET_NAME = MARS
/* CAMERA DATA ELEMENTS */
DETECTOR_TEMPERATURE = 17.9627
FOCAL_PLANE_TEMPERATURE = 7.7677
INST_CMPRS_NAME = "DISCRETE COSINE TRANSFORMATION (DCT)"
INST_CMPRS_RATIO = 6.68178
INST_CMPRS_QUALITY = 0
INST_CMPRS_QUANTZ_TBL_ID = 0
INSTRUMENT_TEMPERATURE = 11.0301
LENS_TEMPERATURE = 7.9716
MACROPIXEL_SIZE = 1
MISSING_FRAMES = 0
PIXEL_SUBSAMPLING_FLAG = N
SIGNAL_CHAIN_ID = 0
/* RADIOMETRIC DATA ELEMENTS */
BANDWIDTH = 177.0
CENTER_FILTER_WAVELENGTH = 677.5
RADIANCE_OFFSET = 1.0343
RADIANCE_SCALING_FACTOR = 0.0105748
REFLECTANCE_SCALING_FACTOR = 0.000336851
MEX:REFLECTANCE_OFFSET = 0.0329468
/* IMAGE OBJECT DEFINITIONS */
OBJECT = IMAGE
  INTERCHANGE_FORMAT = BINARY
  LINES = 22839
  LINE_SAMPLES = 7050
  SAMPLE_TYPE = UNSIGNED_INTEGER
  SAMPLE_BITS = 8
  BANDS = 1
  BAND_STORAGE_TYPE = BAND_SEQUENTIAL
  MAXIMUM = 255
  MEAN = 81.6279
  MINIMUM = 1
  STANDARD_DEVIATION = 31.4443
END_OBJECT = IMAGE
/* MAP OBJECT DEFINITIONS */
OBJECT = IMAGE_MAP_PROJECTION
  ^DATA_SET_MAP_PROJECTION_CATALOG= "DSMAP.CAT"
  A_AXIS_RADIUS = 3396.0
  B_AXIS_RADIUS = 3396.0
  C_AXIS_RADIUS = 3396.0
  CENTER_LATITUDE = 0.0
  CENTER_LONGITUDE = 87.0
  COORDINATE_SYSTEM_NAME = PLANETOGRAPHIC
  COORDINATE_SYSTEM_TYPE = "BODY-FIXED ROTATING"
  EASTERNMOST_LONGITUDE = 90.51260000000001
  FIRST_STANDARD_PARALLEL = "N/A"
  LINE_FIRST_PIXEL = 1
  LINE_LAST_PIXEL = 22839
  LINE_PROJECTION_OFFSET = 51870.0
  MAP_PROJECTION_ROTATION = 0.0
  MAP_PROJECTION_TYPE = SINUSOIDAL
  MAP_RESOLUTION = 1185.42760773333
  MAP_SCALE = 0.05
  MAXIMUM_LATITUDE = 43.7542
  MINIMUM_LATITUDE = 24.4915
  POSITIVE_LONGITUDE_DIRECTION = EAST
  REFERENCE_LATITUDE = "N/A"
  REFERENCE_LONGITUDE = "N/A"
  SAMPLE_FIRST_PIXEL = 1
  SAMPLE_LAST_PIXEL = 7050
  SAMPLE_PROJECTION_OFFSET = 4041.0
  SECOND_STANDARD_PARALLEL = "N/A"
  WESTERNMOST_LONGITUDE = 82.2989
END_OBJECT = IMAGE_MAP_PROJECTION
END
