PDS_VERSION_ID = PDS3
/* FILE DATA ELEMENTS */
RECORD_TYPE = UNDEFINED
/* POINTERS TO DATA OBJECTS */
^IMAGE = ("H2880_0000_BL4.TIF")
/* IDENTIFICATION DATA ELEMENTS */
DATA_SET_ID = "MEX-M-HRSC-4-REFDR-MAPPROJECT-EXT1-V4.0"
DATA_SET_NAME = "MARS EXPRESS HRSC MAP PROJECTED REFDR EXTENSION1 V4.0"
DETECTOR_ID = MEX_HRSC_BLUE
EVENT_TYPE = "MARS-REGIONAL-MAPPING-Vo-Te-Pf"
INSTRUMENT_HOST_ID = MEX
INSTRUMENT_HOST_NAME = "MARS EXPRESS"
INSTRUMENT_ID = HRSC
INSTRUMENT_NAME = "HIGH RESOLUTION STEREO CAMERA"
MISSION_NAME = "MARS EXPRESS"
MISSION_PHASE_NAME = ME_Phase_2
PROCESSING_LEVEL_ID = 4
PRODUCT_CREATION_TIME = 2023-02-09T07:39:13.000Z
PRODUCT_ID = "H2880_0000_BL4.TIF"
RELEASE_ID = 0002
REVISION_ID = 0000
/* QUALITY DATA ELEMENTS */
DATA_QUALITY_ID = 1
DATA_QUALITY_DESC = "Data calculated based on original SPICE kernels"
/* TIME DATA ELEMENTS */
SPACECRAFT_CLOCK_START_COUNT = "1/0092628428.08242"
SPACECRAFT_CLOCK_STOP_COUNT = "1/0092629915.03132"
START_TIME = 2006-04-09T02:22:14.412Z
STOP_TIME = 2006-04-09T02:30:00.541Z
/* ORBITAL DATA ELEMENTS */
ASCENDING_NODE_LONGITUDE = 167.84
MAXIMUM_RESOLUTION = 0.1985
FOOTPRINT_POINT_LATITUDE = (50.8155,50.8557,50.8762,50.8917, 50.9022,50.9088,50.9064,50.8991,50.8869 ,50.8698,50.8476,50.8203,50.7837, 50.7793,50.7975,50.1818,49.5581,48.9286 ,48.4496,47.8061,47.1563,46.4985,45.833 ,44.9924,44.4808,43.7944,43.1013, 42.3988,42.0446,41.6883,41.3302,40.9698 ,40.6076,40.2433,39.8771,39.5087, 39.1385,38.7665,38.392,38.0152,37.6364, 37.2555,36.8727,36.4877,36.1006,35.7108 ,35.3194,34.9263,34.5311,34.1329, 33.7329,33.3304,33.1284,33.1169,33.1194 ,33.1208,33.1166,33.1111,33.1054, 33.0939,33.063,33.0616,33.0631,33.6678, 34.0684,34.4669,34.8631,35.2569,35.8434 ,36.4256,36.8109,37.1942,37.5756, 37.9552,38.3328,38.7083,39.082,39.4536, 39.8233,40.1909,40.5565,40.9204,41.282, 41.6416,41.9996,42.3562,42.71,43.4123, 44.2788,44.9643,45.8135,46.4844,47.1467 ,47.8009,48.4516,49.0946,49.8891, 50.6731,50.8285,50.8155)
FOOTPRINT_POINT_LONGITUDE = (290.544,289.351,288.557,287.764, 286.972,285.684,284.893,284.102,283.311 ,282.52,281.727,280.932,280.039,279.94, 279.854,280.012,280.167,280.314,280.427 ,280.57,280.705,280.837,280.966,281.116 ,281.207,281.319,281.425,281.531, 281.582,281.633,281.683,281.732,281.78, 281.828,281.874,281.92,281.964,282.007, 282.051,282.094,282.135,282.177,282.217 ,282.256,282.295,282.334,282.371, 282.407,282.442,282.477,282.512,282.546 ,282.563,282.564,282.993,283.667, 284.674,285.249,285.68,286.352,287.649, 287.697,287.713,287.782,287.828,287.875 ,287.922,287.969,288.04,288.112,288.161 ,288.21,288.26,288.311,288.362,288.414, 288.466,288.519,288.573,288.627,288.681 ,288.736,288.791,288.846,288.903, 288.961,289.018,289.133,289.278,289.398 ,289.557,289.686,289.813,289.939, 290.077,290.214,290.39,290.57,290.605, 290.544)
ORBIT_NUMBER = 2880
ORBITAL_ECCENTRICITY = 0.573
ORBITAL_INCLINATION = 86.62
ORBITAL_SEMIMAJOR_AXIS = 8599.61
PERIAPSIS_ALTITUDE = 285.54
PERIAPSIS_ARGUMENT_ANGLE = 212.5
PERIAPSIS_TIME = 2006-04-09T02:48:55.000Z
SPACECRAFT_ORIENTATION = (0.0,-1.0,0.0)
^MEX_ORIENTATION_DESC = "MEX_ORIENTATION_DESC.TXT"
SPACECRAFT_POINTING_MODE = NADIR
^MEX_POINTING_DESC = "MEX_POINTING_DESC.TXT"
RIGHT_ASCENSION = -1e+32
DECLINATION = -1e+32
OFFSET_ANGLE = -1e+32
SPACECRAFT_SOLAR_DISTANCE = 2.44814e+08
TARGET_NAME = MARS
/* CAMERA DATA ELEMENTS */
DETECTOR_TEMPERATURE = 18.3705
FOCAL_PLANE_TEMPERATURE = 7.5638
INST_CMPRS_NAME = "DISCRETE COSINE TRANSFORMATION (DCT)"
INST_CMPRS_RATIO = 18.0454
INST_CMPRS_QUALITY = 0
INST_CMPRS_QUANTZ_TBL_ID = 0
INSTRUMENT_TEMPERATURE = 11.234
LENS_TEMPERATURE = 8.3794
MACROPIXEL_SIZE = 4
MISSING_FRAMES = 0
PIXEL_SUBSAMPLING_FLAG = N
SIGNAL_CHAIN_ID = 2
/* RADIOMETRIC DATA ELEMENTS */
BANDWIDTH = 76.0
CENTER_FILTER_WAVELENGTH = 444.0
RADIANCE_OFFSET = 0.195111
RADIANCE_SCALING_FACTOR = 0.0015978
REFLECTANCE_SCALING_FACTOR = 9.83871e-05
MEX:REFLECTANCE_OFFSET = 0.0120143
/* IMAGE OBJECT DEFINITIONS */
OBJECT = IMAGE
  INTERCHANGE_FORMAT = BINARY
  LINES = 5296
  LINE_SAMPLES = 2123
  SAMPLE_TYPE = UNSIGNED_INTEGER
  SAMPLE_BITS = 8
  BANDS = 1
  BAND_STORAGE_TYPE = BAND_SEQUENTIAL
  MAXIMUM = 255
  MEAN = 102.245
  MINIMUM = 1
  STANDARD_DEVIATION = 40.2585
END_OBJECT = IMAGE
/* MAP OBJECT DEFINITIONS */
OBJECT = IMAGE_MAP_PROJECTION
  ^DATA_SET_MAP_PROJECTION_CATALOG= "DSMAP.CAT"
  A_AXIS_RADIUS = 3396.0
  B_AXIS_RADIUS = 3396.0
  C_AXIS_RADIUS = 3396.0
  CENTER_LATITUDE = 0.0
  CENTER_LONGITUDE = 285.0
  COORDINATE_SYSTEM_NAME = PLANETOGRAPHIC
  COORDINATE_SYSTEM_TYPE = "BODY-FIXED ROTATING"
  EASTERNMOST_LONGITUDE = 290.605
  FIRST_STANDARD_PARALLEL = "N/A"
  LINE_FIRST_PIXEL = 1
  LINE_LAST_PIXEL = 5296
  LINE_PROJECTION_OFFSET = 15093.375
  MAP_PROJECTION_ROTATION = 0.0
  MAP_PROJECTION_TYPE = SINUSOIDAL
  MAP_RESOLUTION = 296.356901933333
  MAP_SCALE = 0.2
  MAXIMUM_LATITUDE = 50.9088
  MINIMUM_LATITUDE = 33.0616
  POSITIVE_LONGITUDE_DIRECTION = EAST
  REFERENCE_LATITUDE = "N/A"
  REFERENCE_LONGITUDE = "N/A"
  SAMPLE_FIRST_PIXEL = 1
  SAMPLE_LAST_PIXEL = 2123
  SAMPLE_PROJECTION_OFFSET = 1027.125
  SECOND_STANDARD_PARALLEL = "N/A"
  WESTERNMOST_LONGITUDE = 279.854
END_OBJECT = IMAGE_MAP_PROJECTION
END
