PDS_VERSION_ID = PDS3
/* FILE DATA ELEMENTS */
RECORD_TYPE = UNDEFINED
/* POINTERS TO DATA OBJECTS */
^IMAGE = ("H2876_0000_ND4.TIF")
/* IDENTIFICATION DATA ELEMENTS */
DATA_SET_ID = "MEX-M-HRSC-4-REFDR-MAPPROJECT-EXT1-V4.0"
DATA_SET_NAME = "MARS EXPRESS HRSC MAP PROJECTED REFDR EXTENSION1 V4.0"
DETECTOR_ID = MEX_HRSC_NADIR
EVENT_TYPE = "MARS-REGIONAL-MAPPING-Vo-Lc"
INSTRUMENT_HOST_ID = MEX
INSTRUMENT_HOST_NAME = "MARS EXPRESS"
INSTRUMENT_ID = HRSC
INSTRUMENT_NAME = "HIGH RESOLUTION STEREO CAMERA"
MISSION_NAME = "MARS EXPRESS"
MISSION_PHASE_NAME = ME_Phase_2
PROCESSING_LEVEL_ID = 4
PRODUCT_CREATION_TIME = 2023-02-09T07:39:13.000Z
PRODUCT_ID = "H2876_0000_ND4.TIF"
RELEASE_ID = 0002
REVISION_ID = 0000
/* QUALITY DATA ELEMENTS */
DATA_QUALITY_ID = 1
DATA_QUALITY_DESC = "Data calculated based on original SPICE kernels"
/* TIME DATA ELEMENTS */
SPACECRAFT_CLOCK_START_COUNT = "1/0092532090.09072"
SPACECRAFT_CLOCK_STOP_COUNT = "1/0092533262.15492"
START_TIME = 2006-04-07T23:31:05.695Z
STOP_TIME = 2006-04-07T23:39:08.672Z
/* ORBITAL DATA ELEMENTS */
ASCENDING_NODE_LONGITUDE = 167.93
MAXIMUM_RESOLUTION = 0.0434
FOOTPRINT_POINT_LATITUDE = (45.0339,45.0594,45.0806,45.0975, 45.1142,45.1211,45.1241,45.1199,45.1078 ,45.0941,45.0761,45.0508,45.0476, 45.0462,44.3993,43.7445,43.0817,42.4108 ,41.7316,41.0441,40.3482,39.6438, 38.9308,38.2091,37.4785,36.7391,36.366, 35.9906,35.6129,35.233,34.8508,34.4662, 34.0794,33.6901,33.2986,32.9047,32.5084 ,32.1097,31.7086,31.3051,30.8992, 30.4908,30.08,29.6668,29.2511,28.8329, 28.4122,27.9891,27.5634,27.1352,26.4882 ,26.2712,26.2408,26.2401,26.2346, 26.2264,26.2163,26.1956,26.1846,26.1835 ,26.1834,26.832,27.2613,27.6881,28.1124 ,28.5342,28.9536,29.3706,29.7851, 30.1972,30.6069,31.0142,31.4191,31.8217 ,32.2219,32.6197,33.0152,33.4084, 33.7993,34.1879,34.5742,34.9583,35.3401 ,35.7197,36.097,36.4722,37.2159,37.9509 ,38.6774,39.3955,40.1052,40.8066,41.5, 42.1854,42.8629,43.5326,44.1946,44.8491 ,45.0115,45.0339)
FOOTPRINT_POINT_LONGITUDE = (322.809,322.112,321.416,320.722, 319.767,319.073,318.379,317.253,316.299 ,315.604,314.907,314.122,314.035, 313.943,314.065,314.182,314.296,314.406 ,314.513,314.617,314.717,314.814, 314.908,314.998,315.086,315.171,315.212 ,315.253,315.293,315.332,315.371, 315.409,315.446,315.483,315.519,315.554 ,315.589,315.623,315.657,315.69,315.722 ,315.754,315.785,315.816,315.846, 315.875,315.904,315.932,315.96,315.988, 316.028,316.041,316.043,316.629,317.506 ,318.215,318.841,319.802,320.22,320.262 ,320.283,320.345,320.386,320.428, 320.471,320.514,320.557,320.6,320.644, 320.689,320.734,320.779,320.825,320.871 ,320.917,320.964,321.012,321.059, 321.107,321.156,321.205,321.254,321.304 ,321.355,321.405,321.457,321.56,321.666 ,321.773,321.882,321.993,322.106, 322.221,322.338,322.457,322.578,322.701 ,322.826,322.857,322.809)
ORBIT_NUMBER = 2876
ORBITAL_ECCENTRICITY = 0.572
ORBITAL_INCLINATION = 86.62
ORBITAL_SEMIMAJOR_AXIS = 8593.39
PERIAPSIS_ALTITUDE = 285.84
PERIAPSIS_ARGUMENT_ANGLE = 213.19
PERIAPSIS_TIME = 2006-04-07T23:56:09.000Z
SPACECRAFT_ORIENTATION = (0.0,-1.0,0.0)
^MEX_ORIENTATION_DESC = "MEX_ORIENTATION_DESC.TXT"
SPACECRAFT_POINTING_MODE = NADIR
^MEX_POINTING_DESC = "MEX_POINTING_DESC.TXT"
RIGHT_ASCENSION = -1e+32
DECLINATION = -1e+32
OFFSET_ANGLE = -1e+32
SPACECRAFT_SOLAR_DISTANCE = 2.44689e+08
TARGET_NAME = MARS
/* CAMERA DATA ELEMENTS */
DETECTOR_TEMPERATURE = 18.1666
FOCAL_PLANE_TEMPERATURE = 7.5638
INST_CMPRS_NAME = "DISCRETE COSINE TRANSFORMATION (DCT)"
INST_CMPRS_RATIO = 9.61108
INST_CMPRS_QUALITY = 0
INST_CMPRS_QUANTZ_TBL_ID = 0
INSTRUMENT_TEMPERATURE = 11.234
LENS_TEMPERATURE = 7.9716
MACROPIXEL_SIZE = 1
MISSING_FRAMES = 0
PIXEL_SUBSAMPLING_FLAG = N
SIGNAL_CHAIN_ID = 0
/* RADIOMETRIC DATA ELEMENTS */
BANDWIDTH = 177.0
CENTER_FILTER_WAVELENGTH = 677.5
RADIANCE_OFFSET = 0.653208
RADIANCE_SCALING_FACTOR = 0.00742864
REFLECTANCE_SCALING_FACTOR = 0.000236272
MEX:REFLECTANCE_OFFSET = 0.0207756
/* IMAGE OBJECT DEFINITIONS */
OBJECT = IMAGE
  INTERCHANGE_FORMAT = BINARY
  LINES = 22457
  LINE_SAMPLES = 7471
  SAMPLE_TYPE = UNSIGNED_INTEGER
  SAMPLE_BITS = 8
  BANDS = 1
  BAND_STORAGE_TYPE = BAND_SEQUENTIAL
  MAXIMUM = 255
  MEAN = 89.9743
  MINIMUM = 1
  STANDARD_DEVIATION = 36.1329
END_OBJECT = IMAGE
/* MAP OBJECT DEFINITIONS */
OBJECT = IMAGE_MAP_PROJECTION
  ^DATA_SET_MAP_PROJECTION_CATALOG= "DSMAP.CAT"
  A_AXIS_RADIUS = 3396.0
  B_AXIS_RADIUS = 3396.0
  C_AXIS_RADIUS = 3396.0
  CENTER_LATITUDE = 0.0
  CENTER_LONGITUDE = 318.0
  COORDINATE_SYSTEM_NAME = PLANETOGRAPHIC
  COORDINATE_SYSTEM_TYPE = "BODY-FIXED ROTATING"
  EASTERNMOST_LONGITUDE = 322.857
  FIRST_STANDARD_PARALLEL = "N/A"
  LINE_FIRST_PIXEL = 1
  LINE_LAST_PIXEL = 22457
  LINE_PROJECTION_OFFSET = 53494.0
  MAP_PROJECTION_ROTATION = 0.0
  MAP_PROJECTION_TYPE = SINUSOIDAL
  MAP_RESOLUTION = 1185.42760773333
  MAP_SCALE = 0.05
  MAXIMUM_LATITUDE = 45.1241
  MINIMUM_LATITUDE = 26.1834
  POSITIVE_LONGITUDE_DIRECTION = EAST
  REFERENCE_LATITUDE = "N/A"
  REFERENCE_LONGITUDE = "N/A"
  SAMPLE_FIRST_PIXEL = 1
  SAMPLE_LAST_PIXEL = 7471
  SAMPLE_PROJECTION_OFFSET = 3397.0
  SECOND_STANDARD_PARALLEL = "N/A"
  WESTERNMOST_LONGITUDE = 313.943
END_OBJECT = IMAGE_MAP_PROJECTION
END
