PDS_VERSION_ID = PDS3
/* FILE DATA ELEMENTS */
RECORD_TYPE = UNDEFINED
/* POINTERS TO DATA OBJECTS */
^IMAGE = ("H2846_0000_S24.TIF")
/* IDENTIFICATION DATA ELEMENTS */
DATA_SET_ID = "MEX-M-HRSC-4-REFDR-MAPPROJECT-EXT1-V4.0"
DATA_SET_NAME = "MARS EXPRESS HRSC MAP PROJECTED REFDR EXTENSION1 V4.0"
DETECTOR_ID = MEX_HRSC_S2
EVENT_TYPE = "MARS-TERMINATOR-VARIABLE-At"
INSTRUMENT_HOST_ID = MEX
INSTRUMENT_HOST_NAME = "MARS EXPRESS"
INSTRUMENT_ID = HRSC
INSTRUMENT_NAME = "HIGH RESOLUTION STEREO CAMERA"
MISSION_NAME = "MARS EXPRESS"
MISSION_PHASE_NAME = ME_Phase_2
PROCESSING_LEVEL_ID = 4
PRODUCT_CREATION_TIME = 2023-02-09T07:39:13.000Z
PRODUCT_ID = "H2846_0000_S24.TIF"
RELEASE_ID = 0002
REVISION_ID = 0000
/* QUALITY DATA ELEMENTS */
DATA_QUALITY_ID = 1
DATA_QUALITY_DESC = "Data calculated based on original SPICE kernels"
/* TIME DATA ELEMENTS */
SPACECRAFT_CLOCK_START_COUNT = "1/0091806706.09052"
SPACECRAFT_CLOCK_STOP_COUNT = "1/0091807286.34607"
START_TIME = 2006-03-30T13:58:21.726Z
STOP_TIME = 2006-03-30T14:01:30.223Z
/* ORBITAL DATA ELEMENTS */
ASCENDING_NODE_LONGITUDE = 168.57
MAXIMUM_RESOLUTION = 0.1115
FOOTPRINT_POINT_LATITUDE = (43.7766,43.7878,43.7964,43.8046, 43.8125,43.82,43.8272,43.8341,43.8406, 43.8468,43.8526,43.8581,43.8633,43.8682 ,43.8728,43.877,43.881,43.8846,43.8878, 43.8908,43.8933,43.8955,43.8975,43.899, 43.9002,43.9012,43.9014,44.0157,43.6682 ,43.2301,42.7056,42.3548,42.0031, 41.5585,41.2032,40.8464,40.4754,40.1221 ,39.8572,39.4984,39.1362,38.7728, 38.3133,38.0335,37.8455,37.4837,37.2057 ,36.9281,36.5586,36.0902,35.8087, 35.4312,35.0548,34.9605,34.8988,34.8907 ,34.8838,34.8804,34.875,34.8664,34.8581 ,34.8481,34.8385,34.8292,34.8192, 34.8111,34.8039,34.7946,34.7932,34.7939 ,35.0754,35.4441,35.6322,35.8216, 36.0978,36.3758,36.5648,36.9332,37.2087 ,37.5781,37.8528,38.3098,38.7629, 39.0364,39.4058,39.7632,40.2109,40.5567 ,40.823,41.1844,41.4585,41.8151,42.1603 ,42.5212,42.7859,43.0484,43.3963, 43.7443,43.8316,43.7766)
FOOTPRINT_POINT_LONGITUDE = (30.916,30.5396,30.2388,29.9383,29.6379 ,29.3377,29.0378,28.738,28.4383,28.1386 ,27.839,27.5394,27.2398,26.9404,26.641, 26.3417,26.0424,25.7428,25.4429,25.1428 ,24.8424,24.5416,24.2403,23.9387, 23.6367,23.2587,23.183,23.1077,23.1518, 23.2067,23.2693,23.3099,23.3496,23.3996 ,23.4381,23.476,23.5185,23.5526,23.5774 ,23.6117,23.6462,23.6801,23.723,23.7494 ,23.7673,23.7968,23.8207,23.8439, 23.8737,23.912,23.9344,23.9641,23.9924, 23.9994,24.0041,24.4945,25.0939,25.3659 ,25.6378,26.1264,26.5603,26.9942, 27.4826,27.9714,28.3512,28.677,29.1133, 29.5497,29.6042,29.624,29.6593,29.7044, 29.7289,29.7542,29.7893,29.8257,29.8519 ,29.9008,29.9378,29.9889,30.0269, 30.0912,30.1553,30.1954,30.2519,30.3039 ,30.371,30.4199,30.4607,30.519,30.565, 30.623,30.6766,30.7391,30.7838,30.8281, 30.8871,30.9474,30.9628,30.916)
ORBIT_NUMBER = 2846
ORBITAL_ECCENTRICITY = 0.572
ORBITAL_INCLINATION = 86.6
ORBITAL_SEMIMAJOR_AXIS = 8590.25
PERIAPSIS_ALTITUDE = 285.02
PERIAPSIS_ARGUMENT_ANGLE = 218.5
PERIAPSIS_TIME = 2006-03-30T14:20:54.000Z
SPACECRAFT_ORIENTATION = (0.0,-1.0,0.0)
^MEX_ORIENTATION_DESC = "MEX_ORIENTATION_DESC.TXT"
SPACECRAFT_POINTING_MODE = NADIR
^MEX_POINTING_DESC = "MEX_POINTING_DESC.TXT"
RIGHT_ASCENSION = -1e+32
DECLINATION = -1e+32
OFFSET_ANGLE = -1e+32
SPACECRAFT_SOLAR_DISTANCE = 2.43703e+08
TARGET_NAME = MARS
/* CAMERA DATA ELEMENTS */
DETECTOR_TEMPERATURE = 18.5744
FOCAL_PLANE_TEMPERATURE = 7.7677
INST_CMPRS_NAME = "DISCRETE COSINE TRANSFORMATION (DCT)"
INST_CMPRS_RATIO = 15.6437
INST_CMPRS_QUALITY = 0
INST_CMPRS_QUANTZ_TBL_ID = 0
INSTRUMENT_TEMPERATURE = 10.8262
LENS_TEMPERATURE = 8.1755
MACROPIXEL_SIZE = 2
MISSING_FRAMES = 0
PIXEL_SUBSAMPLING_FLAG = N
SIGNAL_CHAIN_ID = 1
/* RADIOMETRIC DATA ELEMENTS */
BANDWIDTH = 178.0
CENTER_FILTER_WAVELENGTH = 679.0
RADIANCE_OFFSET = 0.562391
RADIANCE_SCALING_FACTOR = 0.00705745
REFLECTANCE_SCALING_FACTOR = 0.000221969
MEX:REFLECTANCE_OFFSET = 0.0176881
/* IMAGE OBJECT DEFINITIONS */
OBJECT = IMAGE
  INTERCHANGE_FORMAT = BINARY
  LINES = 5463
  LINE_SAMPLES = 4127
  SAMPLE_TYPE = UNSIGNED_INTEGER
  SAMPLE_BITS = 8
  BANDS = 1
  BAND_STORAGE_TYPE = BAND_SEQUENTIAL
  MAXIMUM = 255
  MEAN = 96.1128
  MINIMUM = 1
  STANDARD_DEVIATION = 40.3843
END_OBJECT = IMAGE
/* MAP OBJECT DEFINITIONS */
OBJECT = IMAGE_MAP_PROJECTION
  ^DATA_SET_MAP_PROJECTION_CATALOG= "DSMAP.CAT"
  A_AXIS_RADIUS = 3396.0
  B_AXIS_RADIUS = 3396.0
  C_AXIS_RADIUS = 3396.0
  CENTER_LATITUDE = 0.0
  CENTER_LONGITUDE = 27.0
  COORDINATE_SYSTEM_NAME = PLANETOGRAPHIC
  COORDINATE_SYSTEM_TYPE = "BODY-FIXED ROTATING"
  EASTERNMOST_LONGITUDE = 30.9628
  FIRST_STANDARD_PARALLEL = "N/A"
  LINE_FIRST_PIXEL = 1
  LINE_LAST_PIXEL = 5463
  LINE_PROJECTION_OFFSET = 26036.25
  MAP_PROJECTION_ROTATION = 0.0
  MAP_PROJECTION_TYPE = SINUSOIDAL
  MAP_RESOLUTION = 592.713803866667
  MAP_SCALE = 0.1
  MAXIMUM_LATITUDE = 44.0157
  MINIMUM_LATITUDE = 34.7932
  POSITIVE_LONGITUDE_DIRECTION = EAST
  REFERENCE_LATITUDE = "N/A"
  REFERENCE_LONGITUDE = "N/A"
  SAMPLE_FIRST_PIXEL = 1
  SAMPLE_LAST_PIXEL = 4127
  SAMPLE_PROJECTION_OFFSET = 2066.75
  SECOND_STANDARD_PARALLEL = "N/A"
  WESTERNMOST_LONGITUDE = 23.1077
END_OBJECT = IMAGE_MAP_PROJECTION
END
