PDS_VERSION_ID = PDS3
/* FILE DATA ELEMENTS */
RECORD_TYPE = UNDEFINED
/* POINTERS TO DATA OBJECTS */
^IMAGE = ("H2746_0000_BL4.TIF")
/* IDENTIFICATION DATA ELEMENTS */
DATA_SET_ID = "MEX-M-HRSC-4-REFDR-MAPPROJECT-EXT1-V4.0"
DATA_SET_NAME = "MARS EXPRESS HRSC MAP PROJECTED REFDR EXTENSION1 V4.0"
DETECTOR_ID = MEX_HRSC_BLUE
EVENT_TYPE = "MARS-TERMINATOR-VARIABLE-At"
INSTRUMENT_HOST_ID = MEX
INSTRUMENT_HOST_NAME = "MARS EXPRESS"
INSTRUMENT_ID = HRSC
INSTRUMENT_NAME = "HIGH RESOLUTION STEREO CAMERA"
MISSION_NAME = "MARS EXPRESS"
MISSION_PHASE_NAME = ME_Phase_2
PROCESSING_LEVEL_ID = 4
PRODUCT_CREATION_TIME = 2023-02-09T07:39:13.000Z
PRODUCT_ID = "H2746_0000_BL4.TIF"
RELEASE_ID = 0002
REVISION_ID = 0000
/* QUALITY DATA ELEMENTS */
DATA_QUALITY_ID = 1
DATA_QUALITY_DESC = "Data calculated based on original SPICE kernels"
/* TIME DATA ELEMENTS */
SPACECRAFT_CLOCK_START_COUNT = "1/0089390160.08258"
SPACECRAFT_CLOCK_STOP_COUNT = "1/0089391471.02390"
START_TIME = 2006-03-02T14:39:30.511Z
STOP_TIME = 2006-03-02T14:47:24.905Z
/* ORBITAL DATA ELEMENTS */
ASCENDING_NODE_LONGITUDE = 170.67
MAXIMUM_RESOLUTION = 0.2332
FOOTPRINT_POINT_LATITUDE = (-54.9191,-54.9625,-54.9934,-55.0177, -55.0424,-55.0638,-55.0859,-55.0999, -55.1106,-55.118,-55.1221,-55.1225, -55.1153,-55.1144,-55.1308,-54.5515, -53.9661,-53.3754,-52.7772,-52.1728, -51.7144,-51.4069,-51.1011,-50.7907, -50.4783,-50.1644,-49.848,-49.53, -49.0522,-48.5673,-48.0807,-47.7559, -47.4328,-47.111,-46.7912,-46.4708, -46.1563,-45.8441,-45.5319,-45.2181, -44.9087,-44.6034,-44.1461,-43.5433, -42.9471,-42.359,-41.7769,-41.201, -40.6309,-40.0677,-39.9283,-39.8299, -39.8647,-39.9072,-39.9455,-39.9927, -40.0218,-40.056,-40.0734,-40.0927, -40.1054,-40.1107,-40.1121,-40.1066, -40.1057,-40.1079,-40.6438,-41.1862, -41.7351,-42.2921,-42.8544,-43.4249, -44.0031,-44.5887,-45.1825,-45.782, -46.0853,-46.3903,-46.6974,-47.0061, -47.3172,-47.63,-47.9445,-48.2606, -48.5756,-48.8892,-49.2013,-49.5108, -49.8209,-50.1286,-50.4337,-51.1895, -51.7892,-52.3816,-52.8205,-53.4031, -53.9799,-54.6922,-54.8325,-54.9191)
FOOTPRINT_POINT_LONGITUDE = (297.073,297.888,298.54,299.111,299.763 ,300.415,301.232,301.885,302.538, 303.192,303.847,304.668,305.736,305.819 ,305.897,305.946,305.992,306.041, 306.084,306.127,306.155,306.174,306.203 ,306.222,306.24,306.259,306.275,306.291 ,306.32,306.341,306.367,306.384,306.4, 306.414,306.428,306.435,306.452,306.469 ,306.482,306.484,306.494,306.509, 306.523,306.543,306.561,306.582,306.599 ,306.613,306.625,306.638,306.642, 306.643,306.096,305.354,304.614,303.601 ,302.865,301.853,301.208,300.285, 299.361,298.62,297.878,296.854,296.761, 296.73,296.777,296.823,296.868,296.908, 296.95,296.987,297.02,297.051,297.078, 297.106,297.118,297.129,297.139,297.149 ,297.158,297.166,297.174,297.18,297.183 ,297.186,297.186,297.189,297.185, 297.182,297.181,297.174,297.159,297.144 ,297.134,297.109,297.08,297.038,297.033 ,297.073)
ORBIT_NUMBER = 2746
ORBITAL_ECCENTRICITY = 0.572
ORBITAL_INCLINATION = 86.61
ORBITAL_SEMIMAJOR_AXIS = 8561.96
PERIAPSIS_ALTITUDE = 285.62
PERIAPSIS_ARGUMENT_ANGLE = 236.06
PERIAPSIS_TIME = 2006-03-02T14:18:10.000Z
SPACECRAFT_ORIENTATION = (0.0,-1.0,0.0)
^MEX_ORIENTATION_DESC = "MEX_ORIENTATION_DESC.TXT"
SPACECRAFT_POINTING_MODE = NADIR
^MEX_POINTING_DESC = "MEX_POINTING_DESC.TXT"
RIGHT_ASCENSION = -1e+32
DECLINATION = -1e+32
OFFSET_ANGLE = -1e+32
SPACECRAFT_SOLAR_DISTANCE = 2.39822e+08
TARGET_NAME = MARS
/* CAMERA DATA ELEMENTS */
DETECTOR_TEMPERATURE = 18.5744
FOCAL_PLANE_TEMPERATURE = 8.5833
INST_CMPRS_NAME = "DISCRETE COSINE TRANSFORMATION (DCT)"
INST_CMPRS_RATIO = 20.6061
INST_CMPRS_QUALITY = 0
INST_CMPRS_QUANTZ_TBL_ID = 0
INSTRUMENT_TEMPERATURE = 11.234
LENS_TEMPERATURE = 9.195
MACROPIXEL_SIZE = 4
MISSING_FRAMES = 0
PIXEL_SUBSAMPLING_FLAG = N
SIGNAL_CHAIN_ID = 2
/* RADIOMETRIC DATA ELEMENTS */
BANDWIDTH = 76.0
CENTER_FILTER_WAVELENGTH = 444.0
RADIANCE_OFFSET = 0.05473
RADIANCE_SCALING_FACTOR = 0.00157751
REFLECTANCE_SCALING_FACTOR = 9.32211e-05
MEX:REFLECTANCE_OFFSET = 0.0032342
/* IMAGE OBJECT DEFINITIONS */
OBJECT = IMAGE
  INTERCHANGE_FORMAT = BINARY
  LINES = 4529
  LINE_SAMPLES = 2145
  SAMPLE_TYPE = UNSIGNED_INTEGER
  SAMPLE_BITS = 8
  BANDS = 1
  BAND_STORAGE_TYPE = BAND_SEQUENTIAL
  MAXIMUM = 255
  MEAN = 112.11
  MINIMUM = 1
  STANDARD_DEVIATION = 51.9838
END_OBJECT = IMAGE
/* MAP OBJECT DEFINITIONS */
OBJECT = IMAGE_MAP_PROJECTION
  ^DATA_SET_MAP_PROJECTION_CATALOG= "DSMAP.CAT"
  A_AXIS_RADIUS = 3396.0
  B_AXIS_RADIUS = 3396.0
  C_AXIS_RADIUS = 3396.0
  CENTER_LATITUDE = 0.0
  CENTER_LONGITUDE = 302.0
  COORDINATE_SYSTEM_NAME = PLANETOGRAPHIC
  COORDINATE_SYSTEM_TYPE = "BODY-FIXED ROTATING"
  EASTERNMOST_LONGITUDE = 306.643
  FIRST_STANDARD_PARALLEL = "N/A"
  LINE_FIRST_PIXEL = 1
  LINE_LAST_PIXEL = 4529
  LINE_PROJECTION_OFFSET = -11818.375
  MAP_PROJECTION_ROTATION = 0.0
  MAP_PROJECTION_TYPE = SINUSOIDAL
  MAP_RESOLUTION = 296.356901933333
  MAP_SCALE = 0.2
  MAXIMUM_LATITUDE = -39.8299
  MINIMUM_LATITUDE = -55.1308
  POSITIVE_LONGITUDE_DIRECTION = EAST
  REFERENCE_LATITUDE = "N/A"
  REFERENCE_LONGITUDE = "N/A"
  SAMPLE_FIRST_PIXEL = 1
  SAMPLE_LAST_PIXEL = 2145
  SAMPLE_PROJECTION_OFFSET = 1137.375
  SECOND_STANDARD_PARALLEL = "N/A"
  WESTERNMOST_LONGITUDE = 296.73
END_OBJECT = IMAGE_MAP_PROJECTION
END
