PDS_VERSION_ID = PDS3
/* FILE DATA ELEMENTS */
RECORD_TYPE = UNDEFINED
/* POINTERS TO DATA OBJECTS */
^IMAGE = ("H2727_0000_GR4.TIF")
/* IDENTIFICATION DATA ELEMENTS */
DATA_SET_ID = "MEX-M-HRSC-4-REFDR-MAPPROJECT-EXT1-V4.0"
DATA_SET_NAME = "MARS EXPRESS HRSC MAP PROJECTED REFDR EXTENSION1 V4.0"
DETECTOR_ID = MEX_HRSC_GREEN
EVENT_TYPE = "MARS-TERMINATOR-VARIABLE-At"
INSTRUMENT_HOST_ID = MEX
INSTRUMENT_HOST_NAME = "MARS EXPRESS"
INSTRUMENT_ID = HRSC
INSTRUMENT_NAME = "HIGH RESOLUTION STEREO CAMERA"
MISSION_NAME = "MARS EXPRESS"
MISSION_PHASE_NAME = ME_Phase_2
PROCESSING_LEVEL_ID = 4
PRODUCT_CREATION_TIME = 2023-02-09T07:39:13.000Z
PRODUCT_ID = "H2727_0000_GR4.TIF"
RELEASE_ID = 0002
REVISION_ID = 0000
/* QUALITY DATA ELEMENTS */
DATA_QUALITY_ID = 1
DATA_QUALITY_DESC = "Data calculated based on original SPICE kernels"
/* TIME DATA ELEMENTS */
SPACECRAFT_CLOCK_START_COUNT = "1/0088930184.08248"
SPACECRAFT_CLOCK_STOP_COUNT = "1/0088931274.63946"
START_TIME = 2006-02-25T06:51:15.378Z
STOP_TIME = 2006-02-25T06:58:54.139Z
/* ORBITAL DATA ELEMENTS */
ASCENDING_NODE_LONGITUDE = 171.07
MAXIMUM_RESOLUTION = 0.3087
FOOTPRINT_POINT_LATITUDE = (-64.3115,-64.3888,-64.449,-64.5264, -64.5749,-64.6142,-64.6534,-64.6548, -64.6375,-64.2145,-63.788,-63.141, -62.7093,-62.2798,-61.8523,-61.427, -61.0035,-60.5827,-60.1635,-59.7467, -59.3318,-58.9191,-58.5084,-58.0999, -57.6931,-57.2887,-56.886,-56.4854, -56.087,-55.6902,-55.0972,-54.7058, -54.3161,-53.9288,-53.545,-53.1613, -52.7795,-52.3995,-51.646,-50.8998, -50.1617,-49.4299,-48.706,-47.9893, -47.2798,-46.5772,-45.882,-45.1936, -45.0227,-44.927,-44.9533,-44.9648, -44.9745,-44.9761,-44.973,-44.9654, -44.9385,-44.914,-44.8786,-44.8754, -44.8766,-45.5495,-46.2283,-46.913, -47.7821,-48.4846,-49.1944,-49.9124, -50.6381,-51.3716,-52.1128,-52.8622, -53.6193,-54.0004,-54.3833,-54.7686, -55.1561,-55.5457,-55.9371,-56.3309, -56.7265,-57.1246,-57.5245,-57.9256, -58.3292,-58.7351,-59.1431,-59.5531, -59.9656,-60.38,-60.7963,-61.2146, -61.6351,-62.0573,-62.4819,-62.9086, -63.5462,-63.9668,-64.1754,-64.3115)
FOOTPRINT_POINT_LONGITUDE = (4.10892,5.23708,6.22699,7.71959, 8.86037,10.0057,11.5902,11.6624,11.7692 ,11.8519,11.9312,12.0457,12.1192, 12.1894,12.2568,12.3211,12.3839,12.4415 ,12.4988,12.5527,12.605,12.6547,12.7026 ,12.7482,12.7932,12.835,12.8766,12.9163 ,12.9537,12.9912,13.0497,13.0825, 13.1146,13.144,13.1676,13.1961,13.2234, 13.2502,13.2983,13.3439,13.3841,13.4244 ,13.4601,13.4934,13.5237,13.5522, 13.5773,13.6006,13.6057,13.6088,12.5831 ,11.9174,10.9578,10.1467,9.55733, 8.89348,7.56431,6.75228,5.8605,5.78618, 5.73681,5.75721,5.77063,5.7767,5.78556, 5.78471,5.77845,5.76863,5.7533,5.73243, 5.70503,5.67192,5.63076,5.60615,5.57918 ,5.5509,5.52103,5.48894,5.45409,5.4177, 5.37834,5.33717,5.29273,5.24318,5.19171 ,5.1377,5.08052,5.01973,4.95654,4.88891 ,4.81696,4.74089,4.66039,4.57445, 4.48457,4.38977,4.23833,4.13282,4.07872 ,4.10892)
ORBIT_NUMBER = 2727
ORBITAL_ECCENTRICITY = 0.571
ORBITAL_INCLINATION = 86.61
ORBITAL_SEMIMAJOR_AXIS = 8554.57
PERIAPSIS_ALTITUDE = 285.64
PERIAPSIS_ARGUMENT_ANGLE = 239.34
PERIAPSIS_TIME = 2006-02-25T06:35:49.000Z
SPACECRAFT_ORIENTATION = (0.0,-1.0,0.0)
^MEX_ORIENTATION_DESC = "MEX_ORIENTATION_DESC.TXT"
SPACECRAFT_POINTING_MODE = NADIR
^MEX_POINTING_DESC = "MEX_POINTING_DESC.TXT"
RIGHT_ASCENSION = -1e+32
DECLINATION = -1e+32
OFFSET_ANGLE = -1e+32
SPACECRAFT_SOLAR_DISTANCE = 2.3899e+08
TARGET_NAME = MARS
/* CAMERA DATA ELEMENTS */
DETECTOR_TEMPERATURE = 18.3705
FOCAL_PLANE_TEMPERATURE = 8.3794
INST_CMPRS_NAME = "DISCRETE COSINE TRANSFORMATION (DCT)"
INST_CMPRS_RATIO = 32.8945
INST_CMPRS_QUALITY = 0
INST_CMPRS_QUANTZ_TBL_ID = 0
INSTRUMENT_TEMPERATURE = 11.234
LENS_TEMPERATURE = 8.7872
MACROPIXEL_SIZE = 8
MISSING_FRAMES = 0
PIXEL_SUBSAMPLING_FLAG = N
SIGNAL_CHAIN_ID = 2
/* RADIOMETRIC DATA ELEMENTS */
BANDWIDTH = 88.0
CENTER_FILTER_WAVELENGTH = 538.0
RADIANCE_OFFSET = 0.0346239
RADIANCE_SCALING_FACTOR = 0.00278349
REFLECTANCE_SCALING_FACTOR = 0.000136881
MEX:REFLECTANCE_OFFSET = 0.00170267
/* IMAGE OBJECT DEFINITIONS */
OBJECT = IMAGE
  INTERCHANGE_FORMAT = BINARY
  LINES = 2930
  LINE_SAMPLES = 871
  SAMPLE_TYPE = UNSIGNED_INTEGER
  SAMPLE_BITS = 8
  BANDS = 1
  BAND_STORAGE_TYPE = BAND_SEQUENTIAL
  MAXIMUM = 255
  MEAN = 104.09
  MINIMUM = 3
  STANDARD_DEVIATION = 45.9832
END_OBJECT = IMAGE
/* MAP OBJECT DEFINITIONS */
OBJECT = IMAGE_MAP_PROJECTION
  ^DATA_SET_MAP_PROJECTION_CATALOG= "DSMAP.CAT"
  A_AXIS_RADIUS = 3396.0
  B_AXIS_RADIUS = 3396.0
  C_AXIS_RADIUS = 3396.0
  CENTER_LATITUDE = 0.0
  CENTER_LONGITUDE = 9.0
  COORDINATE_SYSTEM_NAME = PLANETOGRAPHIC
  COORDINATE_SYSTEM_TYPE = "BODY-FIXED ROTATING"
  EASTERNMOST_LONGITUDE = 13.6088
  FIRST_STANDARD_PARALLEL = "N/A"
  LINE_FIRST_PIXEL = 1
  LINE_LAST_PIXEL = 2930
  LINE_PROJECTION_OFFSET = -6652.125
  MAP_PROJECTION_ROTATION = 0.0
  MAP_PROJECTION_TYPE = SINUSOIDAL
  MAP_RESOLUTION = 148.178450966667
  MAP_SCALE = 0.4
  MAXIMUM_LATITUDE = -44.8754
  MINIMUM_LATITUDE = -64.65479999999999
  POSITIVE_LONGITUDE_DIRECTION = EAST
  REFERENCE_LATITUDE = "N/A"
  REFERENCE_LONGITUDE = "N/A"
  SAMPLE_FIRST_PIXEL = 1
  SAMPLE_LAST_PIXEL = 871
  SAMPLE_PROJECTION_OFFSET = 360.625
  SECOND_STANDARD_PARALLEL = "N/A"
  WESTERNMOST_LONGITUDE = 4.07872
END_OBJECT = IMAGE_MAP_PROJECTION
END
