PDS_VERSION_ID = PDS3
/* FILE DATA ELEMENTS */
RECORD_TYPE = UNDEFINED
/* POINTERS TO DATA OBJECTS */
^IMAGE = ("H2726_0000_P14.TIF")
/* IDENTIFICATION DATA ELEMENTS */
DATA_SET_ID = "MEX-M-HRSC-4-REFDR-MAPPROJECT-EXT1-V4.0"
DATA_SET_NAME = "MARS EXPRESS HRSC MAP PROJECTED REFDR EXTENSION1 V4.0"
DETECTOR_ID = MEX_HRSC_P1
EVENT_TYPE = "MARS-TERMINATOR-VARIABLE-At"
INSTRUMENT_HOST_ID = MEX
INSTRUMENT_HOST_NAME = "MARS EXPRESS"
INSTRUMENT_ID = HRSC
INSTRUMENT_NAME = "HIGH RESOLUTION STEREO CAMERA"
MISSION_NAME = "MARS EXPRESS"
MISSION_PHASE_NAME = ME_Phase_2
PROCESSING_LEVEL_ID = 4
PRODUCT_CREATION_TIME = 2023-02-09T07:39:13.000Z
PRODUCT_ID = "H2726_0000_P14.TIF"
RELEASE_ID = 0002
REVISION_ID = 0000
/* QUALITY DATA ELEMENTS */
DATA_QUALITY_ID = 1
DATA_QUALITY_DESC = "Data calculated based on original SPICE kernels"
/* TIME DATA ELEMENTS */
SPACECRAFT_CLOCK_START_COUNT = "1/0088905999.08362"
SPACECRAFT_CLOCK_STOP_COUNT = "1/0088907394.15943"
START_TIME = 2006-02-25T00:07:17.762Z
STOP_TIME = 2006-02-25T00:15:35.060Z
/* ORBITAL DATA ELEMENTS */
ASCENDING_NODE_LONGITUDE = 171.09
MAXIMUM_RESOLUTION = 0.0749
FOOTPRINT_POINT_LATITUDE = (-63.713,-63.8171,-63.8816,-63.9636, -64.0038,-64.045,-64.0464,-63.9889, -63.2084,-62.4167,-61.6075,-60.7835, -59.9471,-59.0942,-57.9983,-57.1121, -56.6606,-56.2056,-55.7473,-55.2832, -54.5899,-54.1084,-53.6181,-53.1339, -52.6459,-52.1506,-51.6512,-51.1547, -50.6474,-50.1321,-49.611,-49.087, -48.2841,-47.7479,-47.2183,-46.7047, -46.1728,-45.3958,-44.6159,-43.8483, -43.0875,-42.5838,-42.0874,-41.5866, -41.0899,-40.5982,-40.3555,-40.2915, -40.3185,-40.3403,-40.3478,-40.3452, -40.3371,-40.3227,-40.2854,-40.2468, -40.2433,-40.2431,-40.7257,-41.2109, -41.7156,-42.1904,-42.6828,-43.1806, -43.6794,-44.181,-44.6883,-45.4515, -45.9634,-46.4799,-46.9999,-47.5295, -48.3135,-48.8479,-49.3658,-49.8808, -50.3879,-50.8895,-51.3932,-51.885, -52.6126,-53.0992,-53.574,-54.2833, -54.748,-55.2075,-55.6701,-56.1257, -56.5696,-57.4438,-57.8843,-58.5313, -59.6018,-60.4304,-61.2417,-62.043, -62.6346,-63.4119,-63.6035,-63.713)
FOOTPRINT_POINT_LONGITUDE = (102.878,104.376,105.471,107.19,108.295 ,109.893,109.962,110.054,110.193, 110.321,110.446,110.564,110.674,110.778 ,110.907,110.995,111.039,111.081, 111.121,111.161,111.209,111.25,111.294, 111.327,111.359,111.391,111.421,111.444 ,111.471,111.498,111.525,111.548, 111.586,111.61,111.63,111.64,111.663, 111.684,111.709,111.727,111.743,111.752 ,111.758,111.767,111.774,111.779,111.78 ,111.781,110.92,109.77,108.622,107.761, 107.043,106.397,105.177,104.454,104.381 ,104.355,104.378,104.4,104.429,104.438, 104.454,104.47,104.482,104.493,104.504, 104.514,104.518,104.521,104.522,104.524 ,104.514,104.511,104.5,104.488,104.472, 104.452,104.435,104.411,104.371,104.345 ,104.313,104.263,104.226,104.185, 104.146,104.104,104.054,103.947,103.895 ,103.808,103.659,103.52,103.369,103.209 ,103.08,102.899,102.851,102.878)
ORBIT_NUMBER = 2726
ORBITAL_ECCENTRICITY = 0.571
ORBITAL_INCLINATION = 86.62
ORBITAL_SEMIMAJOR_AXIS = 8553.01
PERIAPSIS_ALTITUDE = 284.94
PERIAPSIS_ARGUMENT_ANGLE = 239.54
PERIAPSIS_TIME = 2006-02-24T23:52:35.000Z
SPACECRAFT_ORIENTATION = (0.0,-1.0,0.0)
^MEX_ORIENTATION_DESC = "MEX_ORIENTATION_DESC.TXT"
SPACECRAFT_POINTING_MODE = NADIR
^MEX_POINTING_DESC = "MEX_POINTING_DESC.TXT"
RIGHT_ASCENSION = -1e+32
DECLINATION = -1e+32
OFFSET_ANGLE = -1e+32
SPACECRAFT_SOLAR_DISTANCE = 2.38946e+08
TARGET_NAME = MARS
/* CAMERA DATA ELEMENTS */
DETECTOR_TEMPERATURE = 17.1471
FOCAL_PLANE_TEMPERATURE = 7.7677
INST_CMPRS_NAME = "DISCRETE COSINE TRANSFORMATION (DCT)"
INST_CMPRS_RATIO = 17.9613
INST_CMPRS_QUALITY = 0
INST_CMPRS_QUANTZ_TBL_ID = 0
INSTRUMENT_TEMPERATURE = 11.0301
LENS_TEMPERATURE = 8.3794
MACROPIXEL_SIZE = 2
MISSING_FRAMES = 0
PIXEL_SUBSAMPLING_FLAG = N
SIGNAL_CHAIN_ID = 3
/* RADIOMETRIC DATA ELEMENTS */
BANDWIDTH = 174.0
CENTER_FILTER_WAVELENGTH = 675.0
RADIANCE_OFFSET = 0.0477224
RADIANCE_SCALING_FACTOR = 0.0124453
REFLECTANCE_SCALING_FACTOR = 0.000382202
MEX:REFLECTANCE_OFFSET = 0.00146559
/* IMAGE OBJECT DEFINITIONS */
OBJECT = IMAGE
  INTERCHANGE_FORMAT = BINARY
  LINES = 14077
  LINE_SAMPLES = 3904
  SAMPLE_TYPE = UNSIGNED_INTEGER
  SAMPLE_BITS = 8
  BANDS = 1
  BAND_STORAGE_TYPE = BAND_SEQUENTIAL
  MAXIMUM = 255
  MEAN = 82.846
  MINIMUM = 1
  STANDARD_DEVIATION = 39.8905
END_OBJECT = IMAGE
/* MAP OBJECT DEFINITIONS */
OBJECT = IMAGE_MAP_PROJECTION
  ^DATA_SET_MAP_PROJECTION_CATALOG= "DSMAP.CAT"
  A_AXIS_RADIUS = 3396.0
  B_AXIS_RADIUS = 3396.0
  C_AXIS_RADIUS = 3396.0
  CENTER_LATITUDE = 0.0
  CENTER_LONGITUDE = 108.0
  COORDINATE_SYSTEM_NAME = PLANETOGRAPHIC
  COORDINATE_SYSTEM_TYPE = "BODY-FIXED ROTATING"
  EASTERNMOST_LONGITUDE = 111.781
  FIRST_STANDARD_PARALLEL = "N/A"
  LINE_FIRST_PIXEL = 1
  LINE_LAST_PIXEL = 14077
  LINE_PROJECTION_OFFSET = -23831.75
  MAP_PROJECTION_ROTATION = 0.0
  MAP_PROJECTION_TYPE = SINUSOIDAL
  MAP_RESOLUTION = 592.713803866667
  MAP_SCALE = 0.1
  MAXIMUM_LATITUDE = -40.2431
  MINIMUM_LATITUDE = -64.04640000000001
  POSITIVE_LONGITUDE_DIRECTION = EAST
  REFERENCE_LATITUDE = "N/A"
  REFERENCE_LONGITUDE = "N/A"
  SAMPLE_FIRST_PIXEL = 1
  SAMPLE_LAST_PIXEL = 3904
  SAMPLE_PROJECTION_OFFSET = 1964.25
  SECOND_STANDARD_PARALLEL = "N/A"
  WESTERNMOST_LONGITUDE = 102.851
END_OBJECT = IMAGE_MAP_PROJECTION
END
