PDS_VERSION_ID = PDS3
/* FILE DATA ELEMENTS */
RECORD_TYPE = UNDEFINED
/* POINTERS TO DATA OBJECTS */
^IMAGE = ("H2723_0000_ND4.TIF")
/* IDENTIFICATION DATA ELEMENTS */
DATA_SET_ID = "MEX-M-HRSC-4-REFDR-MAPPROJECT-EXT1-V4.0"
DATA_SET_NAME = "MARS EXPRESS HRSC MAP PROJECTED REFDR EXTENSION1 V4.0"
DETECTOR_ID = MEX_HRSC_NADIR
EVENT_TYPE = "MARS-TERMINATOR-VARIABLE-At"
INSTRUMENT_HOST_ID = MEX
INSTRUMENT_HOST_NAME = "MARS EXPRESS"
INSTRUMENT_ID = HRSC
INSTRUMENT_NAME = "HIGH RESOLUTION STEREO CAMERA"
MISSION_NAME = "MARS EXPRESS"
MISSION_PHASE_NAME = ME_Phase_2
PROCESSING_LEVEL_ID = 4
PRODUCT_CREATION_TIME = 2023-02-09T07:39:13.000Z
PRODUCT_ID = "H2723_0000_ND4.TIF"
RELEASE_ID = 0002
REVISION_ID = 0000
/* QUALITY DATA ELEMENTS */
DATA_QUALITY_ID = 1
DATA_QUALITY_DESC = "Data calculated based on original SPICE kernels"
/* TIME DATA ELEMENTS */
SPACECRAFT_CLOCK_START_COUNT = "1/0088833302.09041"
SPACECRAFT_CLOCK_STOP_COUNT = "1/0088834400.06848"
START_TIME = 2006-02-24T03:56:34.562Z
STOP_TIME = 2006-02-24T04:05:49.569Z
/* ORBITAL DATA ELEMENTS */
ASCENDING_NODE_LONGITUDE = 171.15
MAXIMUM_RESOLUTION = 0.0341
FOOTPRINT_POINT_LATITUDE = (-68.8286,-68.9274,-69.0657,-69.1704, -69.2259,-69.228,-69.2324,-68.402, -67.5556,-66.6925,-65.8125,-64.915, -64.4599,-63.9996,-63.5351,-63.0656, -62.5911,-62.1121,-61.628,-61.139, -60.6448,-60.1457,-59.6409,-59.1308, -58.6153,-57.8321,-57.3084,-56.7883, -56.272,-55.7593,-55.2503,-54.745, -54.2432,-53.745,-53.2503,-52.7592, -52.2715,-51.7874,-51.3067,-50.8294, -50.3555,-49.885,-49.4178,-48.9539, -48.4933,-47.5819,-46.6833,-45.7973, -45.5778,-45.5432,-45.564,-45.5936, -45.6008,-45.5993,-45.5929,-45.5821, -45.5629,-45.5199,-45.5169,-45.5158, -46.3781,-47.2535,-48.1422,-49.0444, -49.9603,-50.4234,-50.89,-51.3602, -51.8339,-52.3111,-52.792,-53.2764, -53.7645,-54.2562,-54.7516,-55.2507, -55.7535,-56.26,-56.7703,-57.5427, -58.0592,-58.5704,-59.0765,-59.5772, -60.0727,-60.5628,-61.0484,-61.5288, -62.0044,-62.4749,-62.9409,-63.4021, -64.3104,-65.2003,-66.0729,-66.9278, -67.7667,-68.589,-68.7922,-68.8286)
FOOTPRINT_POINT_LONGITUDE = (35.7389,37.1567,39.5418,41.9514, 43.7367,43.8181,43.9424,44.1941,44.4307 ,44.6495,44.8548,45.0482,45.141,45.2311 ,45.3183,45.4029,45.4834,45.5635, 45.6407,45.7147,45.7858,45.8557,45.9242 ,45.9901,46.0536,46.1453,46.2038, 46.2593,46.3124,46.3627,46.4106,46.4564 ,46.5002,46.5422,46.5816,46.6193, 46.6556,46.6903,46.7232,46.7547,46.785, 46.8135,46.8408,46.8681,46.8923,46.9359 ,46.9804,47.0183,47.023,47.0229,46.3057 ,44.6987,43.6591,42.702,41.9842,41.2658 ,40.3871,39.0271,38.9465,38.9072, 38.9267,38.9399,38.9462,38.945,38.9334, 38.9251,38.9143,38.9009,38.8853,38.8671 ,38.8463,38.8219,38.795,38.7623,38.7284 ,38.6908,38.6494,38.6041,38.5544, 38.4716,38.411,38.3468,38.2778,38.2047, 38.1278,38.0472,37.9627,37.873,37.7801, 37.6814,37.5793,37.4732,37.2431,36.9897 ,36.7128,36.4174,36.0971,35.7557, 35.6664,35.7389)
ORBIT_NUMBER = 2723
ORBITAL_ECCENTRICITY = 0.571
ORBITAL_INCLINATION = 86.61
ORBITAL_SEMIMAJOR_AXIS = 8554.43
PERIAPSIS_ALTITUDE = 285.14
PERIAPSIS_ARGUMENT_ANGLE = 240.06
PERIAPSIS_TIME = 2006-02-24T03:42:38.000Z
SPACECRAFT_ORIENTATION = (0.0,-1.0,0.0)
^MEX_ORIENTATION_DESC = "MEX_ORIENTATION_DESC.TXT"
SPACECRAFT_POINTING_MODE = NADIR
^MEX_POINTING_DESC = "MEX_POINTING_DESC.TXT"
RIGHT_ASCENSION = -1e+32
DECLINATION = -1e+32
OFFSET_ANGLE = -1e+32
SPACECRAFT_SOLAR_DISTANCE = 2.38812e+08
TARGET_NAME = MARS
/* CAMERA DATA ELEMENTS */
DETECTOR_TEMPERATURE = 18.5744
FOCAL_PLANE_TEMPERATURE = 7.9716
INST_CMPRS_NAME = "DISCRETE COSINE TRANSFORMATION (DCT)"
INST_CMPRS_RATIO = 8.64309
INST_CMPRS_QUALITY = 0
INST_CMPRS_QUANTZ_TBL_ID = 0
INSTRUMENT_TEMPERATURE = 11.234
LENS_TEMPERATURE = 8.3794
MACROPIXEL_SIZE = 1
MISSING_FRAMES = 0
PIXEL_SUBSAMPLING_FLAG = N
SIGNAL_CHAIN_ID = 0
/* RADIOMETRIC DATA ELEMENTS */
BANDWIDTH = 177.0
CENTER_FILTER_WAVELENGTH = 677.5
RADIANCE_OFFSET = 0.0
RADIANCE_SCALING_FACTOR = 0.00888017
REFLECTANCE_SCALING_FACTOR = 0.000269044
MEX:REFLECTANCE_OFFSET = 0.0
/* IMAGE OBJECT DEFINITIONS */
OBJECT = IMAGE
  INTERCHANGE_FORMAT = BINARY
  LINES = 56231
  LINE_SAMPLES = 13783
  SAMPLE_TYPE = UNSIGNED_INTEGER
  SAMPLE_BITS = 8
  BANDS = 1
  BAND_STORAGE_TYPE = BAND_SEQUENTIAL
  MAXIMUM = 254
  MEAN = 79.5182
  MINIMUM = 1
  STANDARD_DEVIATION = 52.9156
END_OBJECT = IMAGE
/* MAP OBJECT DEFINITIONS */
OBJECT = IMAGE_MAP_PROJECTION
  ^DATA_SET_MAP_PROJECTION_CATALOG= "DSMAP.CAT"
  A_AXIS_RADIUS = 3396.0
  B_AXIS_RADIUS = 3396.0
  C_AXIS_RADIUS = 3396.0
  CENTER_LATITUDE = 0.0
  CENTER_LONGITUDE = 42.0
  COORDINATE_SYSTEM_NAME = PLANETOGRAPHIC
  COORDINATE_SYSTEM_TYPE = "BODY-FIXED ROTATING"
  EASTERNMOST_LONGITUDE = 47.023
  FIRST_STANDARD_PARALLEL = "N/A"
  LINE_FIRST_PIXEL = 1
  LINE_LAST_PIXEL = 56231
  LINE_PROJECTION_OFFSET = -107912.0
  MAP_PROJECTION_ROTATION = 0.0
  MAP_PROJECTION_TYPE = SINUSOIDAL
  MAP_RESOLUTION = 2370.85521546667
  MAP_SCALE = 0.025
  MAXIMUM_LATITUDE = -45.5158
  MINIMUM_LATITUDE = -69.2324
  POSITIVE_LONGITUDE_DIRECTION = EAST
  REFERENCE_LATITUDE = "N/A"
  REFERENCE_LONGITUDE = "N/A"
  SAMPLE_FIRST_PIXEL = 1
  SAMPLE_LAST_PIXEL = 13783
  SAMPLE_PROJECTION_OFFSET = 5435.0
  SECOND_STANDARD_PARALLEL = "N/A"
  WESTERNMOST_LONGITUDE = 35.6664
END_OBJECT = IMAGE_MAP_PROJECTION
END
