PDS_VERSION_ID = PDS3
/* FILE DATA ELEMENTS */
RECORD_TYPE = UNDEFINED
/* POINTERS TO DATA OBJECTS */
^IMAGE = ("H2719_0000_ND4.TIF")
/* IDENTIFICATION DATA ELEMENTS */
DATA_SET_ID = "MEX-M-HRSC-4-REFDR-MAPPROJECT-EXT1-V4.0"
DATA_SET_NAME = "MARS EXPRESS HRSC MAP PROJECTED REFDR EXTENSION1 V4.0"
DETECTOR_ID = MEX_HRSC_NADIR
EVENT_TYPE = "MARS-TERMINATOR-VARIABLE-At"
INSTRUMENT_HOST_ID = MEX
INSTRUMENT_HOST_NAME = "MARS EXPRESS"
INSTRUMENT_ID = HRSC
INSTRUMENT_NAME = "HIGH RESOLUTION STEREO CAMERA"
MISSION_NAME = "MARS EXPRESS"
MISSION_PHASE_NAME = ME_Phase_2
PROCESSING_LEVEL_ID = 4
PRODUCT_CREATION_TIME = 2023-02-09T07:39:13.000Z
PRODUCT_ID = "H2719_0000_ND4.TIF"
RELEASE_ID = 0002
REVISION_ID = 0000
/* QUALITY DATA ELEMENTS */
DATA_QUALITY_ID = 1
DATA_QUALITY_DESC = "Data calculated based on original SPICE kernels"
/* TIME DATA ELEMENTS */
SPACECRAFT_CLOCK_START_COUNT = "1/0088736525.07275"
SPACECRAFT_CLOCK_STOP_COUNT = "1/0088737599.22158"
START_TIME = 2006-02-23T01:03:38.638Z
STOP_TIME = 2006-02-23T01:12:37.697Z
/* ORBITAL DATA ELEMENTS */
ASCENDING_NODE_LONGITUDE = 171.24
MAXIMUM_RESOLUTION = 0.0344
FOOTPRINT_POINT_LATITUDE = (-67.8409,-67.9346,-68.0649,-68.1628, -68.2139,-68.2158,-68.2204,-67.4131, -66.5902,-65.7525,-64.8985,-64.0279, -63.1405,-62.6904,-62.2356,-61.7766, -61.3131,-60.8449,-60.3722,-59.8945, -59.4119,-58.9246,-58.4324,-57.9351, -57.4327,-56.9253,-56.1652,-55.6628, -55.1637,-54.6688,-54.1768,-53.6884, -53.2033,-52.7215,-52.2431,-51.7679, -51.2961,-50.8275,-50.3621,-49.9, -49.441,-48.9853,-48.5326,-48.0831, -47.1933,-46.3157,-45.4501,-45.2356, -45.1886,-45.2092,-45.224,-45.2403, -45.2466,-45.2449,-45.2368,-45.2162, -45.1998,-45.1712,-45.1683,-45.1673, -46.0099,-46.8649,-47.7326,-48.6131, -49.5065,-49.9582,-50.4132,-50.8715, -51.3331,-51.7982,-52.2667,-52.7386, -53.2139,-53.6927,-54.175,-54.6608, -55.1501,-55.6429,-56.1393,-56.6392, -57.3885,-57.8821,-58.3705,-58.8541, -59.3331,-59.8075,-60.277,-60.7419, -61.2019,-61.6576,-62.1091,-62.556, -63.4371,-64.3011,-65.1485,-65.9798, -66.7958,-67.5958,-67.7938,-67.8409)
FOOTPRINT_POINT_LONGITUDE = (69.4789,70.8507,73.1556,75.4815, 77.2033,77.2818,77.4066,77.627,77.8269, 78.0306,78.2122,78.3807,78.5485,78.6255 ,78.7018,78.776,78.8458,78.918,78.9869, 79.052,79.1155,79.1777,79.237,79.2949, 79.3513,79.4077,79.4831,79.5287,79.5696 ,79.6274,79.6692,79.716,79.7559,79.7937 ,79.8314,79.866,79.8994,79.9309,79.9599 ,79.9873,80.0145,80.04,80.0636,80.087, 80.1297,80.1692,80.2049,80.2135,80.2152 ,79.5026,78.8687,77.8389,77.0487, 75.7069,74.9167,73.8082,73.175,72.3018, 72.2222,72.1833,72.2034,72.2215,72.2292 ,72.2282,72.2231,72.2159,72.2068, 72.1955,72.183,72.1685,72.1515,72.133, 72.1098,72.0849,72.0569,72.0257,71.9917 ,71.9537,71.9112,71.8651,71.7886, 71.7319,71.6725,71.6099,71.5436,71.4733 ,71.3989,71.3215,71.2403,71.1536, 71.0629,70.9692,70.769,70.5518,70.3161, 70.0618,69.7883,69.4902,69.4125, 69.4789)
ORBIT_NUMBER = 2719
ORBITAL_ECCENTRICITY = 0.571
ORBITAL_INCLINATION = 86.62
ORBITAL_SEMIMAJOR_AXIS = 8552.12
PERIAPSIS_ALTITUDE = 284.61
PERIAPSIS_ARGUMENT_ANGLE = 240.77
PERIAPSIS_TIME = 2006-02-23T00:49:36.000Z
SPACECRAFT_ORIENTATION = (0.0,-1.0,0.0)
^MEX_ORIENTATION_DESC = "MEX_ORIENTATION_DESC.TXT"
SPACECRAFT_POINTING_MODE = NADIR
^MEX_POINTING_DESC = "MEX_POINTING_DESC.TXT"
RIGHT_ASCENSION = -1e+32
DECLINATION = -1e+32
OFFSET_ANGLE = -1e+32
SPACECRAFT_SOLAR_DISTANCE = 2.38632e+08
TARGET_NAME = MARS
/* CAMERA DATA ELEMENTS */
DETECTOR_TEMPERATURE = 18.1666
FOCAL_PLANE_TEMPERATURE = 8.1755
INST_CMPRS_NAME = "DISCRETE COSINE TRANSFORMATION (DCT)"
INST_CMPRS_RATIO = 8.16692
INST_CMPRS_QUALITY = 0
INST_CMPRS_QUANTZ_TBL_ID = 0
INSTRUMENT_TEMPERATURE = 11.0301
LENS_TEMPERATURE = 8.3794
MACROPIXEL_SIZE = 1
MISSING_FRAMES = 0
PIXEL_SUBSAMPLING_FLAG = N
SIGNAL_CHAIN_ID = 0
/* RADIOMETRIC DATA ELEMENTS */
BANDWIDTH = 177.0
CENTER_FILTER_WAVELENGTH = 677.5
RADIANCE_OFFSET = 0.0
RADIANCE_SCALING_FACTOR = 0.00972841
REFLECTANCE_SCALING_FACTOR = 0.000294299
MEX:REFLECTANCE_OFFSET = 0.0
/* IMAGE OBJECT DEFINITIONS */
OBJECT = IMAGE
  INTERCHANGE_FORMAT = BINARY
  LINES = 54657
  LINE_SAMPLES = 13424
  SAMPLE_TYPE = UNSIGNED_INTEGER
  SAMPLE_BITS = 8
  BANDS = 1
  BAND_STORAGE_TYPE = BAND_SEQUENTIAL
  MAXIMUM = 254
  MEAN = 89.8576
  MINIMUM = 1
  STANDARD_DEVIATION = 54.9016
END_OBJECT = IMAGE
/* MAP OBJECT DEFINITIONS */
OBJECT = IMAGE_MAP_PROJECTION
  ^DATA_SET_MAP_PROJECTION_CATALOG= "DSMAP.CAT"
  A_AXIS_RADIUS = 3396.0
  B_AXIS_RADIUS = 3396.0
  C_AXIS_RADIUS = 3396.0
  CENTER_LATITUDE = 0.0
  CENTER_LONGITUDE = 76.0
  COORDINATE_SYSTEM_NAME = PLANETOGRAPHIC
  COORDINATE_SYSTEM_TYPE = "BODY-FIXED ROTATING"
  EASTERNMOST_LONGITUDE = 80.2152
  FIRST_STANDARD_PARALLEL = "N/A"
  LINE_FIRST_PIXEL = 1
  LINE_LAST_PIXEL = 54657
  LINE_PROJECTION_OFFSET = -107086.0
  MAP_PROJECTION_ROTATION = 0.0
  MAP_PROJECTION_TYPE = SINUSOIDAL
  MAP_RESOLUTION = 2370.85521546667
  MAP_SCALE = 0.025
  MAXIMUM_LATITUDE = -45.1673
  MINIMUM_LATITUDE = -68.2204
  POSITIVE_LONGITUDE_DIRECTION = EAST
  REFERENCE_LATITUDE = "N/A"
  REFERENCE_LONGITUDE = "N/A"
  SAMPLE_FIRST_PIXEL = 1
  SAMPLE_LAST_PIXEL = 13424
  SAMPLE_PROJECTION_OFFSET = 6379.0
  SECOND_STANDARD_PARALLEL = "N/A"
  WESTERNMOST_LONGITUDE = 69.41249999999999
END_OBJECT = IMAGE_MAP_PROJECTION
END
