PDS_VERSION_ID = PDS3
/* FILE DATA ELEMENTS */
RECORD_TYPE = UNDEFINED
/* POINTERS TO DATA OBJECTS */
^IMAGE = ("H2719_0000_BL4.TIF")
/* IDENTIFICATION DATA ELEMENTS */
DATA_SET_ID = "MEX-M-HRSC-4-REFDR-MAPPROJECT-EXT1-V4.0"
DATA_SET_NAME = "MARS EXPRESS HRSC MAP PROJECTED REFDR EXTENSION1 V4.0"
DETECTOR_ID = MEX_HRSC_BLUE
EVENT_TYPE = "MARS-TERMINATOR-VARIABLE-At"
INSTRUMENT_HOST_ID = MEX
INSTRUMENT_HOST_NAME = "MARS EXPRESS"
INSTRUMENT_ID = HRSC
INSTRUMENT_NAME = "HIGH RESOLUTION STEREO CAMERA"
MISSION_NAME = "MARS EXPRESS"
MISSION_PHASE_NAME = ME_Phase_2
PROCESSING_LEVEL_ID = 4
PRODUCT_CREATION_TIME = 2023-02-09T07:39:13.000Z
PRODUCT_ID = "H2719_0000_BL4.TIF"
RELEASE_ID = 0002
REVISION_ID = 0000
/* QUALITY DATA ELEMENTS */
DATA_QUALITY_ID = 1
DATA_QUALITY_DESC = "Data calculated based on original SPICE kernels"
/* TIME DATA ELEMENTS */
SPACECRAFT_CLOCK_START_COUNT = "1/0088736525.07275"
SPACECRAFT_CLOCK_STOP_COUNT = "1/0088737599.22158"
START_TIME = 2006-02-23T01:03:56.738Z
STOP_TIME = 2006-02-23T01:13:24.637Z
/* ORBITAL DATA ELEMENTS */
ASCENDING_NODE_LONGITUDE = 171.24
MAXIMUM_RESOLUTION = 0.1412
FOOTPRINT_POINT_LATITUDE = (-67.7997,-67.9918,-68.0566,-68.1053, -68.1739,-68.1757,-68.197,-67.3634, -66.5118,-65.6483,-64.765,-64.3156, -63.8636,-63.4081,-62.9466,-62.4811, -62.0109,-61.5359,-61.055,-60.572, -60.0824,-59.5877,-59.088,-58.5838, -58.0735,-57.3107,-56.8069,-56.3055, -55.8093,-55.3177,-54.8311,-54.3471, -53.8659,-53.3906,-52.9159,-52.4465, -51.9806,-51.5178,-51.0582,-50.602, -50.1488,-49.6993,-48.8103,-47.9345, -47.0718,-46.2218,-45.3846,-45.1773, -45.1736,-45.2209,-45.234,-45.2467, -45.2499,-45.2443,-45.2315,-45.2173, -45.1937,-45.1914,-45.1924,-46.0047, -46.8288,-47.6678,-48.5209,-49.3864, -50.2671,-50.7126,-51.1617,-51.614, -52.0698,-52.5291,-52.9921,-53.4591, -53.9296,-54.4039,-54.8817,-55.3634, -55.8493,-56.3389,-56.8325,-57.3297, -57.8313,-58.5825,-59.0774,-59.5671, -60.052,-60.5323,-61.0076,-61.4782, -61.9446,-62.406,-62.8632,-63.316, -63.7638,-64.2075,-65.082,-65.9397, -66.7806,-67.6063,-67.8097,-67.7997)
FOOTPRINT_POINT_LONGITUDE = (69.3956,72.4935,73.8337,75.0299, 77.2903,77.3659,77.4695,77.6975,77.9047 ,78.1153,78.3029,78.3892,78.4778, 78.5671,78.6499,78.7311,78.8093,78.8847 ,78.9557,79.033,79.1028,79.17,79.2352, 79.3008,79.3611,79.4489,79.504,79.5526, 79.6028,79.6533,79.7052,79.752,79.7946, 79.8412,79.8781,79.918,79.9561,79.9915, 80.0246,80.0563,80.0856,80.1143,80.1683 ,80.2177,80.263,80.3049,80.3438,80.3532 ,80.3533,78.7235,78.0234,76.9364, 75.5392,74.7629,73.6719,72.9704,72.1122 ,72.0339,72.0079,72.0322,72.0541, 72.0661,72.0698,72.07,72.0592,72.0511, 72.0407,72.029,72.0155,71.9998,71.9816, 71.9596,71.9354,71.9083,71.8788,71.8454 ,71.8074,71.7659,71.7203,71.6713,71.616 ,71.5255,71.4605,71.3919,71.3187, 71.2417,71.1613,71.0764,70.9846,70.8902 ,70.7914,70.6884,70.5805,70.4688, 70.2297,69.9701,69.6905,69.3838,69.304, 69.3956)
ORBIT_NUMBER = 2719
ORBITAL_ECCENTRICITY = 0.571
ORBITAL_INCLINATION = 86.62
ORBITAL_SEMIMAJOR_AXIS = 8552.12
PERIAPSIS_ALTITUDE = 284.61
PERIAPSIS_ARGUMENT_ANGLE = 240.77
PERIAPSIS_TIME = 2006-02-23T00:49:36.000Z
SPACECRAFT_ORIENTATION = (0.0,-1.0,0.0)
^MEX_ORIENTATION_DESC = "MEX_ORIENTATION_DESC.TXT"
SPACECRAFT_POINTING_MODE = NADIR
^MEX_POINTING_DESC = "MEX_POINTING_DESC.TXT"
RIGHT_ASCENSION = -1e+32
DECLINATION = -1e+32
OFFSET_ANGLE = -1e+32
SPACECRAFT_SOLAR_DISTANCE = 2.38632e+08
TARGET_NAME = MARS
/* CAMERA DATA ELEMENTS */
DETECTOR_TEMPERATURE = 18.1666
FOCAL_PLANE_TEMPERATURE = 8.1755
INST_CMPRS_NAME = "DISCRETE COSINE TRANSFORMATION (DCT)"
INST_CMPRS_RATIO = 31.4685
INST_CMPRS_QUALITY = 0
INST_CMPRS_QUANTZ_TBL_ID = 0
INSTRUMENT_TEMPERATURE = 11.0301
LENS_TEMPERATURE = 8.3794
MACROPIXEL_SIZE = 4
MISSING_FRAMES = 0
PIXEL_SUBSAMPLING_FLAG = N
SIGNAL_CHAIN_ID = 2
/* RADIOMETRIC DATA ELEMENTS */
BANDWIDTH = 76.0
CENTER_FILTER_WAVELENGTH = 444.0
RADIANCE_OFFSET = 0.0
RADIANCE_SCALING_FACTOR = 0.00203958
REFLECTANCE_SCALING_FACTOR = 0.000119333
MEX:REFLECTANCE_OFFSET = 0.0
/* IMAGE OBJECT DEFINITIONS */
OBJECT = IMAGE
  INTERCHANGE_FORMAT = BINARY
  LINES = 13665
  LINE_SAMPLES = 3356
  SAMPLE_TYPE = UNSIGNED_INTEGER
  SAMPLE_BITS = 8
  BANDS = 1
  BAND_STORAGE_TYPE = BAND_SEQUENTIAL
  MAXIMUM = 254
  MEAN = 112.08
  MINIMUM = 1
  STANDARD_DEVIATION = 53.9748
END_OBJECT = IMAGE
/* MAP OBJECT DEFINITIONS */
OBJECT = IMAGE_MAP_PROJECTION
  ^DATA_SET_MAP_PROJECTION_CATALOG= "DSMAP.CAT"
  A_AXIS_RADIUS = 3396.0
  B_AXIS_RADIUS = 3396.0
  C_AXIS_RADIUS = 3396.0
  CENTER_LATITUDE = 0.0
  CENTER_LONGITUDE = 76.0
  COORDINATE_SYSTEM_NAME = PLANETOGRAPHIC
  COORDINATE_SYSTEM_TYPE = "BODY-FIXED ROTATING"
  EASTERNMOST_LONGITUDE = 80.3533
  FIRST_STANDARD_PARALLEL = "N/A"
  LINE_FIRST_PIXEL = 1
  LINE_LAST_PIXEL = 13665
  LINE_PROJECTION_OFFSET = -26771.875
  MAP_PROJECTION_ROTATION = 0.0
  MAP_PROJECTION_TYPE = SINUSOIDAL
  MAP_RESOLUTION = 592.713803866667
  MAP_SCALE = 0.1
  MAXIMUM_LATITUDE = -45.1736
  MINIMUM_LATITUDE = -68.197
  POSITIVE_LONGITUDE_DIRECTION = EAST
  REFERENCE_LATITUDE = "N/A"
  REFERENCE_LONGITUDE = "N/A"
  SAMPLE_FIRST_PIXEL = 1
  SAMPLE_LAST_PIXEL = 3356
  SAMPLE_PROJECTION_OFFSET = 1594.375
  SECOND_STANDARD_PARALLEL = "N/A"
  WESTERNMOST_LONGITUDE = 69.304
END_OBJECT = IMAGE_MAP_PROJECTION
END
