PDS_VERSION_ID = PDS3
/* FILE DATA ELEMENTS */
RECORD_TYPE = UNDEFINED
/* POINTERS TO DATA OBJECTS */
^IMAGE = ("H2698_0000_P24.TIF")
/* IDENTIFICATION DATA ELEMENTS */
DATA_SET_ID = "MEX-M-HRSC-4-REFDR-MAPPROJECT-EXT1-V4.0"
DATA_SET_NAME = "MARS EXPRESS HRSC MAP PROJECTED REFDR EXTENSION1 V4.0"
DETECTOR_ID = MEX_HRSC_P2
EVENT_TYPE = "MARS-TERMINATOR-VARIABLE-At"
INSTRUMENT_HOST_ID = MEX
INSTRUMENT_HOST_NAME = "MARS EXPRESS"
INSTRUMENT_ID = HRSC
INSTRUMENT_NAME = "HIGH RESOLUTION STEREO CAMERA"
MISSION_NAME = "MARS EXPRESS"
MISSION_PHASE_NAME = ME_Phase_2
PROCESSING_LEVEL_ID = 4
PRODUCT_CREATION_TIME = 2023-02-08T07:05:14.000Z
PRODUCT_ID = "H2698_0000_P24.TIF"
RELEASE_ID = 0001
REVISION_ID = 0000
/* QUALITY DATA ELEMENTS */
DATA_QUALITY_ID = 1
DATA_QUALITY_DESC = "Data calculated based on original SPICE kernels"
/* TIME DATA ELEMENTS */
SPACECRAFT_CLOCK_START_COUNT = "1/0088228294.09074"
SPACECRAFT_CLOCK_STOP_COUNT = "1/0088228906.40964"
START_TIME = 2006-02-17T03:53:40.616Z
STOP_TIME = 2006-02-17T04:00:25.264Z
/* ORBITAL DATA ELEMENTS */
ASCENDING_NODE_LONGITUDE = 171.68
MAXIMUM_RESOLUTION = 0.1234
FOOTPRINT_POINT_LATITUDE = (-71.8435,-71.9577,-72.0495,-72.1077, -72.1566,-72.206,-72.2506,-72.253, -72.3241,-71.7089,-71.083,-70.6144, -69.9752,-69.3258,-68.6675,-68.3337, -67.997,-67.6589,-67.3181,-66.9747, -66.6294,-66.2811,-65.9297,-65.5752, -65.2196,-64.8602,-64.4973,-64.1329, -63.7648,-63.4004,-63.038,-62.6785, -62.3189,-61.9624,-61.6072,-61.0752, -60.7245,-60.3779,-59.8609,-59.5196, -59.1823,-58.6779,-58.0113,-57.5163, -56.8664,-56.3823,-55.5894,-55.4306, -55.3837,-55.386,-55.3853,-55.3776, -55.3692,-55.3617,-55.3499,-55.3213, -55.2895,-55.2446,-55.2422,-55.2427, -56.0206,-56.6495,-57.2867,-57.9323, -58.5856,-58.917,-59.2524,-59.5887, -59.9271,-60.2676,-60.6105,-60.9548, -61.3015,-61.6511,-62.0031,-62.3573, -62.7134,-63.0718,-63.4308,-63.7928, -64.1543,-64.511,-64.8615,-65.3869, -65.7335,-66.2501,-66.5915,-66.931, -67.2673,-67.6016,-67.9325,-68.2617, -68.5904,-69.0728,-69.7103,-70.3339, -70.9511,-71.7127,-71.8624,-71.8435)
FOOTPRINT_POINT_LONGITUDE = (331.823,333.557,335.154,336.304, 337.382,338.621,339.948,340.026,340.126 ,340.402,340.661,340.853,341.092, 341.318,341.534,341.637,341.737,341.836 ,341.932,342.026,342.119,342.209, 342.297,342.382,342.467,342.549,342.629 ,342.708,342.784,342.86,342.933,343.005 ,343.072,343.137,343.2,343.287,343.344, 343.401,343.483,343.536,343.588,343.663 ,343.757,343.823,343.911,343.971, 344.071,344.089,344.095,343.289,342.7, 341.598,340.792,340.206,339.546,338.372 ,337.42,336.32,336.245,336.221,336.161, 336.109,336.05,335.983,335.91,335.868, 335.822,335.775,335.726,335.674,335.619 ,335.562,335.502,335.438,335.37,335.299 ,335.225,335.147,335.067,334.982, 334.891,334.8,334.711,334.563,334.462, 334.3,334.187,334.07,333.949,333.823, 333.695,333.561,333.42,333.209,332.907, 332.595,332.255,331.791,331.697, 331.823)
ORBIT_NUMBER = 2698
ORBITAL_ECCENTRICITY = 0.571
ORBITAL_INCLINATION = 86.62
ORBITAL_SEMIMAJOR_AXIS = 8546.83
PERIAPSIS_ALTITUDE = 284.08
PERIAPSIS_ARGUMENT_ANGLE = 244.41
PERIAPSIS_TIME = 2006-02-17T03:41:14.000Z
SPACECRAFT_ORIENTATION = (0.0,-1.0,0.0)
^MEX_ORIENTATION_DESC = "MEX_ORIENTATION_DESC.TXT"
SPACECRAFT_POINTING_MODE = NADIR
^MEX_POINTING_DESC = "MEX_POINTING_DESC.TXT"
RIGHT_ASCENSION = -1e+32
DECLINATION = -1e+32
OFFSET_ANGLE = -1e+32
SPACECRAFT_SOLAR_DISTANCE = 2.3767e+08
TARGET_NAME = MARS
/* CAMERA DATA ELEMENTS */
DETECTOR_TEMPERATURE = 18.5744
FOCAL_PLANE_TEMPERATURE = 7.7677
INST_CMPRS_NAME = "DISCRETE COSINE TRANSFORMATION (DCT)"
INST_CMPRS_RATIO = 33.431
INST_CMPRS_QUALITY = 0
INST_CMPRS_QUANTZ_TBL_ID = 0
INSTRUMENT_TEMPERATURE = 11.0301
LENS_TEMPERATURE = 8.3794
MACROPIXEL_SIZE = 4
MISSING_FRAMES = 0
PIXEL_SUBSAMPLING_FLAG = N
SIGNAL_CHAIN_ID = 3
/* RADIOMETRIC DATA ELEMENTS */
BANDWIDTH = 177.0
CENTER_FILTER_WAVELENGTH = 676.5
RADIANCE_OFFSET = 0.087003
RADIANCE_SCALING_FACTOR = 0.00620963
REFLECTANCE_SCALING_FACTOR = 0.000185983
MEX:REFLECTANCE_OFFSET = 0.00260581
/* IMAGE OBJECT DEFINITIONS */
OBJECT = IMAGE
  INTERCHANGE_FORMAT = BINARY
  LINES = 10144
  LINE_SAMPLES = 2803
  SAMPLE_TYPE = UNSIGNED_INTEGER
  SAMPLE_BITS = 8
  BANDS = 1
  BAND_STORAGE_TYPE = BAND_SEQUENTIAL
  MAXIMUM = 250
  MEAN = 104.843
  MINIMUM = 1
  STANDARD_DEVIATION = 52.1364
END_OBJECT = IMAGE
/* MAP OBJECT DEFINITIONS */
OBJECT = IMAGE_MAP_PROJECTION
  ^DATA_SET_MAP_PROJECTION_CATALOG= "DSMAP.CAT"
  A_AXIS_RADIUS = 3396.0
  B_AXIS_RADIUS = 3396.0
  C_AXIS_RADIUS = 3396.0
  CENTER_LATITUDE = 0.0
  CENTER_LONGITUDE = 339.0
  COORDINATE_SYSTEM_NAME = PLANETOGRAPHIC
  COORDINATE_SYSTEM_TYPE = "BODY-FIXED ROTATING"
  EASTERNMOST_LONGITUDE = 344.095
  FIRST_STANDARD_PARALLEL = "N/A"
  LINE_FIRST_PIXEL = 1
  LINE_LAST_PIXEL = 10144
  LINE_PROJECTION_OFFSET = -32733.875
  MAP_PROJECTION_ROTATION = 0.0
  MAP_PROJECTION_TYPE = SINUSOIDAL
  MAP_RESOLUTION = 592.713803866667
  MAP_SCALE = 0.1
  MAXIMUM_LATITUDE = -55.2422
  MINIMUM_LATITUDE = -72.3241
  POSITIVE_LONGITUDE_DIRECTION = EAST
  REFERENCE_LATITUDE = "N/A"
  REFERENCE_LONGITUDE = "N/A"
  SAMPLE_FIRST_PIXEL = 1
  SAMPLE_LAST_PIXEL = 2803
  SAMPLE_PROJECTION_OFFSET = 1289.125
  SECOND_STANDARD_PARALLEL = "N/A"
  WESTERNMOST_LONGITUDE = 331.697
END_OBJECT = IMAGE_MAP_PROJECTION
END
