PDS_VERSION_ID = PDS3
/* FILE DATA ELEMENTS */
RECORD_TYPE = UNDEFINED
/* POINTERS TO DATA OBJECTS */
^IMAGE = ("H2692_0001_S24.TIF")
/* IDENTIFICATION DATA ELEMENTS */
DATA_SET_ID = "MEX-M-HRSC-4-REFDR-MAPPROJECT-EXT1-V4.0"
DATA_SET_NAME = "MARS EXPRESS HRSC MAP PROJECTED REFDR EXTENSION1 V4.0"
DETECTOR_ID = MEX_HRSC_S2
EVENT_TYPE = "MARS-GLOBAL-MAPPING-Vo-Te-Fl"
INSTRUMENT_HOST_ID = MEX
INSTRUMENT_HOST_NAME = "MARS EXPRESS"
INSTRUMENT_ID = HRSC
INSTRUMENT_NAME = "HIGH RESOLUTION STEREO CAMERA"
MISSION_NAME = "MARS EXPRESS"
MISSION_PHASE_NAME = ME_Phase_2
PROCESSING_LEVEL_ID = 4
PRODUCT_CREATION_TIME = 2023-02-08T07:05:14.000Z
PRODUCT_ID = "H2692_0001_S24.TIF"
RELEASE_ID = 0001
REVISION_ID = 0000
/* QUALITY DATA ELEMENTS */
DATA_QUALITY_ID = 1
DATA_QUALITY_DESC = "Data calculated based on original SPICE kernels"
/* TIME DATA ELEMENTS */
SPACECRAFT_CLOCK_START_COUNT = "1/0088083610.09072"
SPACECRAFT_CLOCK_STOP_COUNT = "1/0088084981.21155"
START_TIME = 2006-02-15T11:49:16.905Z
STOP_TIME = 2006-02-15T12:03:05.148Z
/* ORBITAL DATA ELEMENTS */
ASCENDING_NODE_LONGITUDE = 171.81
MAXIMUM_RESOLUTION = 0.1779
FOOTPRINT_POINT_LATITUDE = (-43.7992,-43.788,-43.7685,-43.7471, -43.7238,-43.6987,-43.6718,-43.643, -43.6126,-43.5803,-43.5461,-43.5098, -43.4716,-43.4262,-43.4209,-43.4867, -42.9645,-42.6228,-42.2859,-41.9534, -41.6239,-41.2929,-40.9777,-40.6648, -40.3572,-40.0538,-39.755,-39.4588, -38.8785,-38.3138,-37.772,-37.2415, -36.7253,-36.1017,-35.6147,-35.0233, -34.5682,-34.1256,-33.6957,-33.2789, -32.8738,-32.4797,-32.0973,-31.726, -31.3653,-31.0138,-30.9282,-30.9053, -30.9704,-31.0532,-31.1166,-31.1987, -31.2779,-31.3716,-31.4717,-31.5666, -31.6399,-31.7507,-31.8279,-31.9441, -32.0197,-32.0824,-32.1731,-32.2425, -32.346,-32.4261,-32.5359,-32.6013, -32.6671,-32.7547,-32.8656,-32.8881, -32.896,-33.4402,-33.9562,-34.2642, -34.5887,-34.9268,-35.2773,-35.6377, -36.3083,-36.7116,-37.1258,-37.4498, -37.8986,-38.364,-38.844,-39.3471, -39.8584,-40.383,-40.7977,-41.3609, -41.945,-42.401,-42.7039,-43.0139, -43.3328,-43.6578,-43.8217,-43.7992)
FOOTPRINT_POINT_LONGITUDE = (205.781,206.277,207.067,207.855, 208.641,209.425,210.207,210.989,211.769 ,212.55,213.331,214.114,214.899,215.784 ,215.883,215.953,216.032,216.084, 216.136,216.188,216.239,216.286,216.34, 216.393,216.446,216.499,216.553,216.605 ,216.711,216.817,216.927,217.037, 217.146,217.286,217.396,217.535,217.649 ,217.764,217.88,217.999,218.119,218.239 ,218.362,218.486,218.611,218.738,218.77 ,218.778,218.214,217.505,216.938, 216.233,215.676,214.98,214.14,213.446, 212.89,212.056,211.5,210.664,210.106, 209.687,209.129,208.567,207.865,207.301 ,206.594,206.167,205.74,205.168,204.449 ,204.305,204.253,204.369,204.472, 204.533,204.594,204.656,204.718,204.781 ,204.891,204.955,205.02,205.067,205.129 ,205.191,205.254,205.313,205.375, 205.438,205.481,205.539,205.595,205.634 ,205.663,205.69,205.715,205.739,205.751 ,205.781)
ORBIT_NUMBER = 2692
ORBITAL_ECCENTRICITY = 0.572
ORBITAL_INCLINATION = 86.62
ORBITAL_SEMIMAJOR_AXIS = 8547.37
PERIAPSIS_ALTITUDE = 282.5
PERIAPSIS_ARGUMENT_ANGLE = 245.47
PERIAPSIS_TIME = 2006-02-15T11:21:42.000Z
SPACECRAFT_ORIENTATION = (0.0,-1.0,0.0)
^MEX_ORIENTATION_DESC = "MEX_ORIENTATION_DESC.TXT"
SPACECRAFT_POINTING_MODE = NADIR
^MEX_POINTING_DESC = "MEX_POINTING_DESC.TXT"
RIGHT_ASCENSION = -1e+32
DECLINATION = -1e+32
OFFSET_ANGLE = -1e+32
SPACECRAFT_SOLAR_DISTANCE = 2.37389e+08
TARGET_NAME = MARS
/* CAMERA DATA ELEMENTS */
DETECTOR_TEMPERATURE = 20.6134
FOCAL_PLANE_TEMPERATURE = 8.5833
INST_CMPRS_NAME = "DISCRETE COSINE TRANSFORMATION (DCT)"
INST_CMPRS_RATIO = 11.8423
INST_CMPRS_QUALITY = 0
INST_CMPRS_QUANTZ_TBL_ID = 0
INSTRUMENT_TEMPERATURE = 12.8652
LENS_TEMPERATURE = 9.3989
MACROPIXEL_SIZE = 2
MISSING_FRAMES = 0
PIXEL_SUBSAMPLING_FLAG = N
SIGNAL_CHAIN_ID = 1
/* RADIOMETRIC DATA ELEMENTS */
BANDWIDTH = 178.0
CENTER_FILTER_WAVELENGTH = 679.0
RADIANCE_OFFSET = 1.58957
RADIANCE_SCALING_FACTOR = 0.0184237
REFLECTANCE_SCALING_FACTOR = 0.000549843
MEX:REFLECTANCE_OFFSET = 0.0474394
/* IMAGE OBJECT DEFINITIONS */
OBJECT = IMAGE
  INTERCHANGE_FORMAT = BINARY
  LINES = 7254
  LINE_SAMPLES = 4158
  SAMPLE_TYPE = UNSIGNED_INTEGER
  SAMPLE_BITS = 8
  BANDS = 1
  BAND_STORAGE_TYPE = BAND_SEQUENTIAL
  MAXIMUM = 215
  MEAN = 64.1958
  MINIMUM = 1
  STANDARD_DEVIATION = 19.7722
END_OBJECT = IMAGE
/* MAP OBJECT DEFINITIONS */
OBJECT = IMAGE_MAP_PROJECTION
  ^DATA_SET_MAP_PROJECTION_CATALOG= "DSMAP.CAT"
  A_AXIS_RADIUS = 3396.0
  B_AXIS_RADIUS = 3396.0
  C_AXIS_RADIUS = 3396.0
  CENTER_LATITUDE = 0.0
  CENTER_LONGITUDE = 210.0
  COORDINATE_SYSTEM_NAME = PLANETOGRAPHIC
  COORDINATE_SYSTEM_TYPE = "BODY-FIXED ROTATING"
  EASTERNMOST_LONGITUDE = 218.778
  FIRST_STANDARD_PARALLEL = "N/A"
  LINE_FIRST_PIXEL = 1
  LINE_LAST_PIXEL = 7254
  LINE_PROJECTION_OFFSET = -18677.75
  MAP_PROJECTION_ROTATION = 0.0
  MAP_PROJECTION_TYPE = SINUSOIDAL
  MAP_RESOLUTION = 592.713803866667
  MAP_SCALE = 0.1
  MAXIMUM_LATITUDE = -30.9053
  MINIMUM_LATITUDE = -43.8217
  POSITIVE_LONGITUDE_DIRECTION = EAST
  REFERENCE_LATITUDE = "N/A"
  REFERENCE_LONGITUDE = "N/A"
  SAMPLE_FIRST_PIXEL = 1
  SAMPLE_LAST_PIXEL = 4158
  SAMPLE_PROJECTION_OFFSET = 2015.25
  SECOND_STANDARD_PARALLEL = "N/A"
  WESTERNMOST_LONGITUDE = 204.253
END_OBJECT = IMAGE_MAP_PROJECTION
END
