PDS_VERSION_ID = PDS3
/* FILE DATA ELEMENTS */
RECORD_TYPE = UNDEFINED
/* POINTERS TO DATA OBJECTS */
^IMAGE = ("H2689_0001_S24.TIF")
/* IDENTIFICATION DATA ELEMENTS */
DATA_SET_ID = "MEX-M-HRSC-4-REFDR-MAPPROJECT-EXT1-V4.0"
DATA_SET_NAME = "MARS EXPRESS HRSC MAP PROJECTED REFDR EXTENSION1 V4.0"
DETECTOR_ID = MEX_HRSC_S2
EVENT_TYPE = "MARS-GLOBAL-MAPPING-Im-Fl-At"
INSTRUMENT_HOST_ID = MEX
INSTRUMENT_HOST_NAME = "MARS EXPRESS"
INSTRUMENT_ID = HRSC
INSTRUMENT_NAME = "HIGH RESOLUTION STEREO CAMERA"
MISSION_NAME = "MARS EXPRESS"
MISSION_PHASE_NAME = ME_Phase_2
PROCESSING_LEVEL_ID = 4
PRODUCT_CREATION_TIME = 2023-02-08T07:05:14.000Z
PRODUCT_ID = "H2689_0001_S24.TIF"
RELEASE_ID = 0001
REVISION_ID = 0000
/* QUALITY DATA ELEMENTS */
DATA_QUALITY_ID = 1
DATA_QUALITY_DESC = "Data calculated based on original SPICE kernels"
/* TIME DATA ELEMENTS */
SPACECRAFT_CLOCK_START_COUNT = "1/0088010912.08259"
SPACECRAFT_CLOCK_STOP_COUNT = "1/0088012149.26038"
START_TIME = 2006-02-14T15:35:14.474Z
STOP_TIME = 2006-02-14T15:49:13.246Z
/* ORBITAL DATA ELEMENTS */
ASCENDING_NODE_LONGITUDE = 171.87
MAXIMUM_RESOLUTION = 0.1417
FOOTPRINT_POINT_LATITUDE = (-49.2393,-49.2469,-49.2513,-49.2535, -49.2535,-49.2515,-49.2473,-49.2411, -49.2328,-49.2225,-49.2099,-49.1951, -49.1664,-49.164,-49.2413,-48.5788, -48.1459,-47.7183,-47.2949,-46.8796, -46.4693,-46.0642,-45.6632,-45.2721, -44.8859,-44.5047,-44.1291,-43.7582, -43.0406,-42.1595,-41.4769,-40.8108, -40.1698,-39.5528,-39.0948,-38.5018, -37.9267,-37.3686,-36.8283,-36.301, -35.788,-35.2857,-34.8039,-34.3346, -33.8792,-33.4357,-33.3272,-33.3235, -33.41,-33.4603,-33.5181,-33.5609, -33.6566,-33.7346,-33.7915,-33.8439, -33.8958,-33.9502,-34.0033,-34.0553, -34.1584,-34.2271,-34.3178,-34.3799, -34.4384,-34.4942,-34.5521,-34.6397, -34.7162,-34.7319,-34.7377,-35.487, -35.8919,-36.2919,-36.7198,-37.1624, -37.6214,-38.2341,-38.7217,-39.2403, -39.7749,-40.3249,-40.8947,-41.798, -42.4193,-43.067,-43.7325,-44.4245, -45.151,-45.8957,-46.2741,-46.659, -47.0502,-47.4477,-47.8468,-48.2674, -48.6627,-49.0893,-49.2994,-49.2393)
FOOTPRINT_POINT_LONGITUDE = (140.974,141.755,142.447,143.139, 143.829,144.519,145.208,145.897,146.585 ,147.274,147.964,148.655,149.781, 149.868,149.941,150.03,150.089,150.147, 150.203,150.259,150.314,150.369,150.422 ,150.477,150.531,150.585,150.638, 150.691,150.801,150.93,151.033,151.134, 151.239,151.347,151.425,151.531,151.638 ,151.746,151.856,151.965,152.075, 152.184,152.298,152.412,152.528,152.644 ,152.674,152.675,151.786,151.277, 150.774,150.264,149.385,148.631,148.13, 147.629,147.127,146.626,146.125,145.622 ,144.617,143.987,143.23,142.723,142.215 ,141.706,141.195,140.426,139.781, 139.652,139.605,139.734,139.797,139.865 ,139.93,139.996,140.061,140.138,140.205 ,140.268,140.331,140.394,140.455,140.54 ,140.597,140.65,140.701,140.748,140.786 ,140.823,140.841,140.857,140.873, 140.887,140.901,140.907,140.927,140.933 ,140.939,140.974)
ORBIT_NUMBER = 2689
ORBITAL_ECCENTRICITY = 0.571
ORBITAL_INCLINATION = 86.61
ORBITAL_SEMIMAJOR_AXIS = 8544.85
PERIAPSIS_ALTITUDE = 283.77
PERIAPSIS_ARGUMENT_ANGLE = 245.97
PERIAPSIS_TIME = 2006-02-14T15:12:01.000Z
SPACECRAFT_ORIENTATION = (0.0,-1.0,0.0)
^MEX_ORIENTATION_DESC = "MEX_ORIENTATION_DESC.TXT"
SPACECRAFT_POINTING_MODE = NADIR
^MEX_POINTING_DESC = "MEX_POINTING_DESC.TXT"
RIGHT_ASCENSION = -1e+32
DECLINATION = -1e+32
OFFSET_ANGLE = -1e+32
SPACECRAFT_SOLAR_DISTANCE = 2.37248e+08
TARGET_NAME = MARS
/* CAMERA DATA ELEMENTS */
DETECTOR_TEMPERATURE = 20.6134
FOCAL_PLANE_TEMPERATURE = 8.7872
INST_CMPRS_NAME = "DISCRETE COSINE TRANSFORMATION (DCT)"
INST_CMPRS_RATIO = 10.3991
INST_CMPRS_QUALITY = 0
INST_CMPRS_QUANTZ_TBL_ID = 0
INSTRUMENT_TEMPERATURE = 50.9945
LENS_TEMPERATURE = 9.3989
MACROPIXEL_SIZE = 2
MISSING_FRAMES = 0
PIXEL_SUBSAMPLING_FLAG = N
SIGNAL_CHAIN_ID = 1
/* RADIOMETRIC DATA ELEMENTS */
BANDWIDTH = 178.0
CENTER_FILTER_WAVELENGTH = 679.0
RADIANCE_OFFSET = 1.1314
RADIANCE_SCALING_FACTOR = 0.0140501
REFLECTANCE_SCALING_FACTOR = 0.000418815
MEX:REFLECTANCE_OFFSET = 0.0337256
/* IMAGE OBJECT DEFINITIONS */
OBJECT = IMAGE
  INTERCHANGE_FORMAT = BINARY
  LINES = 9232
  LINE_SAMPLES = 3884
  SAMPLE_TYPE = UNSIGNED_INTEGER
  SAMPLE_BITS = 8
  BANDS = 1
  BAND_STORAGE_TYPE = BAND_SEQUENTIAL
  MAXIMUM = 254
  MEAN = 120.721
  MINIMUM = 1
  STANDARD_DEVIATION = 33.9629
END_OBJECT = IMAGE
/* MAP OBJECT DEFINITIONS */
OBJECT = IMAGE_MAP_PROJECTION
  ^DATA_SET_MAP_PROJECTION_CATALOG= "DSMAP.CAT"
  A_AXIS_RADIUS = 3396.0
  B_AXIS_RADIUS = 3396.0
  C_AXIS_RADIUS = 3396.0
  CENTER_LATITUDE = 0.0
  CENTER_LONGITUDE = 145.0
  COORDINATE_SYSTEM_NAME = PLANETOGRAPHIC
  COORDINATE_SYSTEM_TYPE = "BODY-FIXED ROTATING"
  EASTERNMOST_LONGITUDE = 152.675
  FIRST_STANDARD_PARALLEL = "N/A"
  LINE_FIRST_PIXEL = 1
  LINE_LAST_PIXEL = 9232
  LINE_PROJECTION_OFFSET = -20022.25
  MAP_PROJECTION_ROTATION = 0.0
  MAP_PROJECTION_TYPE = SINUSOIDAL
  MAP_RESOLUTION = 592.713803866667
  MAP_SCALE = 0.1
  MAXIMUM_LATITUDE = -33.3235
  MINIMUM_LATITUDE = -49.2994
  POSITIVE_LONGITUDE_DIRECTION = EAST
  REFERENCE_LATITUDE = "N/A"
  REFERENCE_LONGITUDE = "N/A"
  SAMPLE_FIRST_PIXEL = 1
  SAMPLE_LAST_PIXEL = 3884
  SAMPLE_PROJECTION_OFFSET = 1883.75
  SECOND_STANDARD_PARALLEL = "N/A"
  WESTERNMOST_LONGITUDE = 139.605
END_OBJECT = IMAGE_MAP_PROJECTION
END
