PDS_VERSION_ID = PDS3
/* FILE DATA ELEMENTS */
RECORD_TYPE = UNDEFINED
/* POINTERS TO DATA OBJECTS */
^IMAGE = ("H2689_0000_IR4.TIF")
/* IDENTIFICATION DATA ELEMENTS */
DATA_SET_ID = "MEX-M-HRSC-4-REFDR-MAPPROJECT-EXT1-V4.0"
DATA_SET_NAME = "MARS EXPRESS HRSC MAP PROJECTED REFDR EXTENSION1 V4.0"
DETECTOR_ID = MEX_HRSC_IR
EVENT_TYPE = "MARS-TERMINATOR-VARIABLE-At"
INSTRUMENT_HOST_ID = MEX
INSTRUMENT_HOST_NAME = "MARS EXPRESS"
INSTRUMENT_ID = HRSC
INSTRUMENT_NAME = "HIGH RESOLUTION STEREO CAMERA"
MISSION_NAME = "MARS EXPRESS"
MISSION_PHASE_NAME = ME_Phase_2
PROCESSING_LEVEL_ID = 4
PRODUCT_CREATION_TIME = 2023-02-08T07:05:14.000Z
PRODUCT_ID = "H2689_0000_IR4.TIF"
RELEASE_ID = 0001
REVISION_ID = 0000
/* QUALITY DATA ELEMENTS */
DATA_QUALITY_ID = 1
DATA_QUALITY_DESC = "Data calculated based on original SPICE kernels"
/* TIME DATA ELEMENTS */
SPACECRAFT_CLOCK_START_COUNT = "1/0088010452.08264"
SPACECRAFT_CLOCK_STOP_COUNT = "1/0088010778.50427"
START_TIME = 2006-02-14T15:21:06.378Z
STOP_TIME = 2006-02-14T15:23:36.001Z
/* ORBITAL DATA ELEMENTS */
ASCENDING_NODE_LONGITUDE = 171.87
MAXIMUM_RESOLUTION = 0.0904
FOOTPRINT_POINT_LATITUDE = (-75.9447,-76.0299,-76.1358,-76.2189, -76.2792,-76.3773,-76.3802,-76.3097, -75.9075,-75.5834,-75.1734,-74.8413, -74.3394,-73.9169,-73.6583,-73.3994, -73.1395,-72.9654,-72.7889,-72.6134, -72.4363,-72.2586,-72.0742,-71.8905, -71.7113,-71.5319,-71.2632,-70.9875, -70.8019,-70.616,-70.3366,-70.1492, -69.9621,-69.6775,-69.4875,-69.2958, -69.1033,-68.9114,-68.7168,-68.5221, -68.3262,-68.1289,-67.9319,-67.6334, -67.4342,-67.3336,-67.2622,-67.2354, -67.2043,-67.1799,-67.1407,-67.0942, -67.068,-67.0235,-66.9895,-66.9472, -66.9429,-66.9433,-67.2411,-67.4385, -67.7334,-67.9282,-68.1223,-68.4111, -68.6036,-68.7936,-68.9839,-69.1726, -69.3599,-69.5475,-69.7337,-69.919, -70.1957,-70.3782,-70.5607,-70.7439, -70.9241,-71.1035,-71.284,-71.4618, -71.7262,-71.9026,-72.0783,-72.2549, -72.4287,-72.6038,-72.7789,-72.9504, -73.1199,-73.289,-73.542,-73.8746, -74.1232,-74.5318,-74.8551,-75.096, -75.4146,-75.7289,-75.8076,-75.9447)
FOOTPRINT_POINT_LONGITUDE = (133.732,134.884,136.465,137.858, 138.984,141.124,141.196,141.387,141.706 ,141.949,142.242,142.467,142.786, 143.038,143.187,143.332,143.47,143.56, 143.652,143.739,143.824,143.91,144.003, 144.091,144.17,144.247,144.356,144.471, 144.546,144.62,144.727,144.797,144.865, 144.966,145.032,145.097,145.161,145.223 ,145.285,145.346,145.406,145.465, 145.523,145.608,145.663,145.691,145.71, 144.899,144.086,143.507,142.699,141.836 ,141.377,140.69,140.178,139.608,139.551 ,139.532,139.422,139.347,139.233, 139.155,139.076,138.955,138.872,138.788 ,138.703,138.615,138.527,138.437, 138.346,138.253,138.11,138.013,137.913, 137.813,137.711,137.607,137.501,137.394 ,137.227,137.115,137.001,136.884, 136.766,136.646,136.524,136.398,136.271 ,136.141,135.94,135.666,135.452,135.083 ,134.776,134.537,134.208,133.865, 133.777,133.732)
ORBIT_NUMBER = 2689
ORBITAL_ECCENTRICITY = 0.571
ORBITAL_INCLINATION = 86.61
ORBITAL_SEMIMAJOR_AXIS = 8544.85
PERIAPSIS_ALTITUDE = 283.77
PERIAPSIS_ARGUMENT_ANGLE = 245.97
PERIAPSIS_TIME = 2006-02-14T15:12:01.000Z
SPACECRAFT_ORIENTATION = (0.0,-1.0,0.0)
^MEX_ORIENTATION_DESC = "MEX_ORIENTATION_DESC.TXT"
SPACECRAFT_POINTING_MODE = NADIR
^MEX_POINTING_DESC = "MEX_POINTING_DESC.TXT"
RIGHT_ASCENSION = -1e+32
DECLINATION = -1e+32
OFFSET_ANGLE = -1e+32
SPACECRAFT_SOLAR_DISTANCE = 2.37248e+08
TARGET_NAME = MARS
/* CAMERA DATA ELEMENTS */
DETECTOR_TEMPERATURE = 17.7588
FOCAL_PLANE_TEMPERATURE = 8.7872
INST_CMPRS_NAME = "DISCRETE COSINE TRANSFORMATION (DCT)"
INST_CMPRS_RATIO = 21.8436
INST_CMPRS_QUALITY = 0
INST_CMPRS_QUANTZ_TBL_ID = 0
INSTRUMENT_TEMPERATURE = 11.234
LENS_TEMPERATURE = 9.195
MACROPIXEL_SIZE = 4
MISSING_FRAMES = 0
PIXEL_SUBSAMPLING_FLAG = N
SIGNAL_CHAIN_ID = 2
/* RADIOMETRIC DATA ELEMENTS */
BANDWIDTH = 81.0
CENTER_FILTER_WAVELENGTH = 955.5
RADIANCE_OFFSET = 0.0
RADIANCE_SCALING_FACTOR = 0.000745652
REFLECTANCE_SCALING_FACTOR = 9.05469e-05
MEX:REFLECTANCE_OFFSET = 0.0
/* IMAGE OBJECT DEFINITIONS */
OBJECT = IMAGE
  INTERCHANGE_FORMAT = BINARY
  LINES = 5556
  LINE_SAMPLES = 2243
  SAMPLE_TYPE = UNSIGNED_INTEGER
  SAMPLE_BITS = 8
  BANDS = 1
  BAND_STORAGE_TYPE = BAND_SEQUENTIAL
  MAXIMUM = 255
  MEAN = 109.928
  MINIMUM = 1
  STANDARD_DEVIATION = 59.4293
END_OBJECT = IMAGE
/* MAP OBJECT DEFINITIONS */
OBJECT = IMAGE_MAP_PROJECTION
  ^DATA_SET_MAP_PROJECTION_CATALOG= "DSMAP.CAT"
  A_AXIS_RADIUS = 3396.0
  B_AXIS_RADIUS = 3396.0
  C_AXIS_RADIUS = 3396.0
  CENTER_LATITUDE = 0.0
  CENTER_LONGITUDE = 141.0
  COORDINATE_SYSTEM_NAME = PLANETOGRAPHIC
  COORDINATE_SYSTEM_TYPE = "BODY-FIXED ROTATING"
  EASTERNMOST_LONGITUDE = 145.71
  FIRST_STANDARD_PARALLEL = "N/A"
  LINE_FIRST_PIXEL = 1
  LINE_LAST_PIXEL = 5556
  LINE_PROJECTION_OFFSET = -39669.75
  MAP_PROJECTION_ROTATION = 0.0
  MAP_PROJECTION_TYPE = SINUSOIDAL
  MAP_RESOLUTION = 592.713803866667
  MAP_SCALE = 0.1
  MAXIMUM_LATITUDE = -66.94289999999999
  MINIMUM_LATITUDE = -76.3802
  POSITIVE_LONGITUDE_DIRECTION = EAST
  REFERENCE_LATITUDE = "N/A"
  REFERENCE_LONGITUDE = "N/A"
  SAMPLE_FIRST_PIXEL = 1
  SAMPLE_LAST_PIXEL = 2243
  SAMPLE_PROJECTION_OFFSET = 1099.25
  SECOND_STANDARD_PARALLEL = "N/A"
  WESTERNMOST_LONGITUDE = 133.732
END_OBJECT = IMAGE_MAP_PROJECTION
END
