PDS_VERSION_ID = PDS3
/* FILE DATA ELEMENTS */
RECORD_TYPE = UNDEFINED
/* POINTERS TO DATA OBJECTS */
^IMAGE = ("H2686_0000_RE4.TIF")
/* IDENTIFICATION DATA ELEMENTS */
DATA_SET_ID = "MEX-M-HRSC-4-REFDR-MAPPROJECT-EXT1-V4.0"
DATA_SET_NAME = "MARS EXPRESS HRSC MAP PROJECTED REFDR EXTENSION1 V4.0"
DETECTOR_ID = MEX_HRSC_RED
EVENT_TYPE = "MARS-TERMINATOR-VARIABLE-Fl-At"
INSTRUMENT_HOST_ID = MEX
INSTRUMENT_HOST_NAME = "MARS EXPRESS"
INSTRUMENT_ID = HRSC
INSTRUMENT_NAME = "HIGH RESOLUTION STEREO CAMERA"
MISSION_NAME = "MARS EXPRESS"
MISSION_PHASE_NAME = ME_Phase_2
PROCESSING_LEVEL_ID = 4
PRODUCT_CREATION_TIME = 2023-02-08T07:05:14.000Z
PRODUCT_ID = "H2686_0000_RE4.TIF"
RELEASE_ID = 0001
REVISION_ID = 0000
/* QUALITY DATA ELEMENTS */
DATA_QUALITY_ID = 1
DATA_QUALITY_DESC = "Data calculated based on original SPICE kernels"
/* TIME DATA ELEMENTS */
SPACECRAFT_CLOCK_START_COUNT = "1/0087938397.07284"
SPACECRAFT_CLOCK_STOP_COUNT = "1/0087939448.41911"
START_TIME = 2006-02-13T19:27:16.566Z
STOP_TIME = 2006-02-13T19:36:17.430Z
/* ORBITAL DATA ELEMENTS */
ASCENDING_NODE_LONGITUDE = 171.93
MAXIMUM_RESOLUTION = 0.3766
FOOTPRINT_POINT_LATITUDE = (-56.5056,-56.4846,-56.4707,-56.4556, -56.4393,-56.4219,-56.4033,-56.3839, -56.3633,-56.3417,-56.3217,-56.2977, -56.256,-56.2527,-56.5297,-55.7178, -54.9246,-54.3964,-53.6401,-53.1224, -52.3498,-51.35,-50.8585,-50.3755, -49.632,-49.1353,-48.6388,-48.1466, -47.6569,-47.1663,-46.6824,-46.1985, -45.712,-44.5229,-43.5741,-42.6363, -41.9366,-41.0103,-40.3142,-39.6235, -38.4891,-37.8092,-37.1335,-35.7917, -34.8924,-34.2268,-32.9068,-32.6922, -32.562,-32.5861,-32.6196,-32.6468, -32.6629,-32.6799,-32.7041,-32.7302, -32.7431,-32.7639,-32.7861,-32.8045, -32.8203,-32.8307,-32.8463,-32.8482, -32.8512,-33.7227,-34.3804,-35.2626, -36.3696,-37.0408,-37.9392,-38.6171, -39.5234,-40.6679,-41.3527,-42.5144, -43.2184,-44.1521,-44.6357,-45.8345, -46.7842,-47.2696,-47.7588,-48.248, -48.9862,-49.7377,-50.493,-50.9971, -51.4995,-52.2566,-52.7632,-53.2721, -53.7825,-54.2959,-54.8132,-55.3362, -55.8544,-56.3851,-56.6544,-56.5056)
FOOTPRINT_POINT_LONGITUDE = (70.7677,72.7029,73.7927,74.8722, 75.9447,77.0102,78.0695,79.1227,80.1723 ,81.2181,82.1326,83.1774,84.8781, 85.0091,85.1436,85.096,85.0543,85.0262, 84.996,84.9706,84.9329,84.8919,84.8737, 84.8581,84.8271,84.8054,84.7834,84.7625 ,84.742,84.7207,84.7015,84.6817,84.6606 ,84.6157,84.5788,84.5443,84.5187, 84.4856,84.4592,84.434,84.3965,84.3732, 84.3507,84.3072,84.2743,84.2524,84.2111 ,84.2064,84.2028,83.477,82.5368,81.7024 ,81.0767,80.4521,79.5142,78.3665, 77.6344,77.0043,76.2666,75.4224,74.5746 ,73.9357,73.0778,72.9702,72.9343, 72.9365,72.9348,72.9281,72.9147,72.9013 ,72.8794,72.8591,72.8283,72.7792, 72.7481,72.6808,72.6335,72.569,72.526, 72.4177,72.329,72.2765,72.2201,72.1618, 72.068,71.9617,71.8477,71.7681,71.6867, 71.557,71.4656,71.3694,71.2687,71.1625, 71.0497,70.929,70.8069,70.6716,70.5993, 70.7677)
ORBIT_NUMBER = 2686
ORBITAL_ECCENTRICITY = 0.571
ORBITAL_INCLINATION = 86.62
ORBITAL_SEMIMAJOR_AXIS = 8543.26
PERIAPSIS_ALTITUDE = 282.47
PERIAPSIS_ARGUMENT_ANGLE = 246.51
PERIAPSIS_TIME = 2006-02-13T19:02:23.000Z
SPACECRAFT_ORIENTATION = (0.0,-1.0,0.0)
^MEX_ORIENTATION_DESC = "MEX_ORIENTATION_DESC.TXT"
SPACECRAFT_POINTING_MODE = INERT
^MEX_POINTING_DESC = "MEX_POINTING_DESC.TXT"
RIGHT_ASCENSION = 281.567
DECLINATION = 47.029
OFFSET_ANGLE = -1e+32
SPACECRAFT_SOLAR_DISTANCE = 2.37106e+08
TARGET_NAME = MARS
/* CAMERA DATA ELEMENTS */
DETECTOR_TEMPERATURE = 18.7783
FOCAL_PLANE_TEMPERATURE = 7.9716
INST_CMPRS_NAME = "DISCRETE COSINE TRANSFORMATION (DCT)"
INST_CMPRS_RATIO = 27.1334
INST_CMPRS_QUALITY = 0
INST_CMPRS_QUANTZ_TBL_ID = 0
INSTRUMENT_TEMPERATURE = 11.234
LENS_TEMPERATURE = 8.3794
MACROPIXEL_SIZE = 4
MISSING_FRAMES = 0
PIXEL_SUBSAMPLING_FLAG = N
SIGNAL_CHAIN_ID = 2
/* RADIOMETRIC DATA ELEMENTS */
BANDWIDTH = 48.0
CENTER_FILTER_WAVELENGTH = 748.0
RADIANCE_OFFSET = 0.309945
RADIANCE_SCALING_FACTOR = 0.00361264
REFLECTANCE_SCALING_FACTOR = 0.000463495
MEX:REFLECTANCE_OFFSET = 0.0397652
/* IMAGE OBJECT DEFINITIONS */
OBJECT = IMAGE
  INTERCHANGE_FORMAT = BINARY
  LINES = 7147
  LINE_SAMPLES = 2285
  SAMPLE_TYPE = UNSIGNED_INTEGER
  SAMPLE_BITS = 8
  BANDS = 1
  BAND_STORAGE_TYPE = BAND_SEQUENTIAL
  MAXIMUM = 243
  MEAN = 135.962
  MINIMUM = 7
  STANDARD_DEVIATION = 46.5432
END_OBJECT = IMAGE
/* MAP OBJECT DEFINITIONS */
OBJECT = IMAGE_MAP_PROJECTION
  ^DATA_SET_MAP_PROJECTION_CATALOG= "DSMAP.CAT"
  A_AXIS_RADIUS = 3396.0
  B_AXIS_RADIUS = 3396.0
  C_AXIS_RADIUS = 3396.0
  CENTER_LATITUDE = 0.0
  CENTER_LONGITUDE = 79.0
  COORDINATE_SYSTEM_NAME = PLANETOGRAPHIC
  COORDINATE_SYSTEM_TYPE = "BODY-FIXED ROTATING"
  EASTERNMOST_LONGITUDE = 85.14360000000001
  FIRST_STANDARD_PARALLEL = "N/A"
  LINE_FIRST_PIXEL = 1
  LINE_LAST_PIXEL = 7147
  LINE_PROJECTION_OFFSET = -9661.125
  MAP_PROJECTION_ROTATION = 0.0
  MAP_PROJECTION_TYPE = SINUSOIDAL
  MAP_RESOLUTION = 296.356901933333
  MAP_SCALE = 0.2
  MAXIMUM_LATITUDE = -32.562
  MINIMUM_LATITUDE = -56.6544
  POSITIVE_LONGITUDE_DIRECTION = EAST
  REFERENCE_LATITUDE = "N/A"
  REFERENCE_LONGITUDE = "N/A"
  SAMPLE_FIRST_PIXEL = 1
  SAMPLE_LAST_PIXEL = 2285
  SAMPLE_PROJECTION_OFFSET = 1233.375
  SECOND_STANDARD_PARALLEL = "N/A"
  WESTERNMOST_LONGITUDE = 70.5993
END_OBJECT = IMAGE_MAP_PROJECTION
END
