PDS_VERSION_ID = PDS3
/* FILE DATA ELEMENTS */
RECORD_TYPE = UNDEFINED
/* POINTERS TO DATA OBJECTS */
^IMAGE = ("H2686_0000_P14.TIF")
/* IDENTIFICATION DATA ELEMENTS */
DATA_SET_ID = "MEX-M-HRSC-4-REFDR-MAPPROJECT-EXT1-V4.0"
DATA_SET_NAME = "MARS EXPRESS HRSC MAP PROJECTED REFDR EXTENSION1 V4.0"
DETECTOR_ID = MEX_HRSC_P1
EVENT_TYPE = "MARS-TERMINATOR-VARIABLE-Fl-At"
INSTRUMENT_HOST_ID = MEX
INSTRUMENT_HOST_NAME = "MARS EXPRESS"
INSTRUMENT_ID = HRSC
INSTRUMENT_NAME = "HIGH RESOLUTION STEREO CAMERA"
MISSION_NAME = "MARS EXPRESS"
MISSION_PHASE_NAME = ME_Phase_2
PROCESSING_LEVEL_ID = 4
PRODUCT_CREATION_TIME = 2023-02-08T07:05:14.000Z
PRODUCT_ID = "H2686_0000_P14.TIF"
RELEASE_ID = 0001
REVISION_ID = 0000
/* QUALITY DATA ELEMENTS */
DATA_QUALITY_ID = 1
DATA_QUALITY_DESC = "Data calculated based on original SPICE kernels"
/* TIME DATA ELEMENTS */
SPACECRAFT_CLOCK_START_COUNT = "1/0087938397.07284"
SPACECRAFT_CLOCK_STOP_COUNT = "1/0087939448.41911"
START_TIME = 2006-02-13T19:20:48.091Z
STOP_TIME = 2006-02-13T19:28:39.936Z
/* ORBITAL DATA ELEMENTS */
ASCENDING_NODE_LONGITUDE = 171.93
MAXIMUM_RESOLUTION = 0.1028
FOOTPRINT_POINT_LATITUDE = (-56.4737,-56.5366,-56.5719,-56.5986, -56.6166,-56.6263,-56.6278,-56.6276, -56.725,-55.9789,-55.4842,-54.7493, -54.2562,-53.7673,-53.2788,-52.553, -52.0612,-51.5763,-50.8456,-50.3576, -49.8707,-49.3838,-48.8978,-48.4122, -47.9263,-47.4426,-46.7174,-46.2341, -45.7517,-45.2702,-44.7892,-44.3076, -43.8278,-43.3488,-42.8679,-42.3894, -41.6718,-41.194,-40.7163,-40.0004, -39.5234,-38.8087,-38.0945,-37.6188, -37.1429,-36.4298,-35.9549,-35.4798, -35.0047,-34.5301,-33.8186,-33.1074, -32.8704,-32.6364,-32.6541,-32.6653, -32.6788,-32.682,-32.6821,-32.6729, -32.654,-32.6316,-32.6129,-32.6103, -32.6109,-33.5557,-34.5007,-35.4459, -36.1554,-37.1018,-38.0491,-38.9972, -39.946,-40.8964,-41.3721,-42.0851, -42.7995,-43.5171,-44.2336,-44.712, -45.1873,-45.6661,-46.3911,-47.111, -47.59,-48.073,-48.7979,-49.5233, -50.007,-50.4919,-51.219,-51.7041, -52.4333,-53.1613,-53.646,-54.621, -55.3503,-56.0851,-56.3305,-56.4737)
FOOTPRINT_POINT_LONGITUDE = (73.6589,75.3659,76.5975,77.8221, 79.0402,80.2538,81.4642,81.5397,81.5922 ,81.657,81.6983,81.759,81.7961,81.8329, 81.8682,81.9205,81.9507,81.982,82.0251, 82.0518,82.0775,82.1021,82.1257,82.1483 ,82.1696,82.1909,82.2208,82.2395, 82.2578,82.2755,82.2925,82.3083,82.3242 ,82.3399,82.3534,82.3677,82.3878, 82.4007,82.4129,82.4305,82.4415,82.4577 ,82.4728,82.4826,82.4915,82.5045, 82.5135,82.5214,82.528,82.5354,82.5459, 82.5577,82.5613,82.5641,81.824,81.2285, 80.1118,79.5156,78.7688,77.5699,76.436, 75.5236,74.9134,74.8369,74.8093,74.8283 ,74.8428,74.8547,74.8595,74.863,74.8619 ,74.8563,74.847,74.8314,74.8216,74.8065 ,74.7869,74.76,74.733,74.7127,74.6962, 74.673,74.6262,74.5846,74.5564,74.5214, 74.4656,74.406,74.3641,74.3189,74.2481, 74.198,74.1171,74.0327,73.9742,73.8428, 73.7394,73.6227,73.5816,73.6589)
ORBIT_NUMBER = 2686
ORBITAL_ECCENTRICITY = 0.571
ORBITAL_INCLINATION = 86.62
ORBITAL_SEMIMAJOR_AXIS = 8543.26
PERIAPSIS_ALTITUDE = 282.47
PERIAPSIS_ARGUMENT_ANGLE = 246.51
PERIAPSIS_TIME = 2006-02-13T19:02:23.000Z
SPACECRAFT_ORIENTATION = (0.0,-1.0,0.0)
^MEX_ORIENTATION_DESC = "MEX_ORIENTATION_DESC.TXT"
SPACECRAFT_POINTING_MODE = INERT
^MEX_POINTING_DESC = "MEX_POINTING_DESC.TXT"
RIGHT_ASCENSION = 281.567
DECLINATION = 47.029
OFFSET_ANGLE = -1e+32
SPACECRAFT_SOLAR_DISTANCE = 2.37106e+08
TARGET_NAME = MARS
/* CAMERA DATA ELEMENTS */
DETECTOR_TEMPERATURE = 17.5549
FOCAL_PLANE_TEMPERATURE = 7.9716
INST_CMPRS_NAME = "DISCRETE COSINE TRANSFORMATION (DCT)"
INST_CMPRS_RATIO = 18.0226
INST_CMPRS_QUALITY = 0
INST_CMPRS_QUANTZ_TBL_ID = 0
INSTRUMENT_TEMPERATURE = 11.234
LENS_TEMPERATURE = 8.3794
MACROPIXEL_SIZE = 2
MISSING_FRAMES = 0
PIXEL_SUBSAMPLING_FLAG = N
SIGNAL_CHAIN_ID = 3
/* RADIOMETRIC DATA ELEMENTS */
BANDWIDTH = 174.0
CENTER_FILTER_WAVELENGTH = 675.0
RADIANCE_OFFSET = 0.93042
RADIANCE_SCALING_FACTOR = 0.0105407
REFLECTANCE_SCALING_FACTOR = 0.000318749
MEX:REFLECTANCE_OFFSET = 0.0281357
/* IMAGE OBJECT DEFINITIONS */
OBJECT = IMAGE
  INTERCHANGE_FORMAT = BINARY
  LINES = 14294
  LINE_SAMPLES = 4570
  SAMPLE_TYPE = UNSIGNED_INTEGER
  SAMPLE_BITS = 8
  BANDS = 1
  BAND_STORAGE_TYPE = BAND_SEQUENTIAL
  MAXIMUM = 255
  MEAN = 140.084
  MINIMUM = 1
  STANDARD_DEVIATION = 51.2242
END_OBJECT = IMAGE
/* MAP OBJECT DEFINITIONS */
OBJECT = IMAGE_MAP_PROJECTION
  ^DATA_SET_MAP_PROJECTION_CATALOG= "DSMAP.CAT"
  A_AXIS_RADIUS = 3396.0
  B_AXIS_RADIUS = 3396.0
  C_AXIS_RADIUS = 3396.0
  CENTER_LATITUDE = 0.0
  CENTER_LONGITUDE = 79.0
  COORDINATE_SYSTEM_NAME = PLANETOGRAPHIC
  COORDINATE_SYSTEM_TYPE = "BODY-FIXED ROTATING"
  EASTERNMOST_LONGITUDE = 82.5641
  FIRST_STANDARD_PARALLEL = "N/A"
  LINE_FIRST_PIXEL = 1
  LINE_LAST_PIXEL = 14294
  LINE_PROJECTION_OFFSET = -19321.75
  MAP_PROJECTION_ROTATION = 0.0
  MAP_PROJECTION_TYPE = SINUSOIDAL
  MAP_RESOLUTION = 592.713803866667
  MAP_SCALE = 0.1
  MAXIMUM_LATITUDE = -32.6103
  MINIMUM_LATITUDE = -56.725
  POSITIVE_LONGITUDE_DIRECTION = EAST
  REFERENCE_LATITUDE = "N/A"
  REFERENCE_LONGITUDE = "N/A"
  SAMPLE_FIRST_PIXEL = 1
  SAMPLE_LAST_PIXEL = 4570
  SAMPLE_PROJECTION_OFFSET = 2467.25
  SECOND_STANDARD_PARALLEL = "N/A"
  WESTERNMOST_LONGITUDE = 73.58159999999999
END_OBJECT = IMAGE_MAP_PROJECTION
END
