PDS_VERSION_ID = PDS3
/* FILE DATA ELEMENTS */
RECORD_TYPE = UNDEFINED
/* POINTERS TO DATA OBJECTS */
^IMAGE = ("H2684_0000_GR4.TIF")
/* IDENTIFICATION DATA ELEMENTS */
DATA_SET_ID = "MEX-M-HRSC-4-REFDR-MAPPROJECT-EXT1-V4.0"
DATA_SET_NAME = "MARS EXPRESS HRSC MAP PROJECTED REFDR EXTENSION1 V4.0"
DETECTOR_ID = MEX_HRSC_GREEN
EVENT_TYPE = "MARS-REGIONAL-MAPPING-Im"
INSTRUMENT_HOST_ID = MEX
INSTRUMENT_HOST_NAME = "MARS EXPRESS"
INSTRUMENT_ID = HRSC
INSTRUMENT_NAME = "HIGH RESOLUTION STEREO CAMERA"
MISSION_NAME = "MARS EXPRESS"
MISSION_PHASE_NAME = ME_Phase_2
PROCESSING_LEVEL_ID = 4
PRODUCT_CREATION_TIME = 2023-02-08T07:05:14.000Z
PRODUCT_ID = "H2684_0000_GR4.TIF"
RELEASE_ID = 0001
REVISION_ID = 0000
/* QUALITY DATA ELEMENTS */
DATA_QUALITY_ID = 1
DATA_QUALITY_DESC = "Data calculated based on original SPICE kernels"
/* TIME DATA ELEMENTS */
SPACECRAFT_CLOCK_START_COUNT = "1/0087889813.07285"
SPACECRAFT_CLOCK_STOP_COUNT = "1/0087890523.08735"
START_TIME = 2006-02-13T05:51:47.125Z
STOP_TIME = 2006-02-13T05:56:08.544Z
/* ORBITAL DATA ELEMENTS */
ASCENDING_NODE_LONGITUDE = 171.97
MAXIMUM_RESOLUTION = 0.1592
FOOTPRINT_POINT_LATITUDE = (-55.5405,-55.5696,-55.5935,-55.6287, -55.6481,-55.676,-55.6909,-55.704, -55.7155,-55.7252,-55.7331,-55.7433, -55.7438,-55.7287,-55.3139,-54.8948, -54.3657,-53.9386,-53.5064,-53.0698, -52.74,-52.2968,-51.7378,-51.173, -50.7173,-50.2572,-49.7917,-49.3213, -49.0846,-48.8469,-48.6076,-48.3672, -48.1258,-47.8831,-47.6395,-47.3945, -47.1483,-46.9011,-46.6528,-46.4032, -46.1522,-45.9001,-45.6468,-45.3922, -45.1362,-44.8785,-44.62,-44.2296, -44.0988,-44.0388,-44.0507,-44.0563, -44.0604,-44.062,-44.062,-44.0598, -44.0552,-44.043,-44.031,-44.0162, -44.0008,-43.9781,-43.9757,-43.9776, -44.2351,-44.4916,-44.7465,-45.0004, -45.2529,-45.5042,-45.7541,-46.0032, -46.2509,-46.4974,-46.7428,-46.9872, -47.2303,-47.4721,-47.7127,-47.9525, -48.1909,-48.4284,-48.9001,-49.367, -49.8296,-50.2882,-50.7425,-51.1927, -51.6391,-52.0812,-52.5196,-52.9537, -53.3839,-53.8103,-54.2331,-54.6524, -55.0684,-55.3779,-55.4798,-55.5405)
FOOTPRINT_POINT_LONGITUDE = (273.139,273.646,274.095,274.827, 275.277,276.011,276.462,276.913,277.365 ,277.817,278.271,279.123,279.18,279.241 ,279.282,279.323,279.372,279.41,279.45, 279.492,279.52,279.558,279.6,279.64, 279.668,279.695,279.726,279.756,279.771 ,279.785,279.799,279.813,279.827,279.84 ,279.853,279.866,279.879,279.892, 279.903,279.915,279.927,279.939,279.95, 279.961,279.973,279.985,279.995,280.011 ,280.017,280.019,279.349,278.92,278.431 ,278.003,277.515,277.027,276.539, 275.745,275.195,274.645,274.156,273.543 ,273.482,273.461,273.466,273.47,273.474 ,273.477,273.48,273.482,273.483,273.485 ,273.485,273.485,273.485,273.484, 273.483,273.481,273.478,273.475,273.472 ,273.468,273.459,273.448,273.435,273.42 ,273.404,273.386,273.366,273.344, 273.321,273.295,273.268,273.239,273.207 ,273.176,273.142,273.116,273.106, 273.139)
ORBIT_NUMBER = 2684
ORBITAL_ECCENTRICITY = 0.571
ORBITAL_INCLINATION = 86.61
ORBITAL_SEMIMAJOR_AXIS = 8546.58
PERIAPSIS_ALTITUDE = 283.05
PERIAPSIS_ARGUMENT_ANGLE = 246.85
PERIAPSIS_TIME = 2006-02-13T05:35:54.000Z
SPACECRAFT_ORIENTATION = (0.0,-1.0,0.0)
^MEX_ORIENTATION_DESC = "MEX_ORIENTATION_DESC.TXT"
SPACECRAFT_POINTING_MODE = NADIR
^MEX_POINTING_DESC = "MEX_POINTING_DESC.TXT"
RIGHT_ASCENSION = -1e+32
DECLINATION = -1e+32
OFFSET_ANGLE = -1e+32
SPACECRAFT_SOLAR_DISTANCE = 2.37012e+08
TARGET_NAME = MARS
/* CAMERA DATA ELEMENTS */
DETECTOR_TEMPERATURE = 18.3705
FOCAL_PLANE_TEMPERATURE = 8.5833
INST_CMPRS_NAME = "DISCRETE COSINE TRANSFORMATION (DCT)"
INST_CMPRS_RATIO = 18.5465
INST_CMPRS_QUALITY = 0
INST_CMPRS_QUANTZ_TBL_ID = 0
INSTRUMENT_TEMPERATURE = 11.4379
LENS_TEMPERATURE = 8.9911
MACROPIXEL_SIZE = 4
MISSING_FRAMES = 0
PIXEL_SUBSAMPLING_FLAG = N
SIGNAL_CHAIN_ID = 2
/* RADIOMETRIC DATA ELEMENTS */
BANDWIDTH = 88.0
CENTER_FILTER_WAVELENGTH = 538.0
RADIANCE_OFFSET = 0.46291
RADIANCE_SCALING_FACTOR = 0.0022114
REFLECTANCE_SCALING_FACTOR = 0.000106956
MEX:REFLECTANCE_OFFSET = 0.0223889
/* IMAGE OBJECT DEFINITIONS */
OBJECT = IMAGE
  INTERCHANGE_FORMAT = BINARY
  LINES = 3478
  LINE_SAMPLES = 1457
  SAMPLE_TYPE = UNSIGNED_INTEGER
  SAMPLE_BITS = 8
  BANDS = 1
  BAND_STORAGE_TYPE = BAND_SEQUENTIAL
  MAXIMUM = 255
  MEAN = 104.026
  MINIMUM = 1
  STANDARD_DEVIATION = 38.9515
END_OBJECT = IMAGE
/* MAP OBJECT DEFINITIONS */
OBJECT = IMAGE_MAP_PROJECTION
  ^DATA_SET_MAP_PROJECTION_CATALOG= "DSMAP.CAT"
  A_AXIS_RADIUS = 3396.0
  B_AXIS_RADIUS = 3396.0
  C_AXIS_RADIUS = 3396.0
  CENTER_LATITUDE = 0.0
  CENTER_LONGITUDE = 277.0
  COORDINATE_SYSTEM_NAME = PLANETOGRAPHIC
  COORDINATE_SYSTEM_TYPE = "BODY-FIXED ROTATING"
  EASTERNMOST_LONGITUDE = 280.019
  FIRST_STANDARD_PARALLEL = "N/A"
  LINE_FIRST_PIXEL = 1
  LINE_LAST_PIXEL = 3478
  LINE_PROJECTION_OFFSET = -13038.875
  MAP_PROJECTION_ROTATION = 0.0
  MAP_PROJECTION_TYPE = SINUSOIDAL
  MAP_RESOLUTION = 296.356901933333
  MAP_SCALE = 0.2
  MAXIMUM_LATITUDE = -43.9757
  MINIMUM_LATITUDE = -55.7438
  POSITIVE_LONGITUDE_DIRECTION = EAST
  REFERENCE_LATITUDE = "N/A"
  REFERENCE_LONGITUDE = "N/A"
  SAMPLE_FIRST_PIXEL = 1
  SAMPLE_LAST_PIXEL = 1457
  SAMPLE_PROJECTION_OFFSET = 780.625
  SECOND_STANDARD_PARALLEL = "N/A"
  WESTERNMOST_LONGITUDE = 273.106
END_OBJECT = IMAGE_MAP_PROJECTION
END
