PDS_VERSION_ID = PDS3
/* FILE DATA ELEMENTS */
RECORD_TYPE = UNDEFINED
/* POINTERS TO DATA OBJECTS */
^IMAGE = ("H2665_0000_BL4.TIF")
/* IDENTIFICATION DATA ELEMENTS */
DATA_SET_ID = "MEX-M-HRSC-4-REFDR-MAPPROJECT-EXT1-V4.0"
DATA_SET_NAME = "MARS EXPRESS HRSC MAP PROJECTED REFDR EXTENSION1 V4.0"
DETECTOR_ID = MEX_HRSC_BLUE
EVENT_TYPE = "MARS-TERMINATOR-VARIABLE-Eo-At"
INSTRUMENT_HOST_ID = MEX
INSTRUMENT_HOST_NAME = "MARS EXPRESS"
INSTRUMENT_ID = HRSC
INSTRUMENT_NAME = "HIGH RESOLUTION STEREO CAMERA"
MISSION_NAME = "MARS EXPRESS"
MISSION_PHASE_NAME = ME_Phase_2
PROCESSING_LEVEL_ID = 4
PRODUCT_CREATION_TIME = 2023-02-08T07:05:14.000Z
PRODUCT_ID = "H2665_0000_BL4.TIF"
RELEASE_ID = 0001
REVISION_ID = 0000
/* QUALITY DATA ELEMENTS */
DATA_QUALITY_ID = 1
DATA_QUALITY_DESC = "Data calculated based on original SPICE kernels"
/* TIME DATA ELEMENTS */
SPACECRAFT_CLOCK_START_COUNT = "1/0087429674.09033"
SPACECRAFT_CLOCK_STOP_COUNT = "1/0087429924.40711"
START_TIME = 2006-02-07T22:02:08.434Z
STOP_TIME = 2006-02-07T22:04:30.934Z
/* ORBITAL DATA ELEMENTS */
ASCENDING_NODE_LONGITUDE = 172.37
MAXIMUM_RESOLUTION = 0.0739 <m/pixel>
FOOTPRINT_POINT_LATITUDE = (-80.0466,-80.1271,-80.2203,-80.3281, -80.4047,-80.5063,-80.567,-80.5709, -80.5976,-80.384,-80.0948,-79.8055, -79.3631,-79.0674,-78.6898,-78.4633, -78.2339,-78.0799,-77.926,-77.772, -77.5376,-77.3804,-77.2235,-77.0663, -76.9064,-76.6668,-76.4273,-76.1834, -76.0209,-75.8585,-75.6111,-75.4461, -75.2812,-75.1145,-74.9466,-74.7791, -74.6111,-74.4405,-74.2702,-74.1, -73.9275,-73.7546,-73.5818,-73.3197, -73.1442,-72.969,-72.7911,-72.6132, -72.5244,-72.5045,-72.4761,-72.4253, -72.3805,-72.3515,-72.2929,-72.2524, -72.197,-72.1595,-72.1552,-72.1551, -72.3305,-72.5058,-72.6799,-72.8525, -73.0253,-73.1972,-73.3672,-73.5373, -73.7909,-73.9582,-74.1257,-74.2926, -74.4573,-74.622,-74.8682,-75.0299, -75.1918,-75.3539,-75.5141,-75.6731, -75.8322,-76.0697,-76.2257,-76.3823, -76.5383,-76.693,-76.8461,-76.9991, -77.1521,-77.3042,-77.6038,-77.9766, -78.2695,-78.6338,-78.9197,-79.2754, -79.5537,-79.9687,-80.0363,-80.0466)
FOOTPRINT_POINT_LONGITUDE = (326.048,327.125,328.454,330.131, 331.431,333.336,334.601,334.686,334.858 ,335.241,335.732,336.194,336.85,337.257 ,337.743,338.02,338.287,338.462,338.632 ,338.796,339.039,339.195,339.348, 339.496,339.645,339.861,340.067,340.27, 340.401,340.529,340.718,340.841,340.961 ,341.08,341.196,341.31,341.42,341.531, 341.638,341.743,341.847,341.949,342.048 ,342.195,342.29,342.383,342.476,342.567 ,342.611,342.621,341.873,340.687, 339.758,339.202,338.157,337.483,336.63, 336.085,336.024,336.003,335.884,335.766 ,335.644,335.521,335.395,335.267, 335.136,335.004,334.798,334.659,334.517 ,334.37,334.222,334.072,333.84,333.684, 333.523,333.357,333.189,333.018,332.842 ,332.571,332.389,332.193,332.002, 331.811,331.611,331.407,331.198,330.983 ,330.545,329.965,329.481,328.84,328.304 ,327.591,326.996,326.039,325.875, 326.048)
ORBIT_NUMBER = 2665
ORBITAL_ECCENTRICITY = 0.571
ORBITAL_INCLINATION = 86.62
ORBITAL_SEMIMAJOR_AXIS = 8539.25
PERIAPSIS_ALTITUDE = 281.84
PERIAPSIS_ARGUMENT_ANGLE = 250.15
PERIAPSIS_TIME = 2006-02-07T21:54:36.000Z
SPACECRAFT_ORIENTATION = (0.0,-1.0,0.0)
^MEX_ORIENTATION_DESC = "MEX_ORIENTATION_DESC.TXT"
SPACECRAFT_POINTING_MODE = NADIR
^MEX_POINTING_DESC = "MEX_POINTING_DESC.TXT"
RIGHT_ASCENSION = -1e+32
DECLINATION = -1e+32
OFFSET_ANGLE = -1e+32
SPACECRAFT_SOLAR_DISTANCE = 2.36098e+08
TARGET_NAME = MARS
/* CAMERA DATA ELEMENTS */
DETECTOR_TEMPERATURE = 18.3705 <degC>
FOCAL_PLANE_TEMPERATURE = 8.1755 <degC>
INST_CMPRS_NAME = "DISCRETE COSINE TRANSFORMATION (DCT)"
INST_CMPRS_RATIO = 39.3114
INST_CMPRS_QUALITY = 0
INST_CMPRS_QUANTZ_TBL_ID = 0
INSTRUMENT_TEMPERATURE = 11.4379 <degC>
LENS_TEMPERATURE = 9.195 <degC>
MACROPIXEL_SIZE = 4
MISSING_FRAMES = 0
PIXEL_SUBSAMPLING_FLAG = N
SIGNAL_CHAIN_ID = 2
/* RADIOMETRIC DATA ELEMENTS */
BANDWIDTH = 76.0 <nm>
CENTER_FILTER_WAVELENGTH = 444.0 <nm>
RADIANCE_OFFSET = 0.0 <W*m**-2*sr**-1>
RADIANCE_SCALING_FACTOR = 0.00103154 <W*m**-2*sr**-1>
REFLECTANCE_SCALING_FACTOR = 5.90788e-05
MEX:REFLECTANCE_OFFSET = 0.0
/* IMAGE OBJECT DEFINITIONS */
OBJECT = IMAGE
  INTERCHANGE_FORMAT = BINARY
  LINES = 10018
  LINE_SAMPLES = 4422
  SAMPLE_TYPE = UNSIGNED_INTEGER
  SAMPLE_BITS = 8
  BANDS = 1
  BAND_STORAGE_TYPE = BAND_SEQUENTIAL
  MAXIMUM = 252
  MEAN = 80.7323
  MINIMUM = 1
  STANDARD_DEVIATION = 38.5897
END_OBJECT = IMAGE
/* MAP OBJECT DEFINITIONS */
OBJECT = IMAGE_MAP_PROJECTION
  ^DATA_SET_MAP_PROJECTION_CATALOG= "DSMAP.CAT"
  A_AXIS_RADIUS = 3396.0 <km>
  B_AXIS_RADIUS = 3396.0 <km>
  C_AXIS_RADIUS = 3396.0 <km>
  CENTER_LATITUDE = 0.0
  CENTER_LONGITUDE = 336.0
  COORDINATE_SYSTEM_NAME = PLANETOGRAPHIC
  COORDINATE_SYSTEM_TYPE = "BODY-FIXED ROTATING"
  EASTERNMOST_LONGITUDE = 342.621
  FIRST_STANDARD_PARALLEL = "N/A"
  LINE_FIRST_PIXEL = 1
  LINE_LAST_PIXEL = 10018
  LINE_PROJECTION_OFFSET = -85539.25
  MAP_PROJECTION_ROTATION = 0.0
  MAP_PROJECTION_TYPE = SINUSOIDAL
  MAP_RESOLUTION = 1185.42760773333 <pixel/degree>
  MAP_SCALE = 0.05 <km/pixel>
  MAXIMUM_LATITUDE = -72.1551
  MINIMUM_LATITUDE = -80.5976
  POSITIVE_LONGITUDE_DIRECTION = EAST
  REFERENCE_LATITUDE = "N/A"
  REFERENCE_LONGITUDE = "N/A"
  SAMPLE_FIRST_PIXEL = 1
  SAMPLE_LAST_PIXEL = 4422
  SAMPLE_PROJECTION_OFFSET = 2071.75
  SECOND_STANDARD_PARALLEL = "N/A"
  WESTERNMOST_LONGITUDE = 325.875
END_OBJECT = IMAGE_MAP_PROJECTION
END
