PDS_VERSION_ID = PDS3
/* FILE DATA ELEMENTS */
RECORD_TYPE = UNDEFINED
/* POINTERS TO DATA OBJECTS */
^IMAGE = ("H2664_0001_S14.TIF")
/* IDENTIFICATION DATA ELEMENTS */
DATA_SET_ID = "MEX-M-HRSC-4-REFDR-MAPPROJECT-EXT1-V4.0"
DATA_SET_NAME = "MARS EXPRESS HRSC MAP PROJECTED REFDR EXTENSION1 V4.0"
DETECTOR_ID = MEX_HRSC_S1
EVENT_TYPE = "MARS-GLOBAL-MAPPING-Vo-Fl-Mw"
INSTRUMENT_HOST_ID = MEX
INSTRUMENT_HOST_NAME = "MARS EXPRESS"
INSTRUMENT_ID = HRSC
INSTRUMENT_NAME = "HIGH RESOLUTION STEREO CAMERA"
MISSION_NAME = "MARS EXPRESS"
MISSION_PHASE_NAME = ME_Phase_2
PROCESSING_LEVEL_ID = 4
PRODUCT_CREATION_TIME = 2023-02-08T07:05:14.000Z
PRODUCT_ID = "H2664_0001_S14.TIF"
RELEASE_ID = 0001
REVISION_ID = 0000
/* QUALITY DATA ELEMENTS */
DATA_QUALITY_ID = 1
DATA_QUALITY_DESC = "Data calculated based on original SPICE kernels"
/* TIME DATA ELEMENTS */
SPACECRAFT_CLOCK_START_COUNT = "1/0087405998.09049"
SPACECRAFT_CLOCK_STOP_COUNT = "1/0087407056.04966"
START_TIME = 2006-02-07T15:26:43.911Z
STOP_TIME = 2006-02-07T15:31:56.829Z
/* ORBITAL DATA ELEMENTS */
ASCENDING_NODE_LONGITUDE = 172.39
MAXIMUM_RESOLUTION = 0.0817
FOOTPRINT_POINT_LATITUDE = (-49.212,-49.278,-49.3073,-49.3353, -49.3541,-49.3655,-49.3696,-49.3697, -49.2466,-48.6485,-48.0419,-47.4266, -46.8031,-46.1722,-45.853,-45.5308, -45.2077,-44.8821,-44.5549,-44.0568, -43.7249,-43.3907,-42.8867,-42.543, -42.0376,-41.7002,-41.3632,-41.0281, -40.5249,-40.1919,-39.8597,-39.3628, -39.0316,-38.7018,-38.3751,-38.047, -37.7203,-37.2312,-36.907,-36.583, -36.2602,-35.9387,-35.6236,-35.3019, -34.6789,-34.3569,-33.7255,-33.2541, -33.1026,-33.0086,-33.0205,-33.0374, -33.0584,-33.0547,-33.0512,-33.0418, -33.0249,-33.0087,-32.9844,-32.9823, -32.9826,-33.9087,-34.5328,-35.1602, -35.6349,-36.1113,-36.4298,-36.75, -37.0705,-37.5544,-38.0399,-38.3633, -38.6887,-39.0166,-39.3436,-39.8369, -40.1672,-40.4984,-40.9947,-41.3278, -41.6613,-41.996,-42.3321,-42.671, -43.0088,-43.343,-43.6762,-44.0069, -44.3335,-44.8241,-45.1459,-45.4664, -45.7851,-46.4144,-47.0365,-47.6498, -48.256,-48.8521,-48.9999,-49.212)
FOOTPRINT_POINT_LONGITUDE = (80.006,81.2318,81.9186,82.7535,83.5395 ,84.3277,85.019,85.0684,85.1441,85.1792 ,85.2133,85.2462,85.2776,85.3074, 85.3219,85.3366,85.3504,85.3639,85.3768 ,85.3968,85.4085,85.4199,85.4356, 85.4482,85.4629,85.4728,85.4826,85.4916 ,85.5051,85.5132,85.521,85.5321,85.5394 ,85.5462,85.5519,85.558,85.5637,85.5719 ,85.5767,85.5815,85.5858,85.5898, 85.5915,85.5955,85.5968,85.601,85.6053, 85.6079,85.607,85.6083,85.2118,84.6984, 83.7879,82.9938,82.5391,81.7421,80.9447 ,80.4312,79.8026,79.7454,79.7249, 79.7763,79.8092,79.8401,79.8627,79.8841 ,79.8977,79.911,79.9237,79.9421,79.9593 ,79.9696,79.9797,79.9898,79.9986, 80.0112,80.019,80.0262,80.035,80.0404, 80.0451,80.0491,80.0526,80.0561,80.0584 ,80.0596,80.0604,80.0605,80.0593, 80.0578,80.055,80.0519,80.0483,80.0383, 80.026,80.0108,79.9933,79.9726,79.9671, 80.006)
ORBIT_NUMBER = 2664
ORBITAL_ECCENTRICITY = 0.571
ORBITAL_INCLINATION = 86.62
ORBITAL_SEMIMAJOR_AXIS = 8538.27
PERIAPSIS_ALTITUDE = 281.01
PERIAPSIS_ARGUMENT_ANGLE = 250.34
PERIAPSIS_TIME = 2006-02-07T15:11:26.000Z
SPACECRAFT_ORIENTATION = (0.0,-1.0,0.0)
^MEX_ORIENTATION_DESC = "MEX_ORIENTATION_DESC.TXT"
SPACECRAFT_POINTING_MODE = NADIR
^MEX_POINTING_DESC = "MEX_POINTING_DESC.TXT"
RIGHT_ASCENSION = -1e+32
DECLINATION = -1e+32
OFFSET_ANGLE = -1e+32
SPACECRAFT_SOLAR_DISTANCE = 2.3605e+08
TARGET_NAME = MARS
/* CAMERA DATA ELEMENTS */
DETECTOR_TEMPERATURE = 19.39
FOCAL_PLANE_TEMPERATURE = 8.5833
INST_CMPRS_NAME = "DISCRETE COSINE TRANSFORMATION (DCT)"
INST_CMPRS_RATIO = 11.0231
INST_CMPRS_QUALITY = 0
INST_CMPRS_QUANTZ_TBL_ID = 0
INSTRUMENT_TEMPERATURE = 13.4769
LENS_TEMPERATURE = 9.195
MACROPIXEL_SIZE = 2
MISSING_FRAMES = 0
PIXEL_SUBSAMPLING_FLAG = N
SIGNAL_CHAIN_ID = 1
/* RADIOMETRIC DATA ELEMENTS */
BANDWIDTH = 180.0
CENTER_FILTER_WAVELENGTH = 677.0
RADIANCE_OFFSET = 2.68415
RADIANCE_SCALING_FACTOR = 0.00956916
REFLECTANCE_SCALING_FACTOR = 0.000278183
MEX:REFLECTANCE_OFFSET = 0.0780303
/* IMAGE OBJECT DEFINITIONS */
OBJECT = IMAGE
  INTERCHANGE_FORMAT = BINARY
  LINES = 9677
  LINE_SAMPLES = 3554
  SAMPLE_TYPE = UNSIGNED_INTEGER
  SAMPLE_BITS = 8
  BANDS = 1
  BAND_STORAGE_TYPE = BAND_SEQUENTIAL
  MAXIMUM = 255
  MEAN = 96.9175
  MINIMUM = 1
  STANDARD_DEVIATION = 32.3087
END_OBJECT = IMAGE
/* MAP OBJECT DEFINITIONS */
OBJECT = IMAGE_MAP_PROJECTION
  ^DATA_SET_MAP_PROJECTION_CATALOG= "DSMAP.CAT"
  A_AXIS_RADIUS = 3396.0
  B_AXIS_RADIUS = 3396.0
  C_AXIS_RADIUS = 3396.0
  CENTER_LATITUDE = 0.0
  CENTER_LONGITUDE = 83.0
  COORDINATE_SYSTEM_NAME = PLANETOGRAPHIC
  COORDINATE_SYSTEM_TYPE = "BODY-FIXED ROTATING"
  EASTERNMOST_LONGITUDE = 85.6083
  FIRST_STANDARD_PARALLEL = "N/A"
  LINE_FIRST_PIXEL = 1
  LINE_LAST_PIXEL = 9677
  LINE_PROJECTION_OFFSET = -19524.25
  MAP_PROJECTION_ROTATION = 0.0
  MAP_PROJECTION_TYPE = SINUSOIDAL
  MAP_RESOLUTION = 592.713803866667
  MAP_SCALE = 0.1
  MAXIMUM_LATITUDE = -32.9823
  MINIMUM_LATITUDE = -49.3697
  POSITIVE_LONGITUDE_DIRECTION = EAST
  REFERENCE_LATITUDE = "N/A"
  REFERENCE_LONGITUDE = "N/A"
  SAMPLE_FIRST_PIXEL = 1
  SAMPLE_LAST_PIXEL = 3554
  SAMPLE_PROJECTION_OFFSET = 2012.75
  SECOND_STANDARD_PARALLEL = "N/A"
  WESTERNMOST_LONGITUDE = 79.72490000000001
END_OBJECT = IMAGE_MAP_PROJECTION
END
