PDS_VERSION_ID = PDS3
/* FILE DATA ELEMENTS */
RECORD_TYPE = UNDEFINED
/* POINTERS TO DATA OBJECTS */
^IMAGE = ("H2664_0000_IR4.TIF")
/* IDENTIFICATION DATA ELEMENTS */
DATA_SET_ID = "MEX-M-HRSC-4-REFDR-MAPPROJECT-EXT1-V4.0"
DATA_SET_NAME = "MARS EXPRESS HRSC MAP PROJECTED REFDR EXTENSION1 V4.0"
DETECTOR_ID = MEX_HRSC_IR
EVENT_TYPE = "MARS-TERMINATOR-VARIABLE-Eo-At"
INSTRUMENT_HOST_ID = MEX
INSTRUMENT_HOST_NAME = "MARS EXPRESS"
INSTRUMENT_ID = HRSC
INSTRUMENT_NAME = "HIGH RESOLUTION STEREO CAMERA"
MISSION_NAME = "MARS EXPRESS"
MISSION_PHASE_NAME = ME_Phase_2
PROCESSING_LEVEL_ID = 4
PRODUCT_CREATION_TIME = 2023-02-08T07:05:14.000Z
PRODUCT_ID = "H2664_0000_IR4.TIF"
RELEASE_ID = 0001
REVISION_ID = 0000
/* QUALITY DATA ELEMENTS */
DATA_QUALITY_ID = 1
DATA_QUALITY_DESC = "Data calculated based on original SPICE kernels"
/* TIME DATA ELEMENTS */
SPACECRAFT_CLOCK_START_COUNT = "1/0087405497.07306"
SPACECRAFT_CLOCK_STOP_COUNT = "1/0087405769.34727"
START_TIME = 2006-02-07T15:18:29.592Z
STOP_TIME = 2006-02-07T15:20:53.043Z
/* ORBITAL DATA ELEMENTS */
ASCENDING_NODE_LONGITUDE = 172.39
MAXIMUM_RESOLUTION = 0.0734
FOOTPRINT_POINT_LATITUDE = (-79.2349,-79.3117,-79.4271,-79.5202, -79.586,-79.6974,-79.7008,-79.6254, -79.3093,-78.9867,-78.7434,-78.4192, -78.0042,-77.6731,-77.5054,-77.2497, -77.079,-76.9093,-76.7373,-76.5639, -76.3913,-76.2199,-75.9576,-75.6911, -75.513,-75.3353,-75.1537,-74.9731, -74.792,-74.6123,-74.4282,-74.1524, -73.8756,-73.591,-73.401,-73.1165, -72.9269,-72.7358,-72.447,-72.2529, -72.0557,-71.8608,-71.662,-71.3667, -71.1677,-70.9666,-70.7633,-70.6627, -70.6544,-70.6254,-70.5979,-70.5702, -70.5232,-70.4942,-70.4416,-70.3491, -70.3451,-70.345,-70.6449,-70.8454, -71.0424,-71.2372,-71.4314,-71.7215, -72.0115,-72.2031,-72.3921,-72.5816, -72.8652,-73.0509,-73.2341,-73.42, -73.6042,-73.7868,-73.9699,-74.1511, -74.3311,-74.5091,-74.6877,-74.859, -75.0312,-75.2052,-75.3797,-75.5551, -75.7346,-75.9051,-76.1599,-76.3298, -76.4984,-76.7456,-76.9121,-77.0816, -77.4023,-77.8064,-78.1251,-78.5191, -78.8314,-79.0612,-79.1375,-79.2349)
FOOTPRINT_POINT_LONGITUDE = (66.4765,67.5078,69.1874,70.687,71.8464 ,74.062,74.1367,74.4466,74.9064,75.3478 ,75.6629,76.0604,76.5366,76.8901, 77.0619,77.3173,77.4822,77.6402,77.7966 ,77.9489,78.0955,78.2353,78.4466, 78.6548,78.7902,78.9211,79.0523,79.1776 ,79.3009,79.4183,79.5371,79.7085, 79.8752,80.0444,80.1543,80.3111,80.4096 ,80.5083,80.6542,80.7483,80.8456, 80.9363,81.0275,81.1564,81.2416,81.3258 ,81.4117,81.4523,81.4555,80.6936,80.039 ,79.4419,78.578,78.0382,77.0717,75.7408 ,75.6877,75.6693,75.5099,75.4005, 75.2889,75.1751,75.0582,74.8799,74.6974 ,74.5711,74.4445,74.3148,74.1138, 73.9782,73.8383,73.6958,73.5503,73.4036 ,73.2532,73.0981,72.941,72.7814,72.6178 ,72.4475,72.2756,72.1022,71.9243, 71.7419,71.5571,71.3685,71.0758,70.874, 70.6689,70.354,70.1371,69.9145,69.4561, 68.8512,68.3415,67.6697,67.0986,66.6563 ,66.5044,66.4765)
ORBIT_NUMBER = 2664
ORBITAL_ECCENTRICITY = 0.571
ORBITAL_INCLINATION = 86.62
ORBITAL_SEMIMAJOR_AXIS = 8538.27
PERIAPSIS_ALTITUDE = 281.01
PERIAPSIS_ARGUMENT_ANGLE = 250.34
PERIAPSIS_TIME = 2006-02-07T15:11:26.000Z
SPACECRAFT_ORIENTATION = (0.0,-1.0,0.0)
^MEX_ORIENTATION_DESC = "MEX_ORIENTATION_DESC.TXT"
SPACECRAFT_POINTING_MODE = NADIR
^MEX_POINTING_DESC = "MEX_POINTING_DESC.TXT"
RIGHT_ASCENSION = -1e+32
DECLINATION = -1e+32
OFFSET_ANGLE = -1e+32
SPACECRAFT_SOLAR_DISTANCE = 2.3605e+08
TARGET_NAME = MARS
/* CAMERA DATA ELEMENTS */
DETECTOR_TEMPERATURE = 17.7588
FOCAL_PLANE_TEMPERATURE = 8.5833
INST_CMPRS_NAME = "DISCRETE COSINE TRANSFORMATION (DCT)"
INST_CMPRS_RATIO = 21.9776
INST_CMPRS_QUALITY = 0
INST_CMPRS_QUANTZ_TBL_ID = 0
INSTRUMENT_TEMPERATURE = 11.4379
LENS_TEMPERATURE = 8.7872
MACROPIXEL_SIZE = 4
MISSING_FRAMES = 0
PIXEL_SUBSAMPLING_FLAG = N
SIGNAL_CHAIN_ID = 2
/* RADIOMETRIC DATA ELEMENTS */
BANDWIDTH = 81.0
CENTER_FILTER_WAVELENGTH = 955.5
RADIANCE_OFFSET = 0.0
RADIANCE_SCALING_FACTOR = 0.000959188
REFLECTANCE_SCALING_FACTOR = 0.000115303
MEX:REFLECTANCE_OFFSET = 0.0
/* IMAGE OBJECT DEFINITIONS */
OBJECT = IMAGE
  INTERCHANGE_FORMAT = BINARY
  LINES = 11023
  LINE_SAMPLES = 4406
  SAMPLE_TYPE = UNSIGNED_INTEGER
  SAMPLE_BITS = 8
  BANDS = 1
  BAND_STORAGE_TYPE = BAND_SEQUENTIAL
  MAXIMUM = 255
  MEAN = 95.9398
  MINIMUM = 1
  STANDARD_DEVIATION = 47.2711
END_OBJECT = IMAGE
/* MAP OBJECT DEFINITIONS */
OBJECT = IMAGE_MAP_PROJECTION
  ^DATA_SET_MAP_PROJECTION_CATALOG= "DSMAP.CAT"
  A_AXIS_RADIUS = 3396.0
  B_AXIS_RADIUS = 3396.0
  C_AXIS_RADIUS = 3396.0
  CENTER_LATITUDE = 0.0
  CENTER_LONGITUDE = 76.0
  COORDINATE_SYSTEM_NAME = PLANETOGRAPHIC
  COORDINATE_SYSTEM_TYPE = "BODY-FIXED ROTATING"
  EASTERNMOST_LONGITUDE = 81.4555
  FIRST_STANDARD_PARALLEL = "N/A"
  LINE_FIRST_PIXEL = 1
  LINE_LAST_PIXEL = 11023
  LINE_PROJECTION_OFFSET = -83355.25
  MAP_PROJECTION_ROTATION = 0.0
  MAP_PROJECTION_TYPE = SINUSOIDAL
  MAP_RESOLUTION = 1185.42760773333
  MAP_SCALE = 0.05
  MAXIMUM_LATITUDE = -70.345
  MINIMUM_LATITUDE = -79.7008
  POSITIVE_LONGITUDE_DIRECTION = EAST
  REFERENCE_LATITUDE = "N/A"
  REFERENCE_LONGITUDE = "N/A"
  SAMPLE_FIRST_PIXEL = 1
  SAMPLE_LAST_PIXEL = 4406
  SAMPLE_PROJECTION_OFFSET = 2175.75
  SECOND_STANDARD_PARALLEL = "N/A"
  WESTERNMOST_LONGITUDE = 66.4765
END_OBJECT = IMAGE_MAP_PROJECTION
END
