PDS_VERSION_ID = PDS3
/* FILE DATA ELEMENTS */
RECORD_TYPE = UNDEFINED
/* POINTERS TO DATA OBJECTS */
^IMAGE = ("H2663_0001_GR4.TIF")
/* IDENTIFICATION DATA ELEMENTS */
DATA_SET_ID = "MEX-M-HRSC-4-REFDR-MAPPROJECT-EXT1-V4.0"
DATA_SET_NAME = "MARS EXPRESS HRSC MAP PROJECTED REFDR EXTENSION1 V4.0"
DETECTOR_ID = MEX_HRSC_GREEN
EVENT_TYPE = "MARS-REGIONAL-MAPPING-Te-Im-Fl"
INSTRUMENT_HOST_ID = MEX
INSTRUMENT_HOST_NAME = "MARS EXPRESS"
INSTRUMENT_ID = HRSC
INSTRUMENT_NAME = "HIGH RESOLUTION STEREO CAMERA"
MISSION_NAME = "MARS EXPRESS"
MISSION_PHASE_NAME = ME_Phase_2
PROCESSING_LEVEL_ID = 4
PRODUCT_CREATION_TIME = 2023-02-08T07:05:14.000Z
PRODUCT_ID = "H2663_0001_GR4.TIF"
RELEASE_ID = 0001
REVISION_ID = 0000
/* QUALITY DATA ELEMENTS */
DATA_QUALITY_ID = 1
DATA_QUALITY_DESC = "Data calculated based on original SPICE kernels"
/* TIME DATA ELEMENTS */
SPACECRAFT_CLOCK_START_COUNT = "1/0087381804.08255"
SPACECRAFT_CLOCK_STOP_COUNT = "1/0087382700.59974"
START_TIME = 2006-02-07T08:45:07.549Z
STOP_TIME = 2006-02-07T08:50:27.268Z
/* ORBITAL DATA ELEMENTS */
ASCENDING_NODE_LONGITUDE = 172.41
MAXIMUM_RESOLUTION = 0.1719
FOOTPRINT_POINT_LATITUDE = (-48.9903,-49.0259,-49.0484,-49.0628, -49.0771,-49.0881,-49.0975,-49.1052, -49.1114,-49.1159,-49.1199,-49.1197, -49.1196,-49.1075,-48.818,-48.5273, -48.0871,-47.7934,-47.5011,-47.0637, -46.7743,-46.4867,-46.1981,-45.9127, -45.6273,-45.3429,-45.0594,-44.777, -44.3545,-44.0752,-43.7964,-43.5194, -43.2429,-42.967,-42.6918,-42.4171, -41.8724,-41.3318,-40.796,-40.262, -39.7331,-39.2075,-38.6858,-38.1681, -37.654,-37.1439,-36.6373,-36.1341, -35.6347,-35.5106,-35.5066,-35.5238, -35.542,-35.5556,-35.5685,-35.5786, -35.584,-35.5889,-35.5915,-35.5925, -35.5901,-35.5854,-35.5786,-35.572, -35.571,-35.5726,-36.0609,-36.5536, -37.0502,-37.5506,-38.1822,-38.6909, -39.2038,-39.7206,-40.2415,-40.7664, -41.4278,-42.0954,-42.7703,-43.3149, -43.8632,-44.1389,-44.4156,-44.6938, -44.9728,-45.2525,-45.5334,-45.8154, -46.0984,-46.3824,-46.6676,-46.9538, -47.2412,-47.5297,-47.8192,-48.1099, -48.544,-48.8313,-48.9741,-48.9903)
FOOTPRINT_POINT_LONGITUDE = (177.924,178.714,179.293,179.714, 180.188,180.609,181.03,181.451,181.873, 182.294,183.088,183.511,183.564,183.606 ,183.626,183.642,183.67,183.689,183.706 ,183.734,183.75,183.764,183.782,183.794 ,183.809,183.823,183.837,183.851, 183.873,183.884,183.896,183.906,183.917 ,183.929,183.941,183.954,183.975, 183.994,184.01,184.03,184.046,184.062, 184.078,184.091,184.104,184.116,184.127 ,184.138,184.148,184.15,184.15,183.666, 183.115,182.625,182.076,181.527,181.161 ,180.673,180.246,179.634,178.963, 178.475,178.044,177.676,177.615,177.594 ,177.624,177.654,177.683,177.711, 177.745,177.769,177.792,177.814,177.834 ,177.853,177.873,177.89,177.907,177.918 ,177.927,177.93,177.933,177.936,177.938 ,177.939,177.939,177.94,177.939,177.937 ,177.935,177.933,177.93,177.926,177.921 ,177.916,177.907,177.899,177.895, 177.924)
ORBIT_NUMBER = 2663
ORBITAL_ECCENTRICITY = 0.571
ORBITAL_INCLINATION = 86.61
ORBITAL_SEMIMAJOR_AXIS = 8540.64
PERIAPSIS_ALTITUDE = 282.0
PERIAPSIS_ARGUMENT_ANGLE = 250.51
PERIAPSIS_TIME = 2006-02-07T08:28:12.000Z
SPACECRAFT_ORIENTATION = (0.0,-1.0,0.0)
^MEX_ORIENTATION_DESC = "MEX_ORIENTATION_DESC.TXT"
SPACECRAFT_POINTING_MODE = NADIR
^MEX_POINTING_DESC = "MEX_POINTING_DESC.TXT"
RIGHT_ASCENSION = -1e+32
DECLINATION = -1e+32
OFFSET_ANGLE = -1e+32
SPACECRAFT_SOLAR_DISTANCE = 2.36001e+08
TARGET_NAME = MARS
/* CAMERA DATA ELEMENTS */
DETECTOR_TEMPERATURE = 19.39
FOCAL_PLANE_TEMPERATURE = 8.3794
INST_CMPRS_NAME = "DISCRETE COSINE TRANSFORMATION (DCT)"
INST_CMPRS_RATIO = 10.1629
INST_CMPRS_QUALITY = 0
INST_CMPRS_QUANTZ_TBL_ID = 0
INSTRUMENT_TEMPERATURE = 13.0691
LENS_TEMPERATURE = 8.7872
MACROPIXEL_SIZE = 4
MISSING_FRAMES = 0
PIXEL_SUBSAMPLING_FLAG = N
SIGNAL_CHAIN_ID = 2
/* RADIOMETRIC DATA ELEMENTS */
BANDWIDTH = 88.0
CENTER_FILTER_WAVELENGTH = 538.0
RADIANCE_OFFSET = 0.555569
RADIANCE_SCALING_FACTOR = 0.00371661
REFLECTANCE_SCALING_FACTOR = 0.000178225
MEX:REFLECTANCE_OFFSET = 0.0266416
/* IMAGE OBJECT DEFINITIONS */
OBJECT = IMAGE
  INTERCHANGE_FORMAT = BINARY
  LINES = 4033
  LINE_SAMPLES = 1653
  SAMPLE_TYPE = UNSIGNED_INTEGER
  SAMPLE_BITS = 8
  BANDS = 1
  BAND_STORAGE_TYPE = BAND_SEQUENTIAL
  MAXIMUM = 255
  MEAN = 119.576
  MINIMUM = 1
  STANDARD_DEVIATION = 36.2033
END_OBJECT = IMAGE
/* MAP OBJECT DEFINITIONS */
OBJECT = IMAGE_MAP_PROJECTION
  ^DATA_SET_MAP_PROJECTION_CATALOG= "DSMAP.CAT"
  A_AXIS_RADIUS = 3396.0
  B_AXIS_RADIUS = 3396.0
  C_AXIS_RADIUS = 3396.0
  CENTER_LATITUDE = 0.0
  CENTER_LONGITUDE = 181.0
  COORDINATE_SYSTEM_NAME = PLANETOGRAPHIC
  COORDINATE_SYSTEM_TYPE = "BODY-FIXED ROTATING"
  EASTERNMOST_LONGITUDE = 184.15
  FIRST_STANDARD_PARALLEL = "N/A"
  LINE_FIRST_PIXEL = 1
  LINE_LAST_PIXEL = 4033
  LINE_PROJECTION_OFFSET = -10519.375
  MAP_PROJECTION_ROTATION = 0.0
  MAP_PROJECTION_TYPE = SINUSOIDAL
  MAP_RESOLUTION = 296.356901933333
  MAP_SCALE = 0.2
  MAXIMUM_LATITUDE = -35.5066
  MINIMUM_LATITUDE = -49.1199
  POSITIVE_LONGITUDE_DIRECTION = EAST
  REFERENCE_LATITUDE = "N/A"
  REFERENCE_LONGITUDE = "N/A"
  SAMPLE_FIRST_PIXEL = 1
  SAMPLE_LAST_PIXEL = 1653
  SAMPLE_PROJECTION_OFFSET = 853.375
  SECOND_STANDARD_PARALLEL = "N/A"
  WESTERNMOST_LONGITUDE = 177.594
END_OBJECT = IMAGE_MAP_PROJECTION
END
