PDS_VERSION_ID = PDS3
/* FILE DATA ELEMENTS */
RECORD_TYPE = UNDEFINED
/* POINTERS TO DATA OBJECTS */
^IMAGE = ("H2663_0000_GR4.TIF")
/* IDENTIFICATION DATA ELEMENTS */
DATA_SET_ID = "MEX-M-HRSC-4-REFDR-MAPPROJECT-EXT1-V4.0"
DATA_SET_NAME = "MARS EXPRESS HRSC MAP PROJECTED REFDR EXTENSION1 V4.0"
DETECTOR_ID = MEX_HRSC_GREEN
EVENT_TYPE = "MARS-TERMINATOR-VARIABLE-Eo-At"
INSTRUMENT_HOST_ID = MEX
INSTRUMENT_HOST_NAME = "MARS EXPRESS"
INSTRUMENT_ID = HRSC
INSTRUMENT_NAME = "HIGH RESOLUTION STEREO CAMERA"
MISSION_NAME = "MARS EXPRESS"
MISSION_PHASE_NAME = ME_Phase_2
PROCESSING_LEVEL_ID = 4
PRODUCT_CREATION_TIME = 2023-02-08T07:05:14.000Z
PRODUCT_ID = "H2663_0000_GR4.TIF"
RELEASE_ID = 0001
REVISION_ID = 0000
/* QUALITY DATA ELEMENTS */
DATA_QUALITY_ID = 1
DATA_QUALITY_DESC = "Data calculated based on original SPICE kernels"
/* TIME DATA ELEMENTS */
SPACECRAFT_CLOCK_START_COUNT = "1/0087381302.09071"
SPACECRAFT_CLOCK_STOP_COUNT = "1/0087381578.32830"
START_TIME = 2006-02-07T08:35:42.554Z
STOP_TIME = 2006-02-07T08:38:18.501Z
/* ORBITAL DATA ELEMENTS */
ASCENDING_NODE_LONGITUDE = 172.41
MAXIMUM_RESOLUTION = 0.0734
FOOTPRINT_POINT_LATITUDE = (-79.0151,-79.1632,-79.2481,-79.3145, -79.3929,-79.4862,-79.4897,-79.4823, -79.1602,-78.9158,-78.5898,-78.257, -77.9239,-77.5001,-77.1599,-76.9, -76.7267,-76.5534,-76.378,-76.2013, -76.0247,-75.8482,-75.579,-75.3992, -75.2194,-74.9461,-74.763,-74.5803, -74.3022,-74.1162,-73.9303,-73.7421, -73.5528,-73.3638,-73.0764,-72.8841, -72.5953,-72.4004,-72.2057,-72.009, -71.8115,-71.6137,-71.4134,-71.2125, -71.0125,-70.8093,-70.504,-70.4017, -70.3423,-70.2988,-70.2615,-70.2341, -70.1774,-70.1317,-70.0896,-70.0291, -70.0252,-70.0253,-70.3284,-70.5296, -70.7296,-70.9277,-71.1261,-71.4204, -71.6157,-71.8108,-72.0029,-72.1954, -72.3872,-72.5764,-72.7656,-72.9545, -73.1406,-73.3269,-73.6048,-73.7876, -73.9708,-74.154,-74.3337,-74.5133, -74.6927,-74.8713,-75.0476,-75.2241, -75.4007,-75.5739,-75.7471,-75.9202, -76.0929,-76.2624,-76.4319,-76.77, -77.1017,-77.4328,-77.7571,-78.1597, -78.5553,-78.8696,-78.9465,-79.0151)
FOOTPRINT_POINT_LONGITUDE = (164.926,166.988,168.295,169.399, 170.815,172.713,172.79,172.978,173.436, 173.765,174.181,174.582,174.958,175.408 ,175.749,175.992,176.15,176.304,176.455 ,176.604,176.748,176.888,177.096,177.23 ,177.361,177.553,177.677,177.798, 177.977,178.094,178.207,178.318,178.429 ,178.537,178.7,178.805,178.949,179.045, 179.139,179.235,179.324,179.414,179.507 ,179.596,179.677,179.762,179.887, 179.927,179.95,178.811,177.958,177.391, 176.319,175.532,174.861,173.969,173.913 ,173.894,173.738,173.631,173.521,173.41 ,173.296,173.122,173.003,172.882, 172.759,172.633,172.504,172.373,172.239 ,172.101,171.963,171.821,171.603, 171.453,171.301,171.146,170.988,170.825 ,170.656,170.49,170.317,170.14,169.959, 169.776,169.588,169.395,169.197,168.997 ,168.792,168.364,167.921,167.451, 166.965,166.314,165.633,165.049,164.901 ,164.926)
ORBIT_NUMBER = 2663
ORBITAL_ECCENTRICITY = 0.571
ORBITAL_INCLINATION = 86.61
ORBITAL_SEMIMAJOR_AXIS = 8540.64
PERIAPSIS_ALTITUDE = 282.0
PERIAPSIS_ARGUMENT_ANGLE = 250.51
PERIAPSIS_TIME = 2006-02-07T08:28:12.000Z
SPACECRAFT_ORIENTATION = (0.0,-1.0,0.0)
^MEX_ORIENTATION_DESC = "MEX_ORIENTATION_DESC.TXT"
SPACECRAFT_POINTING_MODE = NADIR
^MEX_POINTING_DESC = "MEX_POINTING_DESC.TXT"
RIGHT_ASCENSION = -1e+32
DECLINATION = -1e+32
OFFSET_ANGLE = -1e+32
SPACECRAFT_SOLAR_DISTANCE = 2.36001e+08
TARGET_NAME = MARS
/* CAMERA DATA ELEMENTS */
DETECTOR_TEMPERATURE = 18.3705
FOCAL_PLANE_TEMPERATURE = 7.9716
INST_CMPRS_NAME = "DISCRETE COSINE TRANSFORMATION (DCT)"
INST_CMPRS_RATIO = 35.0172
INST_CMPRS_QUALITY = 0
INST_CMPRS_QUANTZ_TBL_ID = 0
INSTRUMENT_TEMPERATURE = 11.0301
LENS_TEMPERATURE = 8.3794
MACROPIXEL_SIZE = 4
MISSING_FRAMES = 0
PIXEL_SUBSAMPLING_FLAG = N
SIGNAL_CHAIN_ID = 2
/* RADIOMETRIC DATA ELEMENTS */
BANDWIDTH = 88.0
CENTER_FILTER_WAVELENGTH = 538.0
RADIANCE_OFFSET = 0.0453945
RADIANCE_SCALING_FACTOR = 0.0015513
REFLECTANCE_SCALING_FACTOR = 7.43901e-05
MEX:REFLECTANCE_OFFSET = 0.00217682
/* IMAGE OBJECT DEFINITIONS */
OBJECT = IMAGE
  INTERCHANGE_FORMAT = BINARY
  LINES = 11221
  LINE_SAMPLES = 4497
  SAMPLE_TYPE = UNSIGNED_INTEGER
  SAMPLE_BITS = 8
  BANDS = 1
  BAND_STORAGE_TYPE = BAND_SEQUENTIAL
  MAXIMUM = 255
  MEAN = 108.068
  MINIMUM = 1
  STANDARD_DEVIATION = 54.2987
END_OBJECT = IMAGE
/* MAP OBJECT DEFINITIONS */
OBJECT = IMAGE_MAP_PROJECTION
  ^DATA_SET_MAP_PROJECTION_CATALOG= "DSMAP.CAT"
  A_AXIS_RADIUS = 3396.0
  B_AXIS_RADIUS = 3396.0
  C_AXIS_RADIUS = 3396.0
  CENTER_LATITUDE = 0.0
  CENTER_LONGITUDE = 174.0
  COORDINATE_SYSTEM_NAME = PLANETOGRAPHIC
  COORDINATE_SYSTEM_TYPE = "BODY-FIXED ROTATING"
  EASTERNMOST_LONGITUDE = 179.95
  FIRST_STANDARD_PARALLEL = "N/A"
  LINE_FIRST_PIXEL = 1
  LINE_LAST_PIXEL = 11221
  LINE_PROJECTION_OFFSET = -83007.75
  MAP_PROJECTION_ROTATION = 0.0
  MAP_PROJECTION_TYPE = SINUSOIDAL
  MAP_RESOLUTION = 1185.42760773333
  MAP_SCALE = 0.05
  MAXIMUM_LATITUDE = -70.0252
  MINIMUM_LATITUDE = -79.4897
  POSITIVE_LONGITUDE_DIRECTION = EAST
  REFERENCE_LATITUDE = "N/A"
  REFERENCE_LONGITUDE = "N/A"
  SAMPLE_FIRST_PIXEL = 1
  SAMPLE_LAST_PIXEL = 4497
  SAMPLE_PROJECTION_OFFSET = 2092.25
  SECOND_STANDARD_PARALLEL = "N/A"
  WESTERNMOST_LONGITUDE = 164.901
END_OBJECT = IMAGE_MAP_PROJECTION
END
