PDS_VERSION_ID = PDS3
/* FILE DATA ELEMENTS */
RECORD_TYPE = UNDEFINED
/* POINTERS TO DATA OBJECTS */
^IMAGE = ("H2653_0000_GR4.TIF")
/* IDENTIFICATION DATA ELEMENTS */
DATA_SET_ID = "MEX-M-HRSC-4-REFDR-MAPPROJECT-EXT1-V4.0"
DATA_SET_NAME = "MARS EXPRESS HRSC MAP PROJECTED REFDR EXTENSION1 V4.0"
DETECTOR_ID = MEX_HRSC_GREEN
EVENT_TYPE = "MARS-REGIONAL-MAPPING-Fl-Gl-Mw"
INSTRUMENT_HOST_ID = MEX
INSTRUMENT_HOST_NAME = "MARS EXPRESS"
INSTRUMENT_ID = HRSC
INSTRUMENT_NAME = "HIGH RESOLUTION STEREO CAMERA"
MISSION_NAME = "MARS EXPRESS"
MISSION_PHASE_NAME = ME_Phase_2
PROCESSING_LEVEL_ID = 4
PRODUCT_CREATION_TIME = 2023-02-08T07:05:14.000Z
PRODUCT_ID = "H2653_0000_GR4.TIF"
RELEASE_ID = 0001
REVISION_ID = 0000
/* QUALITY DATA ELEMENTS */
DATA_QUALITY_ID = 1
DATA_QUALITY_DESC = "Data calculated based on original SPICE kernels"
/* TIME DATA ELEMENTS */
SPACECRAFT_CLOCK_START_COUNT = "1/0087139618.09051"
SPACECRAFT_CLOCK_STOP_COUNT = "1/0087140268.54255"
START_TIME = 2006-02-04T13:28:00.052Z
STOP_TIME = 2006-02-04T13:33:48.520Z
/* ORBITAL DATA ELEMENTS */
ASCENDING_NODE_LONGITUDE = 172.61
MAXIMUM_RESOLUTION = 0.1111
FOOTPRINT_POINT_LATITUDE = (-62.8743,-62.9566,-63.0005,-63.0596, -63.1058,-63.1071,-63.0939,-62.5178, -61.9337,-61.3433,-60.7438,-60.2847, -59.6689,-59.0461,-58.4122,-57.7691, -57.4436,-57.1159,-56.7854,-56.4528, -56.1171,-55.6083,-55.0944,-54.7505, -54.226,-53.8731,-53.5185,-53.1601, -52.7992,-52.4355,-52.0684,-51.6989, -51.3246,-50.9487,-50.5693,-50.187, -49.8016,-49.4115,-49.0195,-48.6248, -48.2263,-47.8246,-47.4193,-47.0109, -46.5987,-45.9739,-45.7638,-45.6073, -45.6116,-45.6117,-45.6086,-45.5988, -45.5809,-45.5484,-45.5183,-45.5161, -45.5177,-45.9337,-46.3462,-46.755, -47.1607,-47.5628,-47.9619,-48.3571, -48.7494,-49.1387,-49.5248,-49.9077, -50.2872,-50.6637,-51.0376,-51.4079, -51.7759,-52.1417,-52.5044,-52.8633, -53.2195,-53.5729,-53.9238,-54.4473, -54.7909,-55.1329,-55.4704,-55.807, -56.1417,-56.4726,-56.8013,-57.1269, -57.4505,-57.772,-58.4081,-59.033, -59.6508,-60.2588,-60.8587,-61.4508, -62.0339,-62.6081,-62.7505,-62.8743)
FOOTPRINT_POINT_LONGITUDE = (79.4286,80.8232,81.6924,83.0957, 84.5561,84.6049,84.6773,84.789,84.8984, 84.9951,85.0902,85.1773,85.2718,85.3569 ,85.4437,85.5276,85.5705,85.6114, 85.6527,85.6917,85.7309,85.7913,85.8483 ,85.8777,85.9328,85.9686,86.0,86.0339, 86.0667,86.0986,86.1305,86.16,86.1953, 86.2257,86.2548,86.2837,86.3124,86.3438 ,86.3707,86.3962,86.4219,86.447,86.471, 86.4946,86.5177,86.5518,86.5628,86.5708 ,85.9417,85.0987,84.5729,83.7852, 82.8919,81.7888,80.9999,80.9472,80.9297 ,80.9281,80.9258,80.9214,80.916,80.91, 80.9021,80.8932,80.8829,80.8719,80.8598 ,80.8457,80.8316,80.8153,80.7979, 80.7796,80.7618,80.7445,80.7246,80.7015 ,80.6772,80.6522,80.6272,80.5921, 80.5622,80.5336,80.4988,80.4677,80.4369 ,80.4009,80.3653,80.3259,80.2868, 80.2465,80.1624,80.0712,79.9787,79.8785 ,79.7728,79.6662,79.5487,79.426,79.3947 ,79.4286)
ORBIT_NUMBER = 2653
ORBITAL_ECCENTRICITY = 0.571
ORBITAL_INCLINATION = 86.62
ORBITAL_SEMIMAJOR_AXIS = 8536.27
PERIAPSIS_ALTITUDE = 280.66
PERIAPSIS_ARGUMENT_ANGLE = 252.26
PERIAPSIS_TIME = 2006-02-04T13:16:16.000Z
SPACECRAFT_ORIENTATION = (0.0,-1.0,0.0)
^MEX_ORIENTATION_DESC = "MEX_ORIENTATION_DESC.TXT"
SPACECRAFT_POINTING_MODE = NADIR
^MEX_POINTING_DESC = "MEX_POINTING_DESC.TXT"
RIGHT_ASCENSION = -1e+32
DECLINATION = -1e+32
OFFSET_ANGLE = -1e+32
SPACECRAFT_SOLAR_DISTANCE = 2.3551e+08
TARGET_NAME = MARS
/* CAMERA DATA ELEMENTS */
DETECTOR_TEMPERATURE = 18.1666
FOCAL_PLANE_TEMPERATURE = 8.3794
INST_CMPRS_NAME = "DISCRETE COSINE TRANSFORMATION (DCT)"
INST_CMPRS_RATIO = 20.4441
INST_CMPRS_QUALITY = 0
INST_CMPRS_QUANTZ_TBL_ID = 0
INSTRUMENT_TEMPERATURE = 11.0301
LENS_TEMPERATURE = 8.7872
MACROPIXEL_SIZE = 4
MISSING_FRAMES = 0
PIXEL_SUBSAMPLING_FLAG = N
SIGNAL_CHAIN_ID = 2
/* RADIOMETRIC DATA ELEMENTS */
BANDWIDTH = 88.0
CENTER_FILTER_WAVELENGTH = 538.0
RADIANCE_OFFSET = 0.488229
RADIANCE_SCALING_FACTOR = 0.00362411
REFLECTANCE_SCALING_FACTOR = 0.000173068
MEX:REFLECTANCE_OFFSET = 0.0233152
/* IMAGE OBJECT DEFINITIONS */
OBJECT = IMAGE
  INTERCHANGE_FORMAT = BINARY
  LINES = 10407
  LINE_SAMPLES = 2526
  SAMPLE_TYPE = UNSIGNED_INTEGER
  SAMPLE_BITS = 8
  BANDS = 1
  BAND_STORAGE_TYPE = BAND_SEQUENTIAL
  MAXIMUM = 255
  MEAN = 120.406
  MINIMUM = 1
  STANDARD_DEVIATION = 54.4238
END_OBJECT = IMAGE
/* MAP OBJECT DEFINITIONS */
OBJECT = IMAGE_MAP_PROJECTION
  ^DATA_SET_MAP_PROJECTION_CATALOG= "DSMAP.CAT"
  A_AXIS_RADIUS = 3396.0
  B_AXIS_RADIUS = 3396.0
  C_AXIS_RADIUS = 3396.0
  CENTER_LATITUDE = 0.0
  CENTER_LONGITUDE = 83.0
  COORDINATE_SYSTEM_NAME = PLANETOGRAPHIC
  COORDINATE_SYSTEM_TYPE = "BODY-FIXED ROTATING"
  EASTERNMOST_LONGITUDE = 86.57080000000001
  FIRST_STANDARD_PARALLEL = "N/A"
  LINE_FIRST_PIXEL = 1
  LINE_LAST_PIXEL = 10407
  LINE_PROJECTION_OFFSET = -26994.375
  MAP_PROJECTION_ROTATION = 0.0
  MAP_PROJECTION_TYPE = SINUSOIDAL
  MAP_RESOLUTION = 592.713803866667
  MAP_SCALE = 0.1
  MAXIMUM_LATITUDE = -45.5161
  MINIMUM_LATITUDE = -63.1071
  POSITIVE_LONGITUDE_DIRECTION = EAST
  REFERENCE_LATITUDE = "N/A"
  REFERENCE_LONGITUDE = "N/A"
  SAMPLE_FIRST_PIXEL = 1
  SAMPLE_LAST_PIXEL = 2526
  SAMPLE_PROJECTION_OFFSET = 996.375
  SECOND_STANDARD_PARALLEL = "N/A"
  WESTERNMOST_LONGITUDE = 79.3947
END_OBJECT = IMAGE_MAP_PROJECTION
END
