PDS_VERSION_ID = PDS3
/* FILE DATA ELEMENTS */
RECORD_TYPE = UNDEFINED
/* POINTERS TO DATA OBJECTS */
^IMAGE = ("H2652_0000_S24.TIF")
/* IDENTIFICATION DATA ELEMENTS */
DATA_SET_ID = "MEX-M-HRSC-4-REFDR-MAPPROJECT-EXT1-V4.0"
DATA_SET_NAME = "MARS EXPRESS HRSC MAP PROJECTED REFDR EXTENSION1 V4.0"
DETECTOR_ID = MEX_HRSC_S2
EVENT_TYPE = "MARS-REGIONAL-MAPPING-Im-Fl"
INSTRUMENT_HOST_ID = MEX
INSTRUMENT_HOST_NAME = "MARS EXPRESS"
INSTRUMENT_ID = HRSC
INSTRUMENT_NAME = "HIGH RESOLUTION STEREO CAMERA"
MISSION_NAME = "MARS EXPRESS"
MISSION_PHASE_NAME = ME_Phase_2
PROCESSING_LEVEL_ID = 4
PRODUCT_CREATION_TIME = 2023-02-08T07:05:14.000Z
PRODUCT_ID = "H2652_0000_S24.TIF"
RELEASE_ID = 0001
REVISION_ID = 0000
/* QUALITY DATA ELEMENTS */
DATA_QUALITY_ID = 1
DATA_QUALITY_DESC = "Data calculated based on original SPICE kernels"
/* TIME DATA ELEMENTS */
SPACECRAFT_CLOCK_START_COUNT = "1/0087115473.07294"
SPACECRAFT_CLOCK_STOP_COUNT = "1/0087116047.00586"
START_TIME = 2006-02-04T06:47:41.846Z
STOP_TIME = 2006-02-04T06:54:10.861Z
/* ORBITAL DATA ELEMENTS */
ASCENDING_NODE_LONGITUDE = 172.64
MAXIMUM_RESOLUTION = 0.0777
FOOTPRINT_POINT_LATITUDE = (-59.6571,-59.6991,-59.7221,-59.7588, -59.7903,-59.8167,-59.8378,-59.852, -59.8529,-59.9434,-59.5416,-59.0043, -58.7333,-58.4548,-58.037,-57.7597, -57.4856,-57.0607,-56.7784,-56.3471, -56.0594,-55.771,-55.4803,-55.1866, -54.8922,-54.5954,-54.2985,-54.0026, -53.7092,-53.4174,-53.1276,-52.8359, -52.5512,-52.1323,-51.7076,-51.4267, -51.1528,-50.6109,-50.3408,-50.0668, -49.5363,-49.013,-48.4956,-47.985, -47.4862,-46.8655,-46.381,-46.2596, -46.1992,-46.2107,-46.2324,-46.2303, -46.2405,-46.254,-46.2494,-46.2455, -46.2496,-46.2526,-46.2579,-46.2534, -46.2506,-46.2501,-46.2505,-46.7221, -47.1993,-47.8135,-48.298,-48.8037, -49.3145,-49.832,-50.3567,-50.7564, -51.2944,-51.5653,-51.8386,-52.1159, -52.3939,-52.6732,-52.9555,-53.2392, -53.5255,-53.8141,-54.1036,-54.3949, -54.8311,-55.2655,-55.5597,-55.8358, -56.1203,-56.4032,-56.6839,-56.963, -57.3823,-57.7947,-58.0695,-58.3419, -59.0171,-59.5505,-59.6828,-59.6571)
FOOTPRINT_POINT_LONGITUDE = (177.843,178.749,179.294,180.262, 181.232,182.202,183.175,184.03,184.091, 184.162,184.231,184.325,184.371,184.413 ,184.477,184.521,184.567,184.629, 184.672,184.733,184.775,184.816,184.856 ,184.896,184.936,184.975,185.015, 185.053,185.09,185.127,185.163,185.197, 185.232,185.287,185.335,185.366,185.399 ,185.465,185.496,185.524,185.585, 185.644,185.701,185.756,185.813,185.879 ,185.933,185.945,185.952,185.373, 184.724,184.213,183.491,182.482,182.049 ,181.616,181.111,180.605,179.735, 179.156,178.574,178.502,178.476,178.485 ,178.493,178.496,178.503,178.501, 178.498,178.493,178.484,178.476,178.462 ,178.455,178.446,178.435,178.424, 178.413,178.4,178.386,178.371,178.355, 178.338,178.32,178.291,178.259,178.232, 178.215,178.191,178.165,178.139,178.112 ,178.067,178.022,177.99,177.957,177.87, 177.795,177.776,177.843)
ORBIT_NUMBER = 2652
ORBITAL_ECCENTRICITY = 0.571
ORBITAL_INCLINATION = 86.61
ORBITAL_SEMIMAJOR_AXIS = 8538.66
PERIAPSIS_ALTITUDE = 281.72
PERIAPSIS_ARGUMENT_ANGLE = 252.43
PERIAPSIS_TIME = 2006-02-04T06:33:02.000Z
SPACECRAFT_ORIENTATION = (0.0,-1.0,0.0)
^MEX_ORIENTATION_DESC = "MEX_ORIENTATION_DESC.TXT"
SPACECRAFT_POINTING_MODE = NADIR
^MEX_POINTING_DESC = "MEX_POINTING_DESC.TXT"
RIGHT_ASCENSION = -1e+32
DECLINATION = -1e+32
OFFSET_ANGLE = -1e+32
SPACECRAFT_SOLAR_DISTANCE = 2.35461e+08
TARGET_NAME = MARS
/* CAMERA DATA ELEMENTS */
DETECTOR_TEMPERATURE = 18.3705
FOCAL_PLANE_TEMPERATURE = 7.9716
INST_CMPRS_NAME = "DISCRETE COSINE TRANSFORMATION (DCT)"
INST_CMPRS_RATIO = 12.9237
INST_CMPRS_QUALITY = 0
INST_CMPRS_QUANTZ_TBL_ID = 0
INSTRUMENT_TEMPERATURE = 11.0301
LENS_TEMPERATURE = 8.5833
MACROPIXEL_SIZE = 2
MISSING_FRAMES = 0
PIXEL_SUBSAMPLING_FLAG = N
SIGNAL_CHAIN_ID = 1
/* RADIOMETRIC DATA ELEMENTS */
BANDWIDTH = 178.0
CENTER_FILTER_WAVELENGTH = 679.0
RADIANCE_OFFSET = 1.10539
RADIANCE_SCALING_FACTOR = 0.0138715
REFLECTANCE_SCALING_FACTOR = 0.000407285
MEX:REFLECTANCE_OFFSET = 0.0324555
/* IMAGE OBJECT DEFINITIONS */
OBJECT = IMAGE
  INTERCHANGE_FORMAT = BINARY
  LINES = 16335
  LINE_SAMPLES = 4710
  SAMPLE_TYPE = UNSIGNED_INTEGER
  SAMPLE_BITS = 8
  BANDS = 1
  BAND_STORAGE_TYPE = BAND_SEQUENTIAL
  MAXIMUM = 255
  MEAN = 83.2983
  MINIMUM = 1
  STANDARD_DEVIATION = 34.815
END_OBJECT = IMAGE
/* MAP OBJECT DEFINITIONS */
OBJECT = IMAGE_MAP_PROJECTION
  ^DATA_SET_MAP_PROJECTION_CATALOG= "DSMAP.CAT"
  A_AXIS_RADIUS = 3396.0
  B_AXIS_RADIUS = 3396.0
  C_AXIS_RADIUS = 3396.0
  CENTER_LATITUDE = 0.0
  CENTER_LONGITUDE = 182.0
  COORDINATE_SYSTEM_NAME = PLANETOGRAPHIC
  COORDINATE_SYSTEM_TYPE = "BODY-FIXED ROTATING"
  EASTERNMOST_LONGITUDE = 185.952
  FIRST_STANDARD_PARALLEL = "N/A"
  LINE_FIRST_PIXEL = 1
  LINE_LAST_PIXEL = 16335
  LINE_PROJECTION_OFFSET = -54754.75
  MAP_PROJECTION_ROTATION = 0.0
  MAP_PROJECTION_TYPE = SINUSOIDAL
  MAP_RESOLUTION = 1185.42760773333
  MAP_SCALE = 0.05
  MAXIMUM_LATITUDE = -46.1992
  MINIMUM_LATITUDE = -59.9434
  POSITIVE_LONGITUDE_DIRECTION = EAST
  REFERENCE_LATITUDE = "N/A"
  REFERENCE_LONGITUDE = "N/A"
  SAMPLE_FIRST_PIXEL = 1
  SAMPLE_LAST_PIXEL = 4710
  SAMPLE_PROJECTION_OFFSET = 2339.25
  SECOND_STANDARD_PARALLEL = "N/A"
  WESTERNMOST_LONGITUDE = 177.776
END_OBJECT = IMAGE_MAP_PROJECTION
END
