PDS_VERSION_ID = PDS3
/* FILE DATA ELEMENTS */
RECORD_TYPE = UNDEFINED
/* POINTERS TO DATA OBJECTS */
^IMAGE = ("H2647_0000_S24.TIF")
/* IDENTIFICATION DATA ELEMENTS */
DATA_SET_ID = "MEX-M-HRSC-4-REFDR-MAPPROJECT-EXT1-V4.0"
DATA_SET_NAME = "MARS EXPRESS HRSC MAP PROJECTED REFDR EXTENSION1 V4.0"
DETECTOR_ID = MEX_HRSC_S2
EVENT_TYPE = "MARS-REGIONAL-MAPPING-Im-Fl-Gl"
INSTRUMENT_HOST_ID = MEX
INSTRUMENT_HOST_NAME = "MARS EXPRESS"
INSTRUMENT_ID = HRSC
INSTRUMENT_NAME = "HIGH RESOLUTION STEREO CAMERA"
MISSION_NAME = "MARS EXPRESS"
MISSION_PHASE_NAME = ME_Phase_2
PROCESSING_LEVEL_ID = 4
PRODUCT_CREATION_TIME = 2023-02-08T07:05:14.000Z
PRODUCT_ID = "H2647_0000_S24.TIF"
RELEASE_ID = 0001
REVISION_ID = 0000
/* QUALITY DATA ELEMENTS */
DATA_QUALITY_ID = 1
DATA_QUALITY_DESC = "Data calculated based on original SPICE kernels"
/* TIME DATA ELEMENTS */
SPACECRAFT_CLOCK_START_COUNT = "1/0086994366.09027"
SPACECRAFT_CLOCK_STOP_COUNT = "1/0086994884.03001"
START_TIME = 2006-02-02T21:08:19.069Z
STOP_TIME = 2006-02-02T21:14:47.914Z
/* ORBITAL DATA ELEMENTS */
ASCENDING_NODE_LONGITUDE = 172.74
MAXIMUM_RESOLUTION = 0.0572
FOOTPRINT_POINT_LATITUDE = (-67.7666,-67.8313,-67.8779,-67.9261, -67.9668,-68.0031,-68.0403,-68.0421, -68.1469,-67.6086,-67.0575,-66.4939, -65.923,-65.0407,-64.2987,-63.7067, -63.0999,-62.7844,-62.476,-62.1705, -61.8508,-61.5353,-61.2184,-60.9037, -60.5765,-60.2573,-59.9337,-59.4388, -59.1092,-58.7688,-58.4184,-58.0714, -57.5906,-57.2584,-56.7354,-56.3896, -56.037,-55.6814,-55.3227,-54.9619, -54.5985,-54.2325,-53.8636,-53.4925, -53.1198,-52.7435,-52.1732,-51.9826, -51.9808,-51.9815,-51.9784,-51.9732, -51.9664,-51.9592,-51.9494,-51.9293, -51.8996,-51.8977,-51.8979,-52.2765, -52.6493,-53.0213,-53.3887,-53.7525, -54.1124,-54.4706,-54.823,-55.1606, -55.5249,-55.8836,-56.2318,-56.5766, -56.9163,-57.2417,-57.5915,-57.9227, -58.2353,-58.7393,-59.0815,-59.4121, -59.738,-60.217,-60.538,-60.8543, -61.1691,-61.6389,-61.9488,-62.2576, -62.8667,-63.4679,-63.9098,-64.4977, -65.0748,-65.6473,-66.2126,-66.6315, -67.0469,-67.7284,-67.8646,-67.7666)
FOOTPRINT_POINT_LONGITUDE = (307.398,308.511,309.392,310.395, 311.341,312.291,313.425,313.484,313.566 ,313.746,313.917,314.079,314.234, 314.452,314.628,314.77,314.904,314.964, 315.029,315.095,315.153,315.215,315.275 ,315.338,315.394,315.454,315.513, 315.597,315.653,315.705,315.751,315.8, 315.897,315.955,316.031,316.084,316.135 ,316.184,316.233,316.282,316.33,316.377 ,316.424,316.471,316.518,316.565, 316.633,316.656,316.656,315.682,314.515 ,313.803,313.286,312.768,312.12,311.214 ,310.047,309.982,309.959,309.942, 309.926,309.908,309.889,309.869,309.849 ,309.827,309.806,309.792,309.757, 309.723,309.692,309.661,309.63,309.607, 309.562,309.528,309.506,309.438,309.384 ,309.336,309.288,309.217,309.165, 309.113,309.058,308.972,308.913,308.851 ,308.725,308.59,308.488,308.34,308.186, 308.022,307.848,307.712,307.569,307.322 ,307.27,307.398)
ORBIT_NUMBER = 2647
ORBITAL_ECCENTRICITY = 0.571
ORBITAL_INCLINATION = 86.61
ORBITAL_SEMIMAJOR_AXIS = 8537.56
PERIAPSIS_ALTITUDE = 281.6
PERIAPSIS_ARGUMENT_ANGLE = 253.32
PERIAPSIS_TIME = 2006-02-02T20:57:02.000Z
SPACECRAFT_ORIENTATION = (0.0,-1.0,0.0)
^MEX_ORIENTATION_DESC = "MEX_ORIENTATION_DESC.TXT"
SPACECRAFT_POINTING_MODE = NADIR
^MEX_POINTING_DESC = "MEX_POINTING_DESC.TXT"
RIGHT_ASCENSION = -1e+32
DECLINATION = -1e+32
OFFSET_ANGLE = -1e+32
SPACECRAFT_SOLAR_DISTANCE = 2.35213e+08
TARGET_NAME = MARS
/* CAMERA DATA ELEMENTS */
DETECTOR_TEMPERATURE = 18.3705
FOCAL_PLANE_TEMPERATURE = 8.1755
INST_CMPRS_NAME = "DISCRETE COSINE TRANSFORMATION (DCT)"
INST_CMPRS_RATIO = 14.5811
INST_CMPRS_QUALITY = 0
INST_CMPRS_QUANTZ_TBL_ID = 0
INSTRUMENT_TEMPERATURE = 11.0301
LENS_TEMPERATURE = 8.7872
MACROPIXEL_SIZE = 2
MISSING_FRAMES = 0
PIXEL_SUBSAMPLING_FLAG = N
SIGNAL_CHAIN_ID = 1
/* RADIOMETRIC DATA ELEMENTS */
BANDWIDTH = 178.0
CENTER_FILTER_WAVELENGTH = 679.0
RADIANCE_OFFSET = 0.942213
RADIANCE_SCALING_FACTOR = 0.0114638
REFLECTANCE_SCALING_FACTOR = 0.000335882
MEX:REFLECTANCE_OFFSET = 0.0276061
/* IMAGE OBJECT DEFINITIONS */
OBJECT = IMAGE
  INTERCHANGE_FORMAT = BINARY
  LINES = 19340
  LINE_SAMPLES = 4800
  SAMPLE_TYPE = UNSIGNED_INTEGER
  SAMPLE_BITS = 8
  BANDS = 1
  BAND_STORAGE_TYPE = BAND_SEQUENTIAL
  MAXIMUM = 255
  MEAN = 92.9929
  MINIMUM = 1
  STANDARD_DEVIATION = 42.3676
END_OBJECT = IMAGE
/* MAP OBJECT DEFINITIONS */
OBJECT = IMAGE_MAP_PROJECTION
  ^DATA_SET_MAP_PROJECTION_CATALOG= "DSMAP.CAT"
  A_AXIS_RADIUS = 3396.0
  B_AXIS_RADIUS = 3396.0
  C_AXIS_RADIUS = 3396.0
  CENTER_LATITUDE = 0.0
  CENTER_LONGITUDE = 312.0
  COORDINATE_SYSTEM_NAME = PLANETOGRAPHIC
  COORDINATE_SYSTEM_TYPE = "BODY-FIXED ROTATING"
  EASTERNMOST_LONGITUDE = 316.656
  FIRST_STANDARD_PARALLEL = "N/A"
  LINE_FIRST_PIXEL = 1
  LINE_LAST_PIXEL = 19340
  LINE_PROJECTION_OFFSET = -61476.25
  MAP_PROJECTION_ROTATION = 0.0
  MAP_PROJECTION_TYPE = SINUSOIDAL
  MAP_RESOLUTION = 1185.42760773333
  MAP_SCALE = 0.05
  MAXIMUM_LATITUDE = -51.8977
  MINIMUM_LATITUDE = -68.1469
  POSITIVE_LONGITUDE_DIRECTION = EAST
  REFERENCE_LATITUDE = "N/A"
  REFERENCE_LONGITUDE = "N/A"
  SAMPLE_FIRST_PIXEL = 1
  SAMPLE_LAST_PIXEL = 4800
  SAMPLE_PROJECTION_OFFSET = 1971.25
  SECOND_STANDARD_PARALLEL = "N/A"
  WESTERNMOST_LONGITUDE = 307.27
END_OBJECT = IMAGE_MAP_PROJECTION
END
