PDS_VERSION_ID = PDS3
/* FILE DATA ELEMENTS */
RECORD_TYPE = UNDEFINED
/* POINTERS TO DATA OBJECTS */
^IMAGE = ("H2645_0000_RE4.TIF")
/* IDENTIFICATION DATA ELEMENTS */
DATA_SET_ID = "MEX-M-HRSC-4-REFDR-MAPPROJECT-EXT1-V4.0"
DATA_SET_NAME = "MARS EXPRESS HRSC MAP PROJECTED REFDR EXTENSION1 V4.0"
DETECTOR_ID = MEX_HRSC_RED
EVENT_TYPE = "MARS-REGIONAL-MAPPING-Te-Im-Fl"
INSTRUMENT_HOST_ID = MEX
INSTRUMENT_HOST_NAME = "MARS EXPRESS"
INSTRUMENT_ID = HRSC
INSTRUMENT_NAME = "HIGH RESOLUTION STEREO CAMERA"
MISSION_NAME = "MARS EXPRESS"
MISSION_PHASE_NAME = ME_Phase_2
PROCESSING_LEVEL_ID = 4
PRODUCT_CREATION_TIME = 2023-02-08T07:05:14.000Z
PRODUCT_ID = "H2645_0000_RE4.TIF"
RELEASE_ID = 0001
REVISION_ID = 0000
/* QUALITY DATA ELEMENTS */
DATA_QUALITY_ID = 1
DATA_QUALITY_DESC = "Data calculated based on original SPICE kernels"
/* TIME DATA ELEMENTS */
SPACECRAFT_CLOCK_START_COUNT = "1/0086946229.07302"
SPACECRAFT_CLOCK_STOP_COUNT = "1/0086947016.53476"
START_TIME = 2006-02-02T07:47:22.010Z
STOP_TIME = 2006-02-02T07:55:35.640Z
/* ORBITAL DATA ELEMENTS */
ASCENDING_NODE_LONGITUDE = 172.78
MAXIMUM_RESOLUTION = 0.1797
FOOTPRINT_POINT_LATITUDE = (-52.4926,-52.5141,-52.5411,-52.5666, -52.582,-52.5906,-52.5989,-52.6023, -52.6024,-52.6628,-52.3424,-52.0109, -51.6838,-51.184,-50.851,-50.5193, -50.1813,-49.8396,-49.4964,-49.1513, -48.8052,-48.2794,-47.9265,-47.3966, -47.0463,-46.6988,-46.3529,-45.8403, -45.3417,-45.0094,-44.6808,-44.3538, -44.0302,-43.7081,-43.388,-43.0701, -42.4413,-41.8289,-41.2231,-40.6265, -40.0391,-39.4607,-38.8919,-38.4749, -38.0582,-37.5059,-36.9688,-36.8354, -36.8262,-36.8532,-36.8931,-36.9114, -36.948,-36.9729,-36.9903,-37.0113, -37.0332,-37.0491,-37.0599,-37.0768, -37.105,-37.1068,-37.1089,-37.6144, -38.1372,-38.6701,-39.2137,-39.7667, -40.3292,-40.9023,-41.4852,-42.0777, -42.6792,-43.4466,-44.0694,-44.3867, -44.8671,-45.1896,-45.5162,-46.0087, -46.3394,-46.6717,-47.0089,-47.3564, -47.7025,-48.2177,-48.5657,-48.9094, -49.2552,-49.5947,-49.9311,-50.2644, -50.598,-50.928,-51.2555,-51.5813, -52.0675,-52.3877,-52.5475,-52.4926)
FOOTPRINT_POINT_LONGITUDE = (146.706,147.335,148.248,149.332, 150.187,150.815,151.729,152.762,152.82, 152.872,152.91,152.944,152.98,153.032, 153.067,153.105,153.14,153.173,153.207, 153.241,153.276,153.326,153.359,153.407 ,153.438,153.469,153.498,153.542,153.59 ,153.619,153.648,153.676,153.704, 153.731,153.758,153.784,153.835,153.888 ,153.938,153.987,154.034,154.081, 154.127,154.164,154.197,154.238,154.283 ,154.294,154.294,153.779,153.036, 152.439,151.55,150.734,150.142,149.697, 149.029,148.583,147.99,147.32,146.42, 146.345,146.32,146.366,146.407,146.446, 146.483,146.519,146.552,146.584,146.614 ,146.642,146.668,146.697,146.719, 146.728,146.74,146.748,146.754,146.764, 146.77,146.775,146.779,146.777,146.777, 146.779,146.774,146.77,146.762,146.756, 146.749,146.742,146.733,146.723,146.713 ,146.701,146.681,146.667,146.66, 146.706)
ORBIT_NUMBER = 2645
ORBITAL_ECCENTRICITY = 0.571
ORBITAL_INCLINATION = 86.61
ORBITAL_SEMIMAJOR_AXIS = 8536.73
PERIAPSIS_ALTITUDE = 282.23
PERIAPSIS_ARGUMENT_ANGLE = 253.64
PERIAPSIS_TIME = 2006-02-02T07:30:35.000Z
SPACECRAFT_ORIENTATION = (0.0,-1.0,0.0)
^MEX_ORIENTATION_DESC = "MEX_ORIENTATION_DESC.TXT"
SPACECRAFT_POINTING_MODE = NADIR
^MEX_POINTING_DESC = "MEX_POINTING_DESC.TXT"
RIGHT_ASCENSION = -1e+32
DECLINATION = -1e+32
OFFSET_ANGLE = -1e+32
SPACECRAFT_SOLAR_DISTANCE = 2.35114e+08
TARGET_NAME = MARS
/* CAMERA DATA ELEMENTS */
DETECTOR_TEMPERATURE = 18.9822
FOCAL_PLANE_TEMPERATURE = 8.3794
INST_CMPRS_NAME = "DISCRETE COSINE TRANSFORMATION (DCT)"
INST_CMPRS_RATIO = 10.4153
INST_CMPRS_QUALITY = 0
INST_CMPRS_QUANTZ_TBL_ID = 0
INSTRUMENT_TEMPERATURE = 11.234
LENS_TEMPERATURE = 8.9911
MACROPIXEL_SIZE = 4
MISSING_FRAMES = 0
PIXEL_SUBSAMPLING_FLAG = N
SIGNAL_CHAIN_ID = 2
/* RADIOMETRIC DATA ELEMENTS */
BANDWIDTH = 48.0
CENTER_FILTER_WAVELENGTH = 748.0
RADIANCE_OFFSET = 0.46292
RADIANCE_SCALING_FACTOR = 0.00441855
REFLECTANCE_SCALING_FACTOR = 0.000557402
MEX:REFLECTANCE_OFFSET = 0.0583975
/* IMAGE OBJECT DEFINITIONS */
OBJECT = IMAGE
  INTERCHANGE_FORMAT = BINARY
  LINES = 9345
  LINE_SAMPLES = 2931
  SAMPLE_TYPE = UNSIGNED_INTEGER
  SAMPLE_BITS = 8
  BANDS = 1
  BAND_STORAGE_TYPE = BAND_SEQUENTIAL
  MAXIMUM = 255
  MEAN = 92.4809
  MINIMUM = 1
  STANDARD_DEVIATION = 33.3836
END_OBJECT = IMAGE
/* MAP OBJECT DEFINITIONS */
OBJECT = IMAGE_MAP_PROJECTION
  ^DATA_SET_MAP_PROJECTION_CATALOG= "DSMAP.CAT"
  A_AXIS_RADIUS = 3396.0
  B_AXIS_RADIUS = 3396.0
  C_AXIS_RADIUS = 3396.0
  CENTER_LATITUDE = 0.0
  CENTER_LONGITUDE = 150.0
  COORDINATE_SYSTEM_NAME = PLANETOGRAPHIC
  COORDINATE_SYSTEM_TYPE = "BODY-FIXED ROTATING"
  EASTERNMOST_LONGITUDE = 154.294
  FIRST_STANDARD_PARALLEL = "N/A"
  LINE_FIRST_PIXEL = 1
  LINE_LAST_PIXEL = 9345
  LINE_PROJECTION_OFFSET = -21895.625
  MAP_PROJECTION_ROTATION = 0.0
  MAP_PROJECTION_TYPE = SINUSOIDAL
  MAP_RESOLUTION = 592.713803866667
  MAP_SCALE = 0.1
  MAXIMUM_LATITUDE = -36.8262
  MINIMUM_LATITUDE = -52.6628
  POSITIVE_LONGITUDE_DIRECTION = EAST
  REFERENCE_LATITUDE = "N/A"
  REFERENCE_LONGITUDE = "N/A"
  SAMPLE_FIRST_PIXEL = 1
  SAMPLE_LAST_PIXEL = 2931
  SAMPLE_PROJECTION_OFFSET = 1405.375
  SECOND_STANDARD_PARALLEL = "N/A"
  WESTERNMOST_LONGITUDE = 146.32
END_OBJECT = IMAGE_MAP_PROJECTION
END
