PDS_VERSION_ID = PDS3
/* FILE DATA ELEMENTS */
RECORD_TYPE = UNDEFINED
/* POINTERS TO DATA OBJECTS */
^IMAGE = ("H2644_0000_RE4.TIF")
/* IDENTIFICATION DATA ELEMENTS */
DATA_SET_ID = "MEX-M-HRSC-4-REFDR-MAPPROJECT-EXT1-V4.0"
DATA_SET_NAME = "MARS EXPRESS HRSC MAP PROJECTED REFDR EXTENSION1 V4.0"
DETECTOR_ID = MEX_HRSC_RED
EVENT_TYPE = "MARS-REGIONAL-MAPPING-Te-Im-Fl"
INSTRUMENT_HOST_ID = MEX
INSTRUMENT_HOST_NAME = "MARS EXPRESS"
INSTRUMENT_ID = HRSC
INSTRUMENT_NAME = "HIGH RESOLUTION STEREO CAMERA"
MISSION_NAME = "MARS EXPRESS"
MISSION_PHASE_NAME = ME_Phase_2
PROCESSING_LEVEL_ID = 4
PRODUCT_CREATION_TIME = 2023-02-08T07:05:14.000Z
PRODUCT_ID = "H2644_0000_RE4.TIF"
RELEASE_ID = 0001
REVISION_ID = 0000
/* QUALITY DATA ELEMENTS */
DATA_QUALITY_ID = 1
DATA_QUALITY_DESC = "Data calculated based on original SPICE kernels"
/* TIME DATA ELEMENTS */
SPACECRAFT_CLOCK_START_COUNT = "1/0086921906.09059"
SPACECRAFT_CLOCK_STOP_COUNT = "1/0086922938.64469"
START_TIME = 2006-02-02T01:01:02.857Z
STOP_TIME = 2006-02-02T01:13:59.928Z
/* ORBITAL DATA ELEMENTS */
ASCENDING_NODE_LONGITUDE = 172.81
MAXIMUM_RESOLUTION = 0.1391
FOOTPRINT_POINT_LATITUDE = (-59.9953,-60.0951,-60.1689,-60.1897, -60.1907,-60.2648,-59.7139,-59.1568, -58.5911,-58.0179,-57.4378,-56.8495, -56.271,-55.6565,-55.0472,-54.4322, -53.4927,-52.8665,-52.2482,-51.6361, -51.0311,-50.0872,-49.2063,-48.634, -48.0695,-47.5122,-46.9626,-46.4176, -45.8798,-45.3485,-44.824,-44.3059, -43.7945,-43.2894,-42.7908,-42.2984, -41.3323,-40.3906,-39.4724,-38.5773, -37.7035,-36.8499,-36.0185,-35.2037, -34.4079,-34.2119,-34.1545,-34.2305, -34.2896,-34.319,-34.3505,-34.3825, -34.4199,-34.4769,-34.5024,-34.5274, -34.5551,-34.558,-34.5601,-35.3057, -36.0721,-36.8717,-37.6766,-38.5102, -39.5826,-40.4694,-41.3864,-42.3215, -43.0476,-43.533,-44.0295,-44.5291, -45.038,-45.5548,-46.0767,-46.6061, -47.1424,-47.6861,-48.2344,-48.7914, -49.3591,-49.9299,-50.859,-51.4542, -52.055,-52.6646,-53.281,-53.9025, -54.5164,-55.1224,-55.7217,-56.3131, -56.8963,-57.4742,-58.0462,-58.6105, -59.1675,-59.717,-59.9894,-59.9953)
FOOTPRINT_POINT_LONGITUDE = (244.32,246.56,248.968,249.991,250.045, 250.108,250.202,250.293,250.381,250.467 ,250.551,250.633,250.723,250.794, 250.871,250.948,251.059,251.13,251.199, 251.263,251.326,251.423,251.504,251.559 ,251.613,251.665,251.716,251.765, 251.812,251.858,251.903,251.947,251.99, 252.031,252.073,252.113,252.192,252.268 ,252.342,252.414,252.484,252.552,252.62 ,252.684,252.747,252.763,252.767, 251.608,250.52,249.9,249.202,248.582, 247.729,246.484,245.861,245.235,244.528 ,244.45,244.423,244.498,244.571,244.636 ,244.705,244.769,244.844,244.898, 244.945,244.99,245.016,245.035,245.05, 245.065,245.077,245.086,245.095,245.1, 245.104,245.105,245.104,245.101,245.092 ,245.082,245.058,245.036,245.012, 244.983,244.949,244.911,244.869,244.823 ,244.773,244.719,244.661,244.598,244.53 ,244.458,244.383,244.303,244.262, 244.32)
ORBIT_NUMBER = 2644
ORBITAL_ECCENTRICITY = 0.571
ORBITAL_INCLINATION = 86.62
ORBITAL_SEMIMAJOR_AXIS = 8537.68
PERIAPSIS_ALTITUDE = 280.91
PERIAPSIS_ARGUMENT_ANGLE = 253.81
PERIAPSIS_TIME = 2006-02-02T00:47:23.000Z
SPACECRAFT_ORIENTATION = (0.0,-1.0,0.0)
^MEX_ORIENTATION_DESC = "MEX_ORIENTATION_DESC.TXT"
SPACECRAFT_POINTING_MODE = NADIR
^MEX_POINTING_DESC = "MEX_POINTING_DESC.TXT"
RIGHT_ASCENSION = -1e+32
DECLINATION = -1e+32
OFFSET_ANGLE = -1e+32
SPACECRAFT_SOLAR_DISTANCE = 2.35064e+08
TARGET_NAME = MARS
/* CAMERA DATA ELEMENTS */
DETECTOR_TEMPERATURE = 18.5744
FOCAL_PLANE_TEMPERATURE = 8.1755
INST_CMPRS_NAME = "DISCRETE COSINE TRANSFORMATION (DCT)"
INST_CMPRS_RATIO = 16.2702
INST_CMPRS_QUALITY = 0
INST_CMPRS_QUANTZ_TBL_ID = 0
INSTRUMENT_TEMPERATURE = 11.234
LENS_TEMPERATURE = 8.7872
MACROPIXEL_SIZE = 4
PIXEL_SUBSAMPLING_FLAG = N
SIGNAL_CHAIN_ID = 2
/* RADIOMETRIC DATA ELEMENTS */
BANDWIDTH = 48.0
CENTER_FILTER_WAVELENGTH = 748.0
RADIANCE_OFFSET = 0.309627
RADIANCE_SCALING_FACTOR = 0.00477016
REFLECTANCE_SCALING_FACTOR = 0.000601502
MEX:REFLECTANCE_OFFSET = 0.0390429
/* IMAGE OBJECT DEFINITIONS */
OBJECT = IMAGE
  INTERCHANGE_FORMAT = BINARY
  LINES = 15381
  LINE_SAMPLES = 3111
  SAMPLE_TYPE = UNSIGNED_INTEGER
  SAMPLE_BITS = 8
  BANDS = 1
  BAND_STORAGE_TYPE = BAND_SEQUENTIAL
  MAXIMUM = 241
  MEAN = 83.8638
  MINIMUM = 1
  STANDARD_DEVIATION = 37.8256
END_OBJECT = IMAGE
/* MAP OBJECT DEFINITIONS */
OBJECT = IMAGE_MAP_PROJECTION
  ^DATA_SET_MAP_PROJECTION_CATALOG= "DSMAP.CAT"
  A_AXIS_RADIUS = 3396.0
  B_AXIS_RADIUS = 3396.0
  C_AXIS_RADIUS = 3396.0
  CENTER_LATITUDE = 0.0
  CENTER_LONGITUDE = 248.0
  COORDINATE_SYSTEM_NAME = PLANETOGRAPHIC
  COORDINATE_SYSTEM_TYPE = "BODY-FIXED ROTATING"
  EASTERNMOST_LONGITUDE = 252.767
  FIRST_STANDARD_PARALLEL = "N/A"
  LINE_FIRST_PIXEL = 1
  LINE_LAST_PIXEL = 15381
  LINE_PROJECTION_OFFSET = -20360.125
  MAP_PROJECTION_ROTATION = 0.0
  MAP_PROJECTION_TYPE = SINUSOIDAL
  MAP_RESOLUTION = 592.713803866667
  MAP_SCALE = 0.1
  MAXIMUM_LATITUDE = -34.1545
  MINIMUM_LATITUDE = -60.2648
  POSITIVE_LONGITUDE_DIRECTION = EAST
  REFERENCE_LATITUDE = "N/A"
  REFERENCE_LONGITUDE = "N/A"
  SAMPLE_FIRST_PIXEL = 1
  SAMPLE_LAST_PIXEL = 3111
  SAMPLE_PROJECTION_OFFSET = 1366.375
  SECOND_STANDARD_PARALLEL = "N/A"
  WESTERNMOST_LONGITUDE = 244.262
END_OBJECT = IMAGE_MAP_PROJECTION
END
