PDS_VERSION_ID = PDS3
/* FILE DATA ELEMENTS */
RECORD_TYPE = UNDEFINED
/* POINTERS TO DATA OBJECTS */
^IMAGE = ("H2644_0000_BL4.TIF")
/* IDENTIFICATION DATA ELEMENTS */
DATA_SET_ID = "MEX-M-HRSC-4-REFDR-MAPPROJECT-EXT1-V4.0"
DATA_SET_NAME = "MARS EXPRESS HRSC MAP PROJECTED REFDR EXTENSION1 V4.0"
DETECTOR_ID = MEX_HRSC_BLUE
EVENT_TYPE = "MARS-REGIONAL-MAPPING-Te-Im-Fl"
INSTRUMENT_HOST_ID = MEX
INSTRUMENT_HOST_NAME = "MARS EXPRESS"
INSTRUMENT_ID = HRSC
INSTRUMENT_NAME = "HIGH RESOLUTION STEREO CAMERA"
MISSION_NAME = "MARS EXPRESS"
MISSION_PHASE_NAME = ME_Phase_2
PROCESSING_LEVEL_ID = 4
PRODUCT_CREATION_TIME = 2023-02-08T07:05:14.000Z
PRODUCT_ID = "H2644_0000_BL4.TIF"
RELEASE_ID = 0001
REVISION_ID = 0000
/* QUALITY DATA ELEMENTS */
DATA_QUALITY_ID = 1
DATA_QUALITY_DESC = "Data calculated based on original SPICE kernels"
/* TIME DATA ELEMENTS */
SPACECRAFT_CLOCK_START_COUNT = "1/0086921906.09059"
SPACECRAFT_CLOCK_STOP_COUNT = "1/0086922938.64469"
START_TIME = 2006-02-02T00:59:58.255Z
STOP_TIME = 2006-02-02T01:10:03.309Z
/* ORBITAL DATA ELEMENTS */
ASCENDING_NODE_LONGITUDE = 172.81
MAXIMUM_RESOLUTION = 0.1201
FOOTPRINT_POINT_LATITUDE = (-60.0786,-60.1825,-60.2414,-60.2793, -60.2803,-60.2962,-59.372,-58.4274, -57.4615,-56.971,-56.477,-55.9752, -55.4638,-54.9506,-54.4309,-53.9051, -53.3731,-52.8348,-52.2898,-51.7383, -51.1801,-50.6162,-50.0426,-49.4637, -48.8864,-48.3146,-47.7465,-47.1835, -46.625,-45.7315,-45.1842,-44.6414, -44.1028,-43.5686,-43.0388,-42.5131, -41.9918,-41.4747,-40.9618,-40.4529, -39.9483,-39.4477,-38.9512,-38.4587, -37.4849,-36.5275,-35.5851,-34.6579, -34.4281,-34.3192,-34.349,-34.3859, -34.4129,-34.4302,-34.441,-34.4473, -34.4478,-34.4476,-34.4491,-35.3504, -36.2663,-37.2001,-38.1493,-39.1143, -40.0971,-40.5945,-41.096,-41.6016, -42.1119,-42.6264,-43.1459,-43.6697, -44.1978,-44.7303,-45.2674,-45.8088, -46.4181,-46.9703,-47.525,-48.0855, -48.6497,-49.2205,-49.7926,-50.6437, -51.1991,-51.7495,-52.2946,-52.8325, -53.3644,-53.8903,-54.4102,-54.9236, -55.4319,-55.9337,-56.9209,-57.8869, -58.8321,-59.7562,-59.9847,-60.0786)
FOOTPRINT_POINT_LONGITUDE = (244.545,246.598,248.179,249.623, 249.671,249.733,249.877,250.013,250.143 ,250.206,250.274,250.334,250.384, 250.441,250.497,250.552,250.604,250.656 ,250.706,250.755,250.801,250.85,250.89, 250.933,250.975,251.018,251.057,251.095 ,251.132,251.186,251.218,251.249, 251.278,251.306,251.333,251.358,251.383 ,251.407,251.429,251.451,251.472, 251.492,251.512,251.53,251.564,251.597, 251.626,251.654,251.66,251.663,250.93, 249.823,248.781,247.862,247.064,246.203 ,245.154,245.093,245.072,245.135, 245.197,245.25,245.299,245.346,245.385, 245.403,245.42,245.437,245.45,245.463, 245.472,245.48,245.487,245.491,245.494, 245.495,245.493,245.486,245.483,245.474 ,245.465,245.448,245.433,245.393, 245.375,245.348,245.316,245.284,245.248 ,245.211,245.169,245.126,245.081, 245.032,244.927,244.81,244.682,244.543, 244.506,244.545)
ORBIT_NUMBER = 2644
ORBITAL_ECCENTRICITY = 0.571
ORBITAL_INCLINATION = 86.62
ORBITAL_SEMIMAJOR_AXIS = 8537.68
PERIAPSIS_ALTITUDE = 280.91
PERIAPSIS_ARGUMENT_ANGLE = 253.81
PERIAPSIS_TIME = 2006-02-02T00:47:23.000Z
SPACECRAFT_ORIENTATION = (0.0,-1.0,0.0)
^MEX_ORIENTATION_DESC = "MEX_ORIENTATION_DESC.TXT"
SPACECRAFT_POINTING_MODE = NADIR
^MEX_POINTING_DESC = "MEX_POINTING_DESC.TXT"
RIGHT_ASCENSION = -1e+32
DECLINATION = -1e+32
OFFSET_ANGLE = -1e+32
SPACECRAFT_SOLAR_DISTANCE = 2.35064e+08
TARGET_NAME = MARS
/* CAMERA DATA ELEMENTS */
DETECTOR_TEMPERATURE = 18.1666
FOCAL_PLANE_TEMPERATURE = 8.1755
INST_CMPRS_NAME = "DISCRETE COSINE TRANSFORMATION (DCT)"
INST_CMPRS_RATIO = 15.5975
INST_CMPRS_QUALITY = 0
INST_CMPRS_QUANTZ_TBL_ID = 0
INSTRUMENT_TEMPERATURE = 11.234
LENS_TEMPERATURE = 8.7872
MACROPIXEL_SIZE = 4
PIXEL_SUBSAMPLING_FLAG = N
SIGNAL_CHAIN_ID = 2
/* RADIOMETRIC DATA ELEMENTS */
BANDWIDTH = 76.0
CENTER_FILTER_WAVELENGTH = 444.0
RADIANCE_OFFSET = 0.280366
RADIANCE_SCALING_FACTOR = 0.0020298
REFLECTANCE_SCALING_FACTOR = 0.000115236
MEX:REFLECTANCE_OFFSET = 0.0159169
/* IMAGE OBJECT DEFINITIONS */
OBJECT = IMAGE
  INTERCHANGE_FORMAT = BINARY
  LINES = 15381
  LINE_SAMPLES = 3111
  SAMPLE_TYPE = UNSIGNED_INTEGER
  SAMPLE_BITS = 8
  BANDS = 1
  BAND_STORAGE_TYPE = BAND_SEQUENTIAL
  MAXIMUM = 255
  MEAN = 107.925
  MINIMUM = 1
  STANDARD_DEVIATION = 32.8486
END_OBJECT = IMAGE
/* MAP OBJECT DEFINITIONS */
OBJECT = IMAGE_MAP_PROJECTION
  ^DATA_SET_MAP_PROJECTION_CATALOG= "DSMAP.CAT"
  A_AXIS_RADIUS = 3396.0
  B_AXIS_RADIUS = 3396.0
  C_AXIS_RADIUS = 3396.0
  CENTER_LATITUDE = 0.0
  CENTER_LONGITUDE = 248.0
  COORDINATE_SYSTEM_NAME = PLANETOGRAPHIC
  COORDINATE_SYSTEM_TYPE = "BODY-FIXED ROTATING"
  EASTERNMOST_LONGITUDE = 251.663
  FIRST_STANDARD_PARALLEL = "N/A"
  LINE_FIRST_PIXEL = 1
  LINE_LAST_PIXEL = 15381
  LINE_PROJECTION_OFFSET = -20360.125
  MAP_PROJECTION_ROTATION = 0.0
  MAP_PROJECTION_TYPE = SINUSOIDAL
  MAP_RESOLUTION = 592.713803866667
  MAP_SCALE = 0.1
  MAXIMUM_LATITUDE = -34.3192
  MINIMUM_LATITUDE = -60.2962
  POSITIVE_LONGITUDE_DIRECTION = EAST
  REFERENCE_LATITUDE = "N/A"
  REFERENCE_LONGITUDE = "N/A"
  SAMPLE_FIRST_PIXEL = 1
  SAMPLE_LAST_PIXEL = 3111
  SAMPLE_PROJECTION_OFFSET = 1366.375
  SECOND_STANDARD_PARALLEL = "N/A"
  WESTERNMOST_LONGITUDE = 244.506
END_OBJECT = IMAGE_MAP_PROJECTION
END
